Workbook
Name Asiakkuudentila: #REF!
Name Asiakkuudentila: #REF!
Name Asumismuoto: #REF!
Name Asumismuoto: #REF!
Name Etsivä: #REF!
Name Etsivä: #REF!
Name ewq: #REF!
Name ewq: #REF!
Name Koulutustausta: #REF!
Name Koulutustausta: #REF!
Name Piiriin: #REF!
Name Piiriin: #REF!
Name Päättyminen: #REF!
Name Päättyminen: #REF!
Name Tila: #REF!
Name Tila: #REF!
Name Toimeentulo: #REF!
Name Toimeentulo: #REF!
Name Toiminta: #REF!
Name Toiminta: #REF!
Name xAsiakkuuden_tila: #REF!
Name xAsiakkuuden_tila: #REF!
Name xATK_taso: #REF!
Name xATK_taso: #REF!
Name xccxcx: #REF!
Name xccxcx: #REF!
Name xcxcx: #REF!
Name xcxcx: #REF!
Name xEnsisijainen_kesto: #REF!
Name xEnsisijainen_kesto: #REF!
Name xKirjallinen_suomenkieli: #REF!
Name xKirjallinen_suomenkieli: #REF!
Name xkoulutustausta_NYT: #REF!
Name xkoulutustausta_NYT: #REF!
Name xkoulutustilanne_NYT: #REF!
Name xkoulutustilanne_NYT: #REF!
Name xPääasiallinen_asumismuoto_ALKU: #REF!
Name xPääasiallinen_asumismuoto_ALKU: #REF!
Name xPääasiallinen_toimeentulo_ALKU: #REF!
Name xPääasiallinen_toimeentulo_ALKU: #REF!
Name xPääasiallinen_toiminta_ALKU: #REF!
Name xPääasiallinen_toiminta_ALKU: #REF!
Name xsaapuminen: #REF!
Name xsaapuminen: #REF!
Name xSijoittuminen: #REF!
Name xSijoittuminen: #REF!
Name xSiviilisääty: #REF!
Name xSiviilisääty: #REF!
Name xSuullinen_suomenkieli: #REF!
Name xSuullinen_suomenkieli: #REF!
Name xvuoden_jälkeen: #REF!
Name xvuoden_jälkeen: #REF!
Name xäidinkieli: #REF!
Name xäidinkieli: #REF!
Name Äidinkieli: #REF!
Name Äidinkieli: #REF!

Sheet Parkki
A1: =F1 -> Hakuarvot: | F1: Hakuarvot: | S1: Piilota | T1: Piilota | U1: Piilota | V1: Piilota | W1: Piilota | X1: Piilota | Y1: =IF(F5="","*",INDEX(AE5:AE61,MATCH(F5,AD5:AD61,0))) -> * | Z1: Piilota | AA1: Piilota | AB1: Piilota | AC1: Piilota | AD1: Piilota | AE1: Piilota | AF1: Piilota | AG1: Piilota | AH1: Piilota | AI1: Piilota | AJ1: Piilota | AK1: Piilota
A2: =F2 -> 46023 | F2: =Asiakastilastot!$A$2 -> 46023 | G2: > Hakuaika, aloitus | V2: perustiedoista | X2: Kaikki | Y2: =IF(F6=X3,"OK","*") -> * | Z2: KAIKKI: | AA2: hakuarvo | AB2: ComboBox_EtKun | AC2: hakuarvo | AD2: ComboBox_TyOma
A3: =F3 -> 46387 | F3: =Asiakastilastot!$A$3 -> 46387 | G3: > Hakuaika, päätös | V3: jaksoista | X3: Uudet | Z3: UUDET: | AA3: montako | AB3: =INDEX(Data_Omakoodi!K:K,MATCH($AB$2,Data_Omakoodi!$I:$I,0)) -> #N/A | AC3: montako | AD3: =INDEX(Data_Omakoodi!K:K,MATCH($AD$2,Data_Omakoodi!$I:$I,0)) -> #N/A | AG3: yksiköt | AJ3: kunnat
A4: =F4 -> Kaikki kunnat | F4: Kaikki kunnat | G4: > Kunta | I4: perustiedoista | J4: > Hae valittu kunta perustiedoista tai jaksoista | X4: Uudet (ei vanhoja jaksoja) | Y4: =IF(F7="","*",IF(F7=X2,"*",IF(F7=X3,X9,"*"))) -> * | AA4: 1. rivi | AB4: =IFERROR(MATCH($AB$2,Data_Omakoodi!$I:$I,0),"") | AC4: 1. rivi | AD4: =IFERROR(MATCH($AB$2,Data_Omakoodi!$I:$I,0),"") | AH4: hae seuraava rivi | AK4: hae seuraava rivi
A5: =F5 -> Kaikki yksiköt | F5: Kaikki yksiköt | G5: > Yksikkö | I5: perustiedoista | J5: > Hae valittu yksikkö perustiedoista tai jaksoista | U5: =IF(W5="*","*","OK") -> * | V5: jaksoista kunta: | W5: =IF($I$4="","*",IF($I$4=$V$2,"*",$Y$6)) -> * | Y5: =IF(F6="","*",IF(F6=X2,"*",IF(F6=X4,X9,"*"))) -> * | AA5: * | AB5: Kaikki kunnat | AC5: * | AD5: Kaikki yksiköt | AE5: * | AG5: =TEXT(AD5,"@") -> Kaikki yksiköt | AH5: =IF(AG5<>"",ROW(),"") -> 5 | AJ5: =TEXT(AB5,"@") -> Kaikki kunnat | AK5: =IF(AJ5<>"",ROW(),"") -> 5
A6: =F6 -> Kaikki | F6: Kaikki | G6: > Asiakkuus | U6: =IF(W6="*","*","OK") -> * | V6: jaksoista yksikkö: | W6: =IF($I$5="","*",IF($I$5=$V$2,"*",$Y$1)) -> * | Y6: =IF(F4="","*",INDEX(AA5:AA61,MATCH(F4,AB5:AB61,0))) -> * | AA6: tyhja | AB6: Ei kuntaluokkaa | AC6: tyhja | AD6: Ei yksiköitä | AE6: tyhja | AG6: =TEXT(AD6,"@") -> Ei yksiköitä | AH6: =IF(AG6<>"",ROW(),"") -> 6 | AJ6: =TEXT(AB6,"@") -> Ei kuntaluokkaa | AK6: =IF(AJ6<>"",ROW(),"") -> 6
A7: =F7 -> Kaikki | F7: Kaikki | G7: > Toimenpiteet | V7: kaikki yksikkö: | W7: =IF($I$5=V3,"*",$Y$1) -> * | X7: OptionButton_EtNainen | Y7: OptionButton_EtMies | AA7: muut | AB7: Muut kunnat | AC7: muut | AD7: Muut yksiköt | AE7: muut | AG7: =TEXT(AD7,"@") -> Muut yksiköt | AH7: =IF(AG7<>"",ROW(),"") -> 7 | AJ7: =TEXT(AB7,"@") -> Muut kunnat | AK7: =IF(AJ7<>"",ROW(),"") -> 7
A8: 46245 | V8: kaikki kunnat: | W8: =IF($I$4=V3,"*",$Y$6) -> * | X8: nuori | AA8: ComboBox_EtKuntakoodi_00000001 | AB8: =IFERROR(INDEX(Data_Omakoodi!E:E,MATCH(AA8,Data_Omakoodi!A:A,0)),"") | AC8: ComboBox_TyHlo_yksikko_00000001 | AD8: =IFERROR(INDEX(Data_Omakoodi!E:E,MATCH(AC8,Data_Omakoodi!A:A,0)),"") | AE8: ComboBox_TyHlo_yksikko_00000001 | AF8: ComboBox_yksikko_00000001 | AG8: =TEXT(AD8,"@") | AH8: =IF(AG8<>"",ROW(),"") | AJ8: =TEXT(AB8,"@") | AK8: =IF(AJ8<>"",ROW(),"")
B9: =IF(Henkilöstö!G6="Valitsematta","Tarkista Henkilöstö-lehden tiedot aina tammikuussa",IF(LEFT(Henkilöstö!G6,5)="Kyllä","HIENOA! Nyt myös Henkilöstö-lehden tiedot on tarkistettu","Henkilöstölehden tiedot lähetetään eteenpäin tarkistamatta, kirjoita lisäselvitys saatteeksi")) -> Tarkista Henkilöstö-lehden tiedot aina tammikuussa | M9: ="Yksiköt "&X10&F4 -> Yksiköt - 01.01.2026-31.12.2026 Kaikki kunnat | X9: OK | AA9: ComboBox_EtKuntakoodi_00000002 | AB9: =IFERROR(INDEX(Data_Omakoodi!E:E,MATCH(AA9,Data_Omakoodi!A:A,0)),"") | AC9: ComboBox_TyHlo_yksikko_00000002 | AD9: =IFERROR(INDEX(Data_Omakoodi!E:E,MATCH(AC9,Data_Omakoodi!A:A,0)),"") | AE9: ComboBox_TyHlo_yksikko_00000002 | AF9: ComboBox_yksikko_00000002 | AG9: =TEXT(AD9,"@") | AH9: =IF(AG9<>"",ROW(),"") | AJ9: =TEXT(AB9,"@") | AK9: =IF(AJ9<>"",ROW(),"")
M10: Organisaation yksiköt | N10: Kaikki henkilöt | O10: Henkilöt / yksikkö | P10: Sopimus-jaksot /yksikkö | W10: =" - "&TEXT($F$2-365,$X$11)&"-"&TEXT($F$2-1,$X$11)&" " -> - 01.01.2025-31.12.2025 | X10: =" - "&TEXT($F$2,$X$11)&"-"&TEXT($F$3,$X$11)&" " -> - 01.01.2026-31.12.2026 | AA10: ComboBox_EtKuntakoodi_00000003 | AB10: =IFERROR(INDEX(Data_Omakoodi!E:E,MATCH(AA10,Data_Omakoodi!A:A,0)),"") | AC10: ComboBox_TyHlo_yksikko_00000003 | AD10: =IFERROR(INDEX(Data_Omakoodi!E:E,MATCH(AC10,Data_Omakoodi!A:A,0)),"") | AE10: ComboBox_TyHlo_yksikko_00000003 | AF10: ComboBox_yksikko_00000003 | AG10: =TEXT(AD10,"@") | AH10: =IF(AG10<>"",ROW(),"") | AJ10: =TEXT(AB10,"@") | AK10: =IF(AJ10<>"",ROW(),"")
A11: =COUNTIFS(AS!U:U,"Y",AS!AB:AB,"OK",AS!$AW:$AW,$W$8,AS!$X:$X,Parkki!$Y$5,AS!$K:$K,$W$7,AS!$AV:$AV,Parkki!$Y$2,AS!$CY:$CY,$U$6,AS!$CZ:$CZ,$U$5) -> 0 | B11: =IF(A11>0,"HUOM! Laskennassa on etsivien ja pajojen yhteisiä asiakkaita yhteensä: "&A11,"") | X11: pp.kk.vvvv | Y11: Kuva: | AA11: ComboBox_EtKuntakoodi_00000004 | AB11: =IFERROR(INDEX(Data_Omakoodi!E:E,MATCH(AA11,Data_Omakoodi!A:A,0)),"") | AC11: ComboBox_TyHlo_yksikko_00000004 | AD11: =IFERROR(INDEX(Data_Omakoodi!E:E,MATCH(AC11,Data_Omakoodi!A:A,0)),"") | AE11: ComboBox_TyHlo_yksikko_00000004 | AF11: ComboBox_yksikko_00000004 | AG11: =TEXT(AD11,"@") | AH11: =IF(AG11<>"",ROW(),"") | AJ11: =TEXT(AB11,"@") | AK11: =IF(AJ11<>"",ROW(),"")
A12: =COUNTIFS(AS!J:J,AS!$G$1,AS!AB:AB,"OK",AS!$AW:$AW,$W$8,AS!$X:$X,Parkki!$Y$5,AS!$K:$K,$W$7,AS!$AV:$AV,Parkki!$Y$2,AS!$CY:$CY,$U$6,AS!$CZ:$CZ,$U$5) -> 0 | B12: =IF(A12>0,IF(A12=1,"Tiedoksi: Muunsukupuolisia on "&A12&" henkilö. Tilastoissa hänen tietoja ei eritellä.","Tiedoksi: Muunsukupuolisia on yhteensä: "&A12&" henkilöä. Tilastoissa heidän tietoja ei eritellä."),"") | X12: ="("&F4&" - tiedot "&I4&", "&F5&" - tiedot "&I5&", "&F6&" asiakkuudet"&")" -> (Kaikki kunnat - tiedot perustiedoista, Kaikki yksiköt - tiedot perustiedoista, Kaikki asiakkuudet) | AA12: ComboBox_EtKuntakoodi_00000005 | AB12: =IFERROR(INDEX(Data_Omakoodi!E:E,MATCH(AA12,Data_Omakoodi!A:A,0)),"") | AC12: ComboBox_TyHlo_yksikko_00000005 | AD12: =IFERROR(INDEX(Data_Omakoodi!E:E,MATCH(AC12,Data_Omakoodi!A:A,0)),"") | AE12: ComboBox_TyHlo_yksikko_00000005 | AF12: ComboBox_yksikko_00000005 | AG12: =TEXT(AD12,"@") | AH12: =IF(AG12<>"",ROW(),"") | AJ12: =TEXT(AB12,"@") | AK12: =IF(AJ12<>"",ROW(),"")
B13: ="Työpajalla olleiden valmentautujien ikä ja sukupuoli "&X10&X12 -> Työpajalla olleiden valmentautujien ikä ja sukupuoli - 01.01.2026-31.12.2026 (Kaikki kunnat - tiedot perustiedoista, Kaikki yksiköt - tiedot perustiedoista, Kaikki asiakkuudet) | M13: =IFERROR(INDEX($AG$5:$AG$37,MATCH(SMALL($AH$5:$AH$37,T13),$AH$5:$AH$37,0)),"") -> Kaikki yksiköt | N13: =SUMIFS(AS!$W:$W,AS!$AB:$AB,"OK",AS!$AW:$AW,Parkki!$Y$6,AS!$X:$X,Parkki!$Y$5,AS!$AV:$AV,Parkki!$Y$2,AS!$K:$K,Parkki!$U13) -> 0 | O13: =SUMIFS(JA!$Z:$Z,JA!$AE:$AE,"OK",JA!$AX:$AX,Parkki!$Y$6,JA!$BE:$BE,Parkki!$Y$5,JA!$AI:$AI,Parkki!$Y$2,JA!$Y:$Y,$U13,JA!$CW:$CW,1,JA!$AJ:$AJ,Parkki!$Y$2) -> 0 | P13: =SUMIFS(JA!$Z:$Z,JA!$AE:$AE,"OK",JA!$AX:$AX,Parkki!$Y$6,JA!$BE:$BE,Parkki!$Y$5,JA!$AI:$AI,Parkki!$Y$2,JA!$Y:$Y,$U13,JA!$AJ:$AJ,Parkki!$Y$2) -> 0 | S13: =IF(M13="",0,1) -> 1 | T13: 1 | U13: =INDEX($AC$5:$AC$37,MATCH(M13,$AD$5:$AD$37,0)) -> * | AA13: ComboBox_EtKuntakoodi_00000006 | AB13: =IFERROR(INDEX(Data_Omakoodi!E:E,MATCH(AA13,Data_Omakoodi!A:A,0)),"") | AC13: ComboBox_TyHlo_yksikko_00000006 | AD13: =IFERROR(INDEX(Data_Omakoodi!E:E,MATCH(AC13,Data_Omakoodi!A:A,0)),"") | AE13: ComboBox_TyHlo_yksikko_00000006 | AF13: ComboBox_yksikko_00000006 | AG13: =TEXT(AD13,"@") | AH13: =IF(AG13<>"",ROW(),"") | AJ13: =TEXT(AB13,"@") | AK13: =IF(AJ13<>"",ROW(),"")
M14: =IFERROR(INDEX($AG$5:$AG$37,MATCH(SMALL($AH$5:$AH$37,T14),$AH$5:$AH$37,0)),"") -> Ei yksiköitä | N14: =SUMIFS(AS!$W:$W,AS!$AB:$AB,"OK",AS!$AW:$AW,Parkki!$Y$6,AS!$X:$X,Parkki!$Y$5,AS!$AV:$AV,Parkki!$Y$2,AS!$K:$K,Parkki!$U14) -> 0 | O14: =SUMIFS(JA!$Z:$Z,JA!$AE:$AE,"OK",JA!$X:$X,Parkki!$Y$6,JA!$BE:$BE,Parkki!$Y$5,JA!$AI:$AI,Parkki!$Y$2,JA!$Y:$Y,$U14,JA!$CW:$CW,1,JA!$AJ:$AJ,Parkki!$Y$2) -> 0 | P14: =SUMIFS(JA!$Z:$Z,JA!$AE:$AE,"OK",JA!$X:$X,Parkki!$Y$6,JA!$BE:$BE,Parkki!$Y$5,JA!$AI:$AI,Parkki!$Y$2,JA!$Y:$Y,$U14,JA!$AJ:$AJ,Parkki!$Y$2) -> 0 | S14: =IF(M14="",0,1) -> 1 | T14: 2 | U14: =INDEX($AC$5:$AC$37,MATCH(M14,$AD$5:$AD$37,0)) -> tyhja | X14: OptionButton_EtMies | AA14: ComboBox_EtKuntakoodi_00000007 | AB14: =IFERROR(INDEX(Data_Omakoodi!E:E,MATCH(AA14,Data_Omakoodi!A:A,0)),"") | AC14: ComboBox_TyHlo_yksikko_00000007 | AD14: =IFERROR(INDEX(Data_Omakoodi!E:E,MATCH(AC14,Data_Omakoodi!A:A,0)),"") | AE14: ComboBox_TyHlo_yksikko_00000007 | AF14: ComboBox_yksikko_00000007 | AG14: =TEXT(AD14,"@") | AH14: =IF(AG14<>"",ROW(),"") | AJ14: =TEXT(AB14,"@") | AK14: =IF(AJ14<>"",ROW(),"")
C15: kaikki | D15: joista naisia | M15: =IFERROR(INDEX($AG$5:$AG$37,MATCH(SMALL($AH$5:$AH$37,T15),$AH$5:$AH$37,0)),"") -> Muut yksiköt | N15: =SUMIFS(AS!$W:$W,AS!$AB:$AB,"OK",AS!$AW:$AW,Parkki!$Y$6,AS!$X:$X,Parkki!$Y$5,AS!$AV:$AV,Parkki!$Y$2,AS!$K:$K,Parkki!$U15) -> 0 | O15: =SUMIFS(JA!$Z:$Z,JA!$AE:$AE,"OK",JA!$X:$X,Parkki!$Y$6,JA!$BE:$BE,Parkki!$Y$5,JA!$AI:$AI,Parkki!$Y$2,JA!$Y:$Y,$U15,JA!$CW:$CW,1,JA!$AJ:$AJ,Parkki!$Y$2) -> 0 | P15: =SUMIFS(JA!$Z:$Z,JA!$AE:$AE,"OK",JA!$X:$X,Parkki!$Y$6,JA!$BE:$BE,Parkki!$Y$5,JA!$AI:$AI,Parkki!$Y$2,JA!$Y:$Y,$U15,JA!$AJ:$AJ,Parkki!$Y$2) -> 0 | S15: =IF(M15="",0,1) -> 1 | T15: 3 | U15: =INDEX($AC$5:$AC$37,MATCH(M15,$AD$5:$AD$37,0)) -> muut | V15: summa | W15: AS!$W:$W | X15: OptionButton_EtNainen | AA15: ComboBox_EtKuntakoodi_00000008 | AB15: =IFERROR(INDEX(Data_Omakoodi!E:E,MATCH(AA15,Data_Omakoodi!A:A,0)),"") | AC15: ComboBox_TyHlo_yksikko_00000008 | AD15: =IFERROR(INDEX(Data_Omakoodi!E:E,MATCH(AC15,Data_Omakoodi!A:A,0)),"") | AE15: ComboBox_TyHlo_yksikko_00000008 | AF15: ComboBox_yksikko_00000008 | AG15: =TEXT(AD15,"@") | AH15: =IF(AG15<>"",ROW(),"") | AJ15: =TEXT(AB15,"@") | AK15: =IF(AJ15<>"",ROW(),"")
B16: Alle 17-vuotiaita | C16: =SUMIFS(AS!$W:$W,AS!$AB:$AB,"OK",AS!$AG:$AG,Parkki!X16,AS!$AW:$AW,$W$8,AS!$X:$X,Parkki!$Y$5,AS!$K:$K,$W$7,AS!$AV:$AV,Parkki!$Y$2,AS!$CY:$CY,$U$6,AS!$CZ:$CZ,$U$5) -> 0 | D16: =SUMIFS(AS!$W:$W,AS!$AB:$AB,"OK",AS!$AG:$AG,Parkki!$X16,AS!$F:$F,Parkki!$X$15,AS!$AW:$AW,$W$8,AS!$X:$X,Parkki!$Y$5,AS!$K:$K,$W$7,AS!$AV:$AV,Parkki!$Y$2,AS!$CY:$CY,$U$6,AS!$CZ:$CZ,$U$5) -> 0 | M16: =IFERROR(INDEX($AG$5:$AG$37,MATCH(SMALL($AH$5:$AH$37,T16),$AH$5:$AH$37,0)),"") | N16: =SUMIFS(AS!$W:$W,AS!$AB:$AB,"OK",AS!$AW:$AW,Parkki!$Y$6,AS!$X:$X,Parkki!$Y$5,AS!$AV:$AV,Parkki!$Y$2,AS!$K:$K,Parkki!$U16) -> 0 | O16: =SUMIFS(JA!$Z:$Z,JA!$AE:$AE,"OK",JA!$X:$X,Parkki!$Y$6,JA!$BE:$BE,Parkki!$Y$5,JA!$AI:$AI,Parkki!$Y$2,JA!$Y:$Y,$U16,JA!$CW:$CW,1,JA!$AJ:$AJ,Parkki!$Y$2) -> 0 | P16: =SUMIFS(JA!$Z:$Z,JA!$AE:$AE,"OK",JA!$X:$X,Parkki!$Y$6,JA!$BE:$BE,Parkki!$Y$5,JA!$AI:$AI,Parkki!$Y$2,JA!$Y:$Y,$U16,JA!$AJ:$AJ,Parkki!$Y$2) -> 0 | S16: =IF(M16="",0,1) -> 0 | T16: 4 | U16: =INDEX($AC$5:$AC$37,MATCH(M16,$AD$5:$AD$37,0)) -> ComboBox_TyHlo_yksikko_00000001 | V16: osuuko henkilö > jaksoilta haku | W16: ;AS!$AB:$AB;"OK" | X16: alle 17 | AA16: ComboBox_EtKuntakoodi_00000009 | AB16: =IFERROR(INDEX(Data_Omakoodi!E:E,MATCH(AA16,Data_Omakoodi!A:A,0)),"") | AC16: ComboBox_TyHlo_yksikko_00000009 | AD16: =IFERROR(INDEX(Data_Omakoodi!E:E,MATCH(AC16,Data_Omakoodi!A:A,0)),"") | AE16: ComboBox_TyHlo_yksikko_00000009 | AF16: ComboBox_yksikko_00000009 | AG16: =TEXT(AD16,"@") | AH16: =IF(AG16<>"",ROW(),"") | AJ16: =TEXT(AB16,"@") | AK16: =IF(AJ16<>"",ROW(),"")
B17: 17-20-vuotiaita | C17: =SUMIFS(AS!$W:$W,AS!$AB:$AB,"OK",AS!$AG:$AG,Parkki!X17,AS!$AW:$AW,$W$8,AS!$X:$X,Parkki!$Y$5,AS!$K:$K,$W$7,AS!$AV:$AV,Parkki!$Y$2,AS!$CY:$CY,$U$6,AS!$CZ:$CZ,$U$5) -> 0 | D17: =SUMIFS(AS!$W:$W,AS!$AB:$AB,"OK",AS!$AG:$AG,Parkki!$X17,AS!$F:$F,Parkki!$X$15,AS!$AW:$AW,$W$8,AS!$X:$X,Parkki!$Y$5,AS!$K:$K,$W$7,AS!$AV:$AV,Parkki!$Y$2,AS!$CY:$CY,$U$6,AS!$CZ:$CZ,$U$5) -> 0 | M17: =IFERROR(INDEX($AG$5:$AG$37,MATCH(SMALL($AH$5:$AH$37,T17),$AH$5:$AH$37,0)),"") | N17: =SUMIFS(AS!$W:$W,AS!$AB:$AB,"OK",AS!$AW:$AW,Parkki!$Y$6,AS!$X:$X,Parkki!$Y$5,AS!$AV:$AV,Parkki!$Y$2,AS!$K:$K,Parkki!$U17) -> 0 | O17: =SUMIFS(JA!$Z:$Z,JA!$AE:$AE,"OK",JA!$X:$X,Parkki!$Y$6,JA!$BE:$BE,Parkki!$Y$5,JA!$AI:$AI,Parkki!$Y$2,JA!$Y:$Y,$U17,JA!$CW:$CW,1,JA!$AJ:$AJ,Parkki!$Y$2) -> 0 | P17: =SUMIFS(JA!$Z:$Z,JA!$AE:$AE,"OK",JA!$X:$X,Parkki!$Y$6,JA!$BE:$BE,Parkki!$Y$5,JA!$AI:$AI,Parkki!$Y$2,JA!$Y:$Y,$U17,JA!$AJ:$AJ,Parkki!$Y$2) -> 0 | S17: =IF(M17="",0,1) -> 0 | T17: 5 | U17: =INDEX($AC$5:$AC$37,MATCH(M17,$AD$5:$AD$37,0)) -> ComboBox_TyHlo_yksikko_00000001 | V17: kunta | W17: ;AS!$AW:$AW;Parkki!$Y$6 | X17: 17-20 | AA17: ComboBox_EtKuntakoodi_00000010 | AB17: =IFERROR(INDEX(Data_Omakoodi!E:E,MATCH(AA17,Data_Omakoodi!A:A,0)),"") | AC17: ComboBox_TyHlo_yksikko_00000010 | AD17: =IFERROR(INDEX(Data_Omakoodi!E:E,MATCH(AC17,Data_Omakoodi!A:A,0)),"") | AE17: ComboBox_TyHlo_yksikko_00000010 | AF17: ComboBox_yksikko_00000010 | AG17: =TEXT(AD17,"@") | AH17: =IF(AG17<>"",ROW(),"") | AJ17: =TEXT(AB17,"@") | AK17: =IF(AJ17<>"",ROW(),"")
B18: 21-24-vuotiaita | C18: =SUMIFS(AS!$W:$W,AS!$AB:$AB,"OK",AS!$AG:$AG,Parkki!X18,AS!$AW:$AW,$W$8,AS!$X:$X,Parkki!$Y$5,AS!$K:$K,$W$7,AS!$AV:$AV,Parkki!$Y$2,AS!$CY:$CY,$U$6,AS!$CZ:$CZ,$U$5) -> 0 | D18: =SUMIFS(AS!$W:$W,AS!$AB:$AB,"OK",AS!$AG:$AG,Parkki!$X18,AS!$F:$F,Parkki!$X$15,AS!$AW:$AW,$W$8,AS!$X:$X,Parkki!$Y$5,AS!$K:$K,$W$7,AS!$AV:$AV,Parkki!$Y$2,AS!$CY:$CY,$U$6,AS!$CZ:$CZ,$U$5) -> 0 | M18: =IFERROR(INDEX($AG$5:$AG$37,MATCH(SMALL($AH$5:$AH$37,T18),$AH$5:$AH$37,0)),"") | N18: =SUMIFS(AS!$W:$W,AS!$AB:$AB,"OK",AS!$AW:$AW,Parkki!$Y$6,AS!$X:$X,Parkki!$Y$5,AS!$AV:$AV,Parkki!$Y$2,AS!$K:$K,Parkki!$U18) -> 0 | O18: =SUMIFS(JA!$Z:$Z,JA!$AE:$AE,"OK",JA!$X:$X,Parkki!$Y$6,JA!$BE:$BE,Parkki!$Y$5,JA!$AI:$AI,Parkki!$Y$2,JA!$Y:$Y,$U18,JA!$CW:$CW,1,JA!$AJ:$AJ,Parkki!$Y$2) -> 0 | P18: =SUMIFS(JA!$Z:$Z,JA!$AE:$AE,"OK",JA!$X:$X,Parkki!$Y$6,JA!$BE:$BE,Parkki!$Y$5,JA!$AI:$AI,Parkki!$Y$2,JA!$Y:$Y,$U18,JA!$AJ:$AJ,Parkki!$Y$2) -> 0 | S18: =IF(M18="",0,1) -> 0 | T18: 6 | U18: =INDEX($AC$5:$AC$37,MATCH(M18,$AD$5:$AD$37,0)) -> ComboBox_TyHlo_yksikko_00000001 | V18: uusi hlö | W18: ;AS!$X:$X;Parkki!$Y$5 | X18: 21-24 | AA18: ComboBox_EtKuntakoodi_00000011 | AB18: =IFERROR(INDEX(Data_Omakoodi!E:E,MATCH(AA18,Data_Omakoodi!A:A,0)),"") | AC18: ComboBox_TyHlo_yksikko_00000011 | AD18: =IFERROR(INDEX(Data_Omakoodi!E:E,MATCH(AC18,Data_Omakoodi!A:A,0)),"") | AE18: ComboBox_TyHlo_yksikko_00000011 | AF18: ComboBox_yksikko_00000011 | AG18: =TEXT(AD18,"@") | AH18: =IF(AG18<>"",ROW(),"") | AJ18: =TEXT(AB18,"@") | AK18: =IF(AJ18<>"",ROW(),"")
B19: 25-28-vuotiaita | C19: =SUMIFS(AS!$W:$W,AS!$AB:$AB,"OK",AS!$AG:$AG,Parkki!X19,AS!$AW:$AW,$W$8,AS!$X:$X,Parkki!$Y$5,AS!$K:$K,$W$7,AS!$AV:$AV,Parkki!$Y$2,AS!$CY:$CY,$U$6,AS!$CZ:$CZ,$U$5) -> 0 | D19: =SUMIFS(AS!$W:$W,AS!$AB:$AB,"OK",AS!$AG:$AG,Parkki!$X19,AS!$F:$F,Parkki!$X$15,AS!$AW:$AW,$W$8,AS!$X:$X,Parkki!$Y$5,AS!$K:$K,$W$7,AS!$AV:$AV,Parkki!$Y$2,AS!$CY:$CY,$U$6,AS!$CZ:$CZ,$U$5) -> 0 | M19: =IFERROR(INDEX($AG$5:$AG$37,MATCH(SMALL($AH$5:$AH$37,T19),$AH$5:$AH$37,0)),"") | N19: =SUMIFS(AS!$W:$W,AS!$AB:$AB,"OK",AS!$AW:$AW,Parkki!$Y$6,AS!$X:$X,Parkki!$Y$5,AS!$AV:$AV,Parkki!$Y$2,AS!$K:$K,Parkki!$U19) -> 0 | O19: =SUMIFS(JA!$Z:$Z,JA!$AE:$AE,"OK",JA!$X:$X,Parkki!$Y$6,JA!$BE:$BE,Parkki!$Y$5,JA!$AI:$AI,Parkki!$Y$2,JA!$Y:$Y,$U19,JA!$CW:$CW,1,JA!$AJ:$AJ,Parkki!$Y$2) -> 0 | P19: =SUMIFS(JA!$Z:$Z,JA!$AE:$AE,"OK",JA!$X:$X,Parkki!$Y$6,JA!$BE:$BE,Parkki!$Y$5,JA!$AI:$AI,Parkki!$Y$2,JA!$Y:$Y,$U19,JA!$AJ:$AJ,Parkki!$Y$2) -> 0 | S19: =IF(M19="",0,1) -> 0 | T19: 7 | U19: =INDEX($AC$5:$AC$37,MATCH(M19,$AD$5:$AD$37,0)) -> ComboBox_TyHlo_yksikko_00000001 | V19: uusia jaksoja | W19: ;AS!$AV:$AV;Parkki!$Y$2 | X19: 25-28 | AA19: ComboBox_EtKuntakoodi_00000012 | AB19: =IFERROR(INDEX(Data_Omakoodi!E:E,MATCH(AA19,Data_Omakoodi!A:A,0)),"") | AC19: ComboBox_TyHlo_yksikko_00000012 | AD19: =IFERROR(INDEX(Data_Omakoodi!E:E,MATCH(AC19,Data_Omakoodi!A:A,0)),"") | AE19: ComboBox_TyHlo_yksikko_00000012 | AF19: ComboBox_yksikko_00000012 | AG19: =TEXT(AD19,"@") | AH19: =IF(AG19<>"",ROW(),"") | AJ19: =TEXT(AB19,"@") | AK19: =IF(AJ19<>"",ROW(),"")
B20: Nuoria (-28) yhteensä | C20: =IFERROR(SUM(C16:C19),"") -> 0 | D20: =IFERROR(SUM(D16:D19),"") -> 0 | M20: =IFERROR(INDEX($AG$5:$AG$37,MATCH(SMALL($AH$5:$AH$37,T20),$AH$5:$AH$37,0)),"") | N20: =SUMIFS(AS!$W:$W,AS!$AB:$AB,"OK",AS!$AW:$AW,Parkki!$Y$6,AS!$X:$X,Parkki!$Y$5,AS!$AV:$AV,Parkki!$Y$2,AS!$K:$K,Parkki!$U20) -> 0 | O20: =SUMIFS(JA!$Z:$Z,JA!$AE:$AE,"OK",JA!$X:$X,Parkki!$Y$6,JA!$BE:$BE,Parkki!$Y$5,JA!$AI:$AI,Parkki!$Y$2,JA!$Y:$Y,$U20,JA!$CW:$CW,1,JA!$AJ:$AJ,Parkki!$Y$2) -> 0 | P20: =SUMIFS(JA!$Z:$Z,JA!$AE:$AE,"OK",JA!$X:$X,Parkki!$Y$6,JA!$BE:$BE,Parkki!$Y$5,JA!$AI:$AI,Parkki!$Y$2,JA!$Y:$Y,$U20,JA!$AJ:$AJ,Parkki!$Y$2) -> 0 | S20: =IF(M20="",0,1) -> 0 | T20: 8 | U20: =INDEX($AC$5:$AC$37,MATCH(M20,$AD$5:$AD$37,0)) -> ComboBox_TyHlo_yksikko_00000001 | V20: yksikkö perustiedot | W20: ;AS!$K:$K;Parkki!$AC5) | AA20: ComboBox_EtKuntakoodi_00000013 | AB20: =IFERROR(INDEX(Data_Omakoodi!E:E,MATCH(AA20,Data_Omakoodi!A:A,0)),"") | AC20: ComboBox_TyHlo_yksikko_00000013 | AD20: =IFERROR(INDEX(Data_Omakoodi!E:E,MATCH(AC20,Data_Omakoodi!A:A,0)),"") | AE20: ComboBox_TyHlo_yksikko_00000013 | AF20: ComboBox_yksikko_00000013 | AG20: =TEXT(AD20,"@") | AH20: =IF(AG20<>"",ROW(),"") | AJ20: =TEXT(AB20,"@") | AK20: =IF(AJ20<>"",ROW(),"")
B21: 29-49-vuotiaita | C21: =SUMIFS(AS!$W:$W,AS!$AB:$AB,"OK",AS!$AG:$AG,Parkki!X21,AS!$AW:$AW,$W$8,AS!$X:$X,Parkki!$Y$5,AS!$K:$K,$W$7,AS!$AV:$AV,Parkki!$Y$2,AS!$CY:$CY,$U$6,AS!$CZ:$CZ,$U$5) -> 0 | D21: =SUMIFS(AS!$W:$W,AS!$AB:$AB,"OK",AS!$AG:$AG,Parkki!$X21,AS!$F:$F,Parkki!$X$15,AS!$AW:$AW,$W$8,AS!$X:$X,Parkki!$Y$5,AS!$K:$K,$W$7,AS!$AV:$AV,Parkki!$Y$2,AS!$CY:$CY,$U$6,AS!$CZ:$CZ,$U$5) -> 0 | M21: =IFERROR(INDEX($AG$5:$AG$37,MATCH(SMALL($AH$5:$AH$37,T21),$AH$5:$AH$37,0)),"") | N21: =SUMIFS(AS!$W:$W,AS!$AB:$AB,"OK",AS!$AW:$AW,Parkki!$Y$6,AS!$X:$X,Parkki!$Y$5,AS!$AV:$AV,Parkki!$Y$2,AS!$K:$K,Parkki!$U21) -> 0 | O21: =SUMIFS(JA!$Z:$Z,JA!$AE:$AE,"OK",JA!$X:$X,Parkki!$Y$6,JA!$BE:$BE,Parkki!$Y$5,JA!$AI:$AI,Parkki!$Y$2,JA!$Y:$Y,$U21,JA!$CW:$CW,1,JA!$AJ:$AJ,Parkki!$Y$2) -> 0 | P21: =SUMIFS(JA!$Z:$Z,JA!$AE:$AE,"OK",JA!$X:$X,Parkki!$Y$6,JA!$BE:$BE,Parkki!$Y$5,JA!$AI:$AI,Parkki!$Y$2,JA!$Y:$Y,$U21,JA!$AJ:$AJ,Parkki!$Y$2) -> 0 | S21: =IF(M21="",0,1) -> 0 | T21: 9 | U21: =INDEX($AC$5:$AC$37,MATCH(M21,$AD$5:$AD$37,0)) -> ComboBox_TyHlo_yksikko_00000001 | X21: 29-49 | AA21: ComboBox_EtKuntakoodi_00000014 | AB21: =IFERROR(INDEX(Data_Omakoodi!E:E,MATCH(AA21,Data_Omakoodi!A:A,0)),"") | AC21: ComboBox_TyHlo_yksikko_00000014 | AD21: =IFERROR(INDEX(Data_Omakoodi!E:E,MATCH(AC21,Data_Omakoodi!A:A,0)),"") | AE21: ComboBox_TyHlo_yksikko_00000014 | AF21: ComboBox_yksikko_00000014 | AG21: =TEXT(AD21,"@") | AH21: =IF(AG21<>"",ROW(),"") | AJ21: =TEXT(AB21,"@") | AK21: =IF(AJ21<>"",ROW(),"")
B22: 50- tai yli -vuotiaita | C22: =SUMIFS(AS!$W:$W,AS!$AB:$AB,"OK",AS!$AG:$AG,Parkki!X22,AS!$AW:$AW,$W$8,AS!$X:$X,Parkki!$Y$5,AS!$K:$K,$W$7,AS!$AV:$AV,Parkki!$Y$2,AS!$CY:$CY,$U$6,AS!$CZ:$CZ,$U$5) -> 0 | D22: =SUMIFS(AS!$W:$W,AS!$AB:$AB,"OK",AS!$AG:$AG,Parkki!$X22,AS!$F:$F,Parkki!$X$15,AS!$AW:$AW,$W$8,AS!$X:$X,Parkki!$Y$5,AS!$K:$K,$W$7,AS!$AV:$AV,Parkki!$Y$2,AS!$CY:$CY,$U$6,AS!$CZ:$CZ,$U$5) -> 0 | M22: =IFERROR(INDEX($AG$5:$AG$37,MATCH(SMALL($AH$5:$AH$37,T22),$AH$5:$AH$37,0)),"") | N22: =SUMIFS(AS!$W:$W,AS!$AB:$AB,"OK",AS!$AW:$AW,Parkki!$Y$6,AS!$X:$X,Parkki!$Y$5,AS!$AV:$AV,Parkki!$Y$2,AS!$K:$K,Parkki!$U22) -> 0 | O22: =SUMIFS(JA!$Z:$Z,JA!$AE:$AE,"OK",JA!$X:$X,Parkki!$Y$6,JA!$BE:$BE,Parkki!$Y$5,JA!$AI:$AI,Parkki!$Y$2,JA!$Y:$Y,$U22,JA!$CW:$CW,1,JA!$AJ:$AJ,Parkki!$Y$2) -> 0 | P22: =SUMIFS(JA!$Z:$Z,JA!$AE:$AE,"OK",JA!$X:$X,Parkki!$Y$6,JA!$BE:$BE,Parkki!$Y$5,JA!$AI:$AI,Parkki!$Y$2,JA!$Y:$Y,$U22,JA!$AJ:$AJ,Parkki!$Y$2) -> 0 | S22: =IF(M22="",0,1) -> 0 | T22: 10 | U22: =INDEX($AC$5:$AC$37,MATCH(M22,$AD$5:$AD$37,0)) -> ComboBox_TyHlo_yksikko_00000001 | X22: yli 50 | AA22: ComboBox_EtKuntakoodi_00000015 | AB22: =IFERROR(INDEX(Data_Omakoodi!E:E,MATCH(AA22,Data_Omakoodi!A:A,0)),"") | AC22: ComboBox_TyHlo_yksikko_00000015 | AD22: =IFERROR(INDEX(Data_Omakoodi!E:E,MATCH(AC22,Data_Omakoodi!A:A,0)),"") | AE22: ComboBox_TyHlo_yksikko_00000015 | AF22: ComboBox_yksikko_00000015 | AG22: =TEXT(AD22,"@") | AH22: =IF(AG22<>"",ROW(),"") | AJ22: =TEXT(AB22,"@") | AK22: =IF(AJ22<>"",ROW(),"")
B23: Ikä ei rekisteröity | C23: =SUMIFS(AS!$W:$W,AS!$AB:$AB,"OK",AS!$AG:$AG,Parkki!X23,AS!$AW:$AW,$W$8,AS!$X:$X,Parkki!$Y$5,AS!$K:$K,$W$7,AS!$AV:$AV,Parkki!$Y$2,AS!$CY:$CY,$U$6,AS!$CZ:$CZ,$U$5) -> 0 | D23: =SUMIFS(AS!$W:$W,AS!$AB:$AB,"OK",AS!$AG:$AG,Parkki!$X23,AS!$F:$F,Parkki!$X$15,AS!$AW:$AW,$W$8,AS!$X:$X,Parkki!$Y$5,AS!$K:$K,$W$7,AS!$AV:$AV,Parkki!$Y$2,AS!$CY:$CY,$U$6,AS!$CZ:$CZ,$U$5) -> 0 | M23: =IFERROR(INDEX($AG$5:$AG$37,MATCH(SMALL($AH$5:$AH$37,T23),$AH$5:$AH$37,0)),"") | N23: =SUMIFS(AS!$W:$W,AS!$AB:$AB,"OK",AS!$AW:$AW,Parkki!$Y$6,AS!$X:$X,Parkki!$Y$5,AS!$AV:$AV,Parkki!$Y$2,AS!$K:$K,Parkki!$U23) -> 0 | O23: =SUMIFS(JA!$Z:$Z,JA!$AE:$AE,"OK",JA!$X:$X,Parkki!$Y$6,JA!$BE:$BE,Parkki!$Y$5,JA!$AI:$AI,Parkki!$Y$2,JA!$Y:$Y,$U23,JA!$CW:$CW,1,JA!$AJ:$AJ,Parkki!$Y$2) -> 0 | P23: =SUMIFS(JA!$Z:$Z,JA!$AE:$AE,"OK",JA!$X:$X,Parkki!$Y$6,JA!$BE:$BE,Parkki!$Y$5,JA!$AI:$AI,Parkki!$Y$2,JA!$Y:$Y,$U23,JA!$AJ:$AJ,Parkki!$Y$2) -> 0 | S23: =IF(M23="",0,1) -> 0 | T23: 11 | U23: =INDEX($AC$5:$AC$37,MATCH(M23,$AD$5:$AD$37,0)) -> ComboBox_TyHlo_yksikko_00000001 | V23: summa | W23: JA!$Z:$Z; | X23: EI | Y23: UUSIEN Valmentautujien määrä sukupuolen ja ikäryhmän mukaan (ei aikaisempia jaksoja!) | AA23: ComboBox_EtKuntakoodi_00000016 | AB23: =IFERROR(INDEX(Data_Omakoodi!E:E,MATCH(AA23,Data_Omakoodi!A:A,0)),"") | AC23: ComboBox_TyHlo_yksikko_00000016 | AD23: =IFERROR(INDEX(Data_Omakoodi!E:E,MATCH(AC23,Data_Omakoodi!A:A,0)),"") | AE23: ComboBox_TyHlo_yksikko_00000016 | AF23: ComboBox_yksikko_00000016 | AG23: =TEXT(AD23,"@") | AH23: =IF(AG23<>"",ROW(),"") | AJ23: =TEXT(AB23,"@") | AK23: =IF(AJ23<>"",ROW(),"")
B24: Työpajalla valmentautujia yhteensä | C24: =IFERROR(SUM(C20:C23),"") -> 0 | D24: =IFERROR(SUM(D20:D23),"") -> 0 | M24: =IFERROR(INDEX($AG$5:$AG$37,MATCH(SMALL($AH$5:$AH$37,T24),$AH$5:$AH$37,0)),"") | N24: =SUMIFS(AS!$W:$W,AS!$AB:$AB,"OK",AS!$AW:$AW,Parkki!$Y$6,AS!$X:$X,Parkki!$Y$5,AS!$AV:$AV,Parkki!$Y$2,AS!$K:$K,Parkki!$U24) -> 0 | O24: =SUMIFS(JA!$Z:$Z,JA!$AE:$AE,"OK",JA!$X:$X,Parkki!$Y$6,JA!$BE:$BE,Parkki!$Y$5,JA!$AI:$AI,Parkki!$Y$2,JA!$Y:$Y,$U24,JA!$CW:$CW,1,JA!$AJ:$AJ,Parkki!$Y$2) -> 0 | P24: =SUMIFS(JA!$Z:$Z,JA!$AE:$AE,"OK",JA!$X:$X,Parkki!$Y$6,JA!$BE:$BE,Parkki!$Y$5,JA!$AI:$AI,Parkki!$Y$2,JA!$Y:$Y,$U24,JA!$AJ:$AJ,Parkki!$Y$2) -> 0 | S24: =IF(M24="",0,1) -> 0 | T24: 12 | U24: =INDEX($AC$5:$AC$37,MATCH(M24,$AD$5:$AD$37,0)) -> ComboBox_TyHlo_yksikko_00000001 | V24: osuuko henkilö | W24: JA!$AE:$AE;"OK" | Y24: UUSILLA JAKSOILLA olevien valmentautujien määrä sukupuolen ja ikäryhmän mukaan (löytyy aikaisempia jaksoja, mutta henkilö voi esiintyä vain kerran!) | AA24: ComboBox_EtKuntakoodi_00000017 | AB24: =IFERROR(INDEX(Data_Omakoodi!E:E,MATCH(AA24,Data_Omakoodi!A:A,0)),"") | AC24: ComboBox_TyHlo_yksikko_00000017 | AD24: =IFERROR(INDEX(Data_Omakoodi!E:E,MATCH(AC24,Data_Omakoodi!A:A,0)),"") | AE24: ComboBox_TyHlo_yksikko_00000017 | AF24: ComboBox_yksikko_00000017 | AG24: =TEXT(AD24,"@") | AH24: =IF(AG24<>"",ROW(),"") | AJ24: =TEXT(AB24,"@") | AK24: =IF(AJ24<>"",ROW(),"")
M25: =IFERROR(INDEX($AG$5:$AG$37,MATCH(SMALL($AH$5:$AH$37,T25),$AH$5:$AH$37,0)),"") | N25: =SUMIFS(AS!$W:$W,AS!$AB:$AB,"OK",AS!$AW:$AW,Parkki!$Y$6,AS!$X:$X,Parkki!$Y$5,AS!$AV:$AV,Parkki!$Y$2,AS!$K:$K,Parkki!$U25) -> 0 | O25: =SUMIFS(JA!$Z:$Z,JA!$AE:$AE,"OK",JA!$X:$X,Parkki!$Y$6,JA!$BE:$BE,Parkki!$Y$5,JA!$AI:$AI,Parkki!$Y$2,JA!$Y:$Y,$U25,JA!$CW:$CW,1,JA!$AJ:$AJ,Parkki!$Y$2) -> 0 | P25: =SUMIFS(JA!$Z:$Z,JA!$AE:$AE,"OK",JA!$X:$X,Parkki!$Y$6,JA!$BE:$BE,Parkki!$Y$5,JA!$AI:$AI,Parkki!$Y$2,JA!$Y:$Y,$U25,JA!$AJ:$AJ,Parkki!$Y$2) -> 0 | S25: =IF(M25="",0,1) -> 0 | T25: 13 | U25: =INDEX($AC$5:$AC$37,MATCH(M25,$AD$5:$AD$37,0)) -> ComboBox_TyHlo_yksikko_00000001 | V25: kunta | W25: ;JA!$AX:$AX;Parkki!$Y$6 | Y25: KAIKKIEN Valmentautujien määrä sukupuolen ja ikäryhmän mukaan | AA25: ComboBox_EtKuntakoodi_00000018 | AB25: =IFERROR(INDEX(Data_Omakoodi!E:E,MATCH(AA25,Data_Omakoodi!A:A,0)),"") | AC25: ComboBox_TyHlo_yksikko_00000018 | AD25: =IFERROR(INDEX(Data_Omakoodi!E:E,MATCH(AC25,Data_Omakoodi!A:A,0)),"") | AE25: ComboBox_TyHlo_yksikko_00000018 | AF25: ComboBox_yksikko_00000018 | AG25: =TEXT(AD25,"@") | AH25: =IF(AG25<>"",ROW(),"") | AJ25: =TEXT(AB25,"@") | AK25: =IF(AJ25<>"",ROW(),"")
B26: ="Työpajajaksojen kokonaiskesto, jonka valmentautujat olleet pajalla kuukausina" & X10&X12 -> Työpajajaksojen kokonaiskesto, jonka valmentautujat olleet pajalla kuukausina - 01.01.2026-31.12.2026 (Kaikki kunnat - tiedot perustiedoista, Kaikki yksiköt - tiedot perustiedoista, Kaikki asiakkuudet) | M26: =IFERROR(INDEX($AG$5:$AG$37,MATCH(SMALL($AH$5:$AH$37,T26),$AH$5:$AH$37,0)),"") | N26: =SUMIFS(AS!$W:$W,AS!$AB:$AB,"OK",AS!$AW:$AW,Parkki!$Y$6,AS!$X:$X,Parkki!$Y$5,AS!$AV:$AV,Parkki!$Y$2,AS!$K:$K,Parkki!$U26) -> 0 | O26: =SUMIFS(JA!$Z:$Z,JA!$AE:$AE,"OK",JA!$X:$X,Parkki!$Y$6,JA!$BE:$BE,Parkki!$Y$5,JA!$AI:$AI,Parkki!$Y$2,JA!$Y:$Y,$U26,JA!$CW:$CW,1,JA!$AJ:$AJ,Parkki!$Y$2) -> 0 | P26: =SUMIFS(JA!$Z:$Z,JA!$AE:$AE,"OK",JA!$X:$X,Parkki!$Y$6,JA!$BE:$BE,Parkki!$Y$5,JA!$AI:$AI,Parkki!$Y$2,JA!$Y:$Y,$U26,JA!$AJ:$AJ,Parkki!$Y$2) -> 0 | S26: =IF(M26="",0,1) -> 0 | T26: 14 | U26: =INDEX($AC$5:$AC$37,MATCH(M26,$AD$5:$AD$37,0)) -> ComboBox_TyHlo_yksikko_00000001 | V26: uusi hlö | W26: ;JA!$BE:$BE;Parkki!$Y$5 | AA26: ComboBox_EtKuntakoodi_00000019 | AB26: =IFERROR(INDEX(Data_Omakoodi!E:E,MATCH(AA26,Data_Omakoodi!A:A,0)),"") | AC26: ComboBox_TyHlo_yksikko_00000019 | AD26: =IFERROR(INDEX(Data_Omakoodi!E:E,MATCH(AC26,Data_Omakoodi!A:A,0)),"") | AE26: ComboBox_TyHlo_yksikko_00000019 | AF26: ComboBox_yksikko_00000019 | AG26: =TEXT(AD26,"@") | AH26: =IF(AG26<>"",ROW(),"") | AJ26: =TEXT(AB26,"@") | AK26: =IF(AJ26<>"",ROW(),"")
M27: =IFERROR(INDEX($AG$5:$AG$37,MATCH(SMALL($AH$5:$AH$37,T27),$AH$5:$AH$37,0)),"") | N27: =SUMIFS(AS!$W:$W,AS!$AB:$AB,"OK",AS!$AW:$AW,Parkki!$Y$6,AS!$X:$X,Parkki!$Y$5,AS!$AV:$AV,Parkki!$Y$2,AS!$K:$K,Parkki!$U27) -> 0 | O27: =SUMIFS(JA!$Z:$Z,JA!$AE:$AE,"OK",JA!$X:$X,Parkki!$Y$6,JA!$BE:$BE,Parkki!$Y$5,JA!$AI:$AI,Parkki!$Y$2,JA!$Y:$Y,$U27,JA!$CW:$CW,1,JA!$AJ:$AJ,Parkki!$Y$2) -> 0 | P27: =SUMIFS(JA!$Z:$Z,JA!$AE:$AE,"OK",JA!$X:$X,Parkki!$Y$6,JA!$BE:$BE,Parkki!$Y$5,JA!$AI:$AI,Parkki!$Y$2,JA!$Y:$Y,$U27,JA!$AJ:$AJ,Parkki!$Y$2) -> 0 | S27: =IF(M27="",0,1) -> 0 | T27: 15 | U27: =INDEX($AC$5:$AC$37,MATCH(M27,$AD$5:$AD$37,0)) -> ComboBox_TyHlo_yksikko_00000001 | V27: uusi jakso | W27: ;JA!$AI:$AI;Parkki!$Y$4 | AA27: ComboBox_EtKuntakoodi_00000020 | AB27: =IFERROR(INDEX(Data_Omakoodi!E:E,MATCH(AA27,Data_Omakoodi!A:A,0)),"") | AC27: ComboBox_TyHlo_yksikko_00000020 | AD27: =IFERROR(INDEX(Data_Omakoodi!E:E,MATCH(AC27,Data_Omakoodi!A:A,0)),"") | AE27: ComboBox_TyHlo_yksikko_00000020 | AF27: ComboBox_yksikko_00000020 | AG27: =TEXT(AD27,"@") | AH27: =IF(AG27<>"",ROW(),"") | AJ27: =TEXT(AB27,"@") | AK27: =IF(AJ27<>"",ROW(),"")
C28: kaikki | D28: nuoria | M28: =IFERROR(INDEX($AG$5:$AG$37,MATCH(SMALL($AH$5:$AH$37,T28),$AH$5:$AH$37,0)),"") | N28: =SUMIFS(AS!$W:$W,AS!$AB:$AB,"OK",AS!$AW:$AW,Parkki!$Y$6,AS!$X:$X,Parkki!$Y$5,AS!$AV:$AV,Parkki!$Y$2,AS!$K:$K,Parkki!$U28) -> 0 | O28: =SUMIFS(JA!$Z:$Z,JA!$AE:$AE,"OK",JA!$X:$X,Parkki!$Y$6,JA!$BE:$BE,Parkki!$Y$5,JA!$AI:$AI,Parkki!$Y$2,JA!$Y:$Y,$U28,JA!$CW:$CW,1,JA!$AJ:$AJ,Parkki!$Y$2) -> 0 | P28: =SUMIFS(JA!$Z:$Z,JA!$AE:$AE,"OK",JA!$X:$X,Parkki!$Y$6,JA!$BE:$BE,Parkki!$Y$5,JA!$AI:$AI,Parkki!$Y$2,JA!$Y:$Y,$U28,JA!$AJ:$AJ,Parkki!$Y$2) -> 0 | S28: =IF(M28="",0,1) -> 0 | T28: 16 | U28: =INDEX($AC$5:$AC$37,MATCH(M28,$AD$5:$AD$37,0)) -> ComboBox_TyHlo_yksikko_00000001 | W28: ;JA!$AJ:$AJ;Parkki!$Y$2 | AA28: ComboBox_EtKuntakoodi_00000021 | AB28: =IFERROR(INDEX(Data_Omakoodi!E:E,MATCH(AA28,Data_Omakoodi!A:A,0)),"") | AC28: ComboBox_TyHlo_yksikko_00000021 | AD28: =IFERROR(INDEX(Data_Omakoodi!E:E,MATCH(AC28,Data_Omakoodi!A:A,0)),"") | AE28: ComboBox_TyHlo_yksikko_00000021 | AF28: ComboBox_yksikko_00000021 | AG28: =TEXT(AD28,"@") | AH28: =IF(AG28<>"",ROW(),"") | AJ28: =TEXT(AB28,"@") | AK28: =IF(AJ28<>"",ROW(),"")
B29: Alle 2kk | C29: =SUMIFS(AS!$W:$W,AS!$AB:$AB,"OK",AS!$BD:$BD,Parkki!$X29,AS!$AW:$AW,$W$8,AS!$K:$K,$W$7,AS!$X:$X,Parkki!$Y$5,AS!$AV:$AV,Parkki!$Y$2,AS!$CY:$CY,$U$6,AS!$CZ:$CZ,$U$5) -> 0 | D29: =SUMIFS(AS!$W:$W,AS!$AB:$AB,"OK",AS!$BD:$BD,Parkki!$X29,AS!$AH:$AH,Parkki!$X$8,AS!$AW:$AW,$W$8,AS!$K:$K,$W$7,AS!$X:$X,Parkki!$Y$5,AS!$AV:$AV,Parkki!$Y$2,AS!$CY:$CY,$U$6,AS!$CZ:$CZ,$U$5) -> 0 | M29: =IFERROR(INDEX($AG$5:$AG$37,MATCH(SMALL($AH$5:$AH$37,T29),$AH$5:$AH$37,0)),"") | N29: =SUMIFS(AS!$W:$W,AS!$AB:$AB,"OK",AS!$AW:$AW,Parkki!$Y$6,AS!$X:$X,Parkki!$Y$5,AS!$AV:$AV,Parkki!$Y$2,AS!$K:$K,Parkki!$U29) -> 0 | O29: =SUMIFS(JA!$Z:$Z,JA!$AE:$AE,"OK",JA!$X:$X,Parkki!$Y$6,JA!$BE:$BE,Parkki!$Y$5,JA!$AI:$AI,Parkki!$Y$2,JA!$Y:$Y,$U29,JA!$CW:$CW,1,JA!$AJ:$AJ,Parkki!$Y$2) -> 0 | P29: =SUMIFS(JA!$Z:$Z,JA!$AE:$AE,"OK",JA!$X:$X,Parkki!$Y$6,JA!$BE:$BE,Parkki!$Y$5,JA!$AI:$AI,Parkki!$Y$2,JA!$Y:$Y,$U29,JA!$AJ:$AJ,Parkki!$Y$2) -> 0 | S29: =IF(M29="",0,1) -> 0 | T29: 17 | U29: =INDEX($AC$5:$AC$37,MATCH(M29,$AD$5:$AD$37,0)) -> ComboBox_TyHlo_yksikko_00000001 | V29: yksikkö jaksoilta | W29: ;JA!$Y:$Y;$AC5 | X29: alle 2kk | AA29: ComboBox_EtKuntakoodi_00000022 | AB29: =IFERROR(INDEX(Data_Omakoodi!E:E,MATCH(AA29,Data_Omakoodi!A:A,0)),"") | AC29: ComboBox_TyHlo_yksikko_00000022 | AD29: =IFERROR(INDEX(Data_Omakoodi!E:E,MATCH(AC29,Data_Omakoodi!A:A,0)),"") | AE29: ComboBox_TyHlo_yksikko_00000022 | AF29: ComboBox_yksikko_00000022 | AG29: =TEXT(AD29,"@") | AH29: =IF(AG29<>"",ROW(),"") | AJ29: =TEXT(AB29,"@") | AK29: =IF(AJ29<>"",ROW(),"")
B30: 2- alle 3kk | C30: =SUMIFS(AS!$W:$W,AS!$AB:$AB,"OK",AS!$BD:$BD,Parkki!$X30,AS!$AW:$AW,$W$8,AS!$K:$K,$W$7,AS!$X:$X,Parkki!$Y$5,AS!$AV:$AV,Parkki!$Y$2,AS!$CY:$CY,$U$6,AS!$CZ:$CZ,$U$5) -> 0 | D30: =SUMIFS(AS!$W:$W,AS!$AB:$AB,"OK",AS!$BD:$BD,Parkki!$X30,AS!$AH:$AH,Parkki!$X$8,AS!$AW:$AW,$W$8,AS!$K:$K,$W$7,AS!$X:$X,Parkki!$Y$5,AS!$AV:$AV,Parkki!$Y$2,AS!$CY:$CY,$U$6,AS!$CZ:$CZ,$U$5) -> 0 | M30: =IFERROR(INDEX($AG$5:$AG$37,MATCH(SMALL($AH$5:$AH$37,T30),$AH$5:$AH$37,0)),"") | N30: =SUMIFS(AS!$W:$W,AS!$AB:$AB,"OK",AS!$AW:$AW,Parkki!$Y$6,AS!$X:$X,Parkki!$Y$5,AS!$AV:$AV,Parkki!$Y$2,AS!$K:$K,Parkki!$U30) -> 0 | O30: =SUMIFS(JA!$Z:$Z,JA!$AE:$AE,"OK",JA!$X:$X,Parkki!$Y$6,JA!$BE:$BE,Parkki!$Y$5,JA!$AI:$AI,Parkki!$Y$2,JA!$Y:$Y,$U30,JA!$CW:$CW,1,JA!$AJ:$AJ,Parkki!$Y$2) -> 0 | P30: =SUMIFS(JA!$Z:$Z,JA!$AE:$AE,"OK",JA!$X:$X,Parkki!$Y$6,JA!$BE:$BE,Parkki!$Y$5,JA!$AI:$AI,Parkki!$Y$2,JA!$Y:$Y,$U30,JA!$AJ:$AJ,Parkki!$Y$2) -> 0 | S30: =IF(M30="",0,1) -> 0 | T30: 18 | U30: =INDEX($AC$5:$AC$37,MATCH(M30,$AD$5:$AD$37,0)) -> ComboBox_TyHlo_yksikko_00000001 | V30: yksikkö jaksoilta, vain 1 hlö | W30: ;JA!$CW:$CW;1) | X30: alle 3kk | AA30: ComboBox_EtKuntakoodi_00000023 | AB30: =IFERROR(INDEX(Data_Omakoodi!E:E,MATCH(AA30,Data_Omakoodi!A:A,0)),"") | AC30: ComboBox_TyHlo_yksikko_00000023 | AD30: =IFERROR(INDEX(Data_Omakoodi!E:E,MATCH(AC30,Data_Omakoodi!A:A,0)),"") | AE30: ComboBox_TyHlo_yksikko_00000023 | AF30: ComboBox_yksikko_00000023 | AG30: =TEXT(AD30,"@") | AH30: =IF(AG30<>"",ROW(),"") | AJ30: =TEXT(AB30,"@") | AK30: =IF(AJ30<>"",ROW(),"")
B31: 3-alle 6kk | C31: =SUMIFS(AS!$W:$W,AS!$AB:$AB,"OK",AS!$BD:$BD,Parkki!$X31,AS!$AW:$AW,$W$8,AS!$K:$K,$W$7,AS!$X:$X,Parkki!$Y$5,AS!$AV:$AV,Parkki!$Y$2,AS!$CY:$CY,$U$6,AS!$CZ:$CZ,$U$5) -> 0 | D31: =SUMIFS(AS!$W:$W,AS!$AB:$AB,"OK",AS!$BD:$BD,Parkki!$X31,AS!$AH:$AH,Parkki!$X$8,AS!$AW:$AW,$W$8,AS!$K:$K,$W$7,AS!$X:$X,Parkki!$Y$5,AS!$AV:$AV,Parkki!$Y$2,AS!$CY:$CY,$U$6,AS!$CZ:$CZ,$U$5) -> 0 | M31: =IFERROR(INDEX($AG$5:$AG$37,MATCH(SMALL($AH$5:$AH$37,T31),$AH$5:$AH$37,0)),"") | N31: =SUMIFS(AS!$W:$W,AS!$AB:$AB,"OK",AS!$AW:$AW,Parkki!$Y$6,AS!$X:$X,Parkki!$Y$5,AS!$AV:$AV,Parkki!$Y$2,AS!$K:$K,Parkki!$U31) -> 0 | O31: =SUMIFS(JA!$Z:$Z,JA!$AE:$AE,"OK",JA!$X:$X,Parkki!$Y$6,JA!$BE:$BE,Parkki!$Y$5,JA!$AI:$AI,Parkki!$Y$2,JA!$Y:$Y,$U31,JA!$CW:$CW,1,JA!$AJ:$AJ,Parkki!$Y$2) -> 0 | P31: =SUMIFS(JA!$Z:$Z,JA!$AE:$AE,"OK",JA!$X:$X,Parkki!$Y$6,JA!$BE:$BE,Parkki!$Y$5,JA!$AI:$AI,Parkki!$Y$2,JA!$Y:$Y,$U31,JA!$AJ:$AJ,Parkki!$Y$2) -> 0 | S31: =IF(M31="",0,1) -> 0 | T31: 19 | U31: =INDEX($AC$5:$AC$37,MATCH(M31,$AD$5:$AD$37,0)) -> ComboBox_TyHlo_yksikko_00000001 | X31: alle 6kk | AA31: ComboBox_EtKuntakoodi_00000024 | AB31: =IFERROR(INDEX(Data_Omakoodi!E:E,MATCH(AA31,Data_Omakoodi!A:A,0)),"") | AC31: ComboBox_TyHlo_yksikko_00000024 | AD31: =IFERROR(INDEX(Data_Omakoodi!E:E,MATCH(AC31,Data_Omakoodi!A:A,0)),"") | AE31: ComboBox_TyHlo_yksikko_00000024 | AF31: ComboBox_yksikko_00000024 | AG31: =TEXT(AD31,"@") | AH31: =IF(AG31<>"",ROW(),"") | AJ31: =TEXT(AB31,"@") | AK31: =IF(AJ31<>"",ROW(),"")
B32: 6kk- alle 1vuosi | C32: =SUMIFS(AS!$W:$W,AS!$AB:$AB,"OK",AS!$BD:$BD,Parkki!$X32,AS!$AW:$AW,$W$8,AS!$K:$K,$W$7,AS!$X:$X,Parkki!$Y$5,AS!$AV:$AV,Parkki!$Y$2,AS!$CY:$CY,$U$6,AS!$CZ:$CZ,$U$5) -> 0 | D32: =SUMIFS(AS!$W:$W,AS!$AB:$AB,"OK",AS!$BD:$BD,Parkki!$X32,AS!$AH:$AH,Parkki!$X$8,AS!$AW:$AW,$W$8,AS!$K:$K,$W$7,AS!$X:$X,Parkki!$Y$5,AS!$AV:$AV,Parkki!$Y$2,AS!$CY:$CY,$U$6,AS!$CZ:$CZ,$U$5) -> 0 | M32: =IFERROR(INDEX($AG$5:$AG$37,MATCH(SMALL($AH$5:$AH$37,T32),$AH$5:$AH$37,0)),"") | N32: =SUMIFS(AS!$W:$W,AS!$AB:$AB,"OK",AS!$AW:$AW,Parkki!$Y$6,AS!$X:$X,Parkki!$Y$5,AS!$AV:$AV,Parkki!$Y$2,AS!$K:$K,Parkki!$U32) -> 0 | O32: =SUMIFS(JA!$Z:$Z,JA!$AE:$AE,"OK",JA!$X:$X,Parkki!$Y$6,JA!$BE:$BE,Parkki!$Y$5,JA!$AI:$AI,Parkki!$Y$2,JA!$Y:$Y,$U32,JA!$CW:$CW,1,JA!$AJ:$AJ,Parkki!$Y$2) -> 0 | P32: =SUMIFS(JA!$Z:$Z,JA!$AE:$AE,"OK",JA!$X:$X,Parkki!$Y$6,JA!$BE:$BE,Parkki!$Y$5,JA!$AI:$AI,Parkki!$Y$2,JA!$Y:$Y,$U32,JA!$AJ:$AJ,Parkki!$Y$2) -> 0 | S32: =IF(M32="",0,1) -> 0 | T32: 20 | U32: =INDEX($AC$5:$AC$37,MATCH(M32,$AD$5:$AD$37,0)) -> ComboBox_TyHlo_yksikko_00000001 | X32: alle 1vuosi | AA32: ComboBox_EtKuntakoodi_00000025 | AB32: =IFERROR(INDEX(Data_Omakoodi!E:E,MATCH(AA32,Data_Omakoodi!A:A,0)),"") | AC32: ComboBox_TyHlo_yksikko_00000025 | AD32: =IFERROR(INDEX(Data_Omakoodi!E:E,MATCH(AC32,Data_Omakoodi!A:A,0)),"") | AE32: ComboBox_TyHlo_yksikko_00000025 | AF32: ComboBox_yksikko_00000025 | AG32: =TEXT(AD32,"@") | AH32: =IF(AG32<>"",ROW(),"") | AJ32: =TEXT(AB32,"@") | AK32: =IF(AJ32<>"",ROW(),"")
B33: 1vuosi tai pitempi | C33: =SUMIFS(AS!$W:$W,AS!$AB:$AB,"OK",AS!$BD:$BD,Parkki!$X33,AS!$AW:$AW,$W$8,AS!$K:$K,$W$7,AS!$X:$X,Parkki!$Y$5,AS!$AV:$AV,Parkki!$Y$2,AS!$CY:$CY,$U$6,AS!$CZ:$CZ,$U$5) -> 0 | D33: =SUMIFS(AS!$W:$W,AS!$AB:$AB,"OK",AS!$BD:$BD,Parkki!$X33,AS!$AH:$AH,Parkki!$X$8,AS!$AW:$AW,$W$8,AS!$K:$K,$W$7,AS!$X:$X,Parkki!$Y$5,AS!$AV:$AV,Parkki!$Y$2,AS!$CY:$CY,$U$6,AS!$CZ:$CZ,$U$5) -> 0 | M33: =IFERROR(INDEX($AG$5:$AG$37,MATCH(SMALL($AH$5:$AH$37,T33),$AH$5:$AH$37,0)),"") | N33: =SUMIFS(AS!$W:$W,AS!$AB:$AB,"OK",AS!$AW:$AW,Parkki!$Y$6,AS!$X:$X,Parkki!$Y$5,AS!$AV:$AV,Parkki!$Y$2,AS!$K:$K,Parkki!$U33) -> 0 | O33: =SUMIFS(JA!$Z:$Z,JA!$AE:$AE,"OK",JA!$X:$X,Parkki!$Y$6,JA!$BE:$BE,Parkki!$Y$5,JA!$AI:$AI,Parkki!$Y$2,JA!$Y:$Y,$U33,JA!$CW:$CW,1,JA!$AJ:$AJ,Parkki!$Y$2) -> 0 | P33: =SUMIFS(JA!$Z:$Z,JA!$AE:$AE,"OK",JA!$X:$X,Parkki!$Y$6,JA!$BE:$BE,Parkki!$Y$5,JA!$AI:$AI,Parkki!$Y$2,JA!$Y:$Y,$U33,JA!$AJ:$AJ,Parkki!$Y$2) -> 0 | S33: =IF(M33="",0,1) -> 0 | T33: 21 | U33: =INDEX($AC$5:$AC$37,MATCH(M33,$AD$5:$AD$37,0)) -> ComboBox_TyHlo_yksikko_00000001 | X33: yli 1vuosi | AA33: ComboBox_EtKuntakoodi_00000026 | AB33: =IFERROR(INDEX(Data_Omakoodi!E:E,MATCH(AA33,Data_Omakoodi!A:A,0)),"") | AC33: ComboBox_TyHlo_yksikko_00000026 | AD33: =IFERROR(INDEX(Data_Omakoodi!E:E,MATCH(AC33,Data_Omakoodi!A:A,0)),"") | AE33: ComboBox_TyHlo_yksikko_00000026 | AF33: ComboBox_yksikko_00000026 | AG33: =TEXT(AD33,"@") | AH33: =IF(AG33<>"",ROW(),"") | AJ33: =TEXT(AB33,"@") | AK33: =IF(AJ33<>"",ROW(),"")
B34: Tietoa ei ole kirjattu | C34: =SUMIFS(AS!$W:$W,AS!$AB:$AB,"OK",AS!$BD:$BD,Parkki!$X34,AS!$AW:$AW,$W$8,AS!$K:$K,$W$7,AS!$X:$X,Parkki!$Y$5,AS!$AV:$AV,Parkki!$Y$2,AS!$CY:$CY,$U$6,AS!$CZ:$CZ,$U$5) -> 0 | D34: =SUMIFS(AS!$W:$W,AS!$AB:$AB,"OK",AS!$BD:$BD,Parkki!$X34,AS!$AH:$AH,Parkki!$X$8,AS!$AW:$AW,$W$8,AS!$K:$K,$W$7,AS!$X:$X,Parkki!$Y$5,AS!$AV:$AV,Parkki!$Y$2,AS!$CY:$CY,$U$6,AS!$CZ:$CZ,$U$5) -> 0 | M34: =IFERROR(INDEX($AG$5:$AG$37,MATCH(SMALL($AH$5:$AH$37,T34),$AH$5:$AH$37,0)),"") | N34: =SUMIFS(AS!$W:$W,AS!$AB:$AB,"OK",AS!$AW:$AW,Parkki!$Y$6,AS!$X:$X,Parkki!$Y$5,AS!$AV:$AV,Parkki!$Y$2,AS!$K:$K,Parkki!$U34) -> 0 | O34: =SUMIFS(JA!$Z:$Z,JA!$AE:$AE,"OK",JA!$X:$X,Parkki!$Y$6,JA!$BE:$BE,Parkki!$Y$5,JA!$AI:$AI,Parkki!$Y$2,JA!$Y:$Y,$U34,JA!$CW:$CW,1,JA!$AJ:$AJ,Parkki!$Y$2) -> 0 | P34: =SUMIFS(JA!$Z:$Z,JA!$AE:$AE,"OK",JA!$X:$X,Parkki!$Y$6,JA!$BE:$BE,Parkki!$Y$5,JA!$AI:$AI,Parkki!$Y$2,JA!$Y:$Y,$U34,JA!$AJ:$AJ,Parkki!$Y$2) -> 0 | S34: =IF(M34="",0,1) -> 0 | T34: 22 | U34: =INDEX($AC$5:$AC$37,MATCH(M34,$AD$5:$AD$37,0)) -> ComboBox_TyHlo_yksikko_00000001 | X34: EI | AA34: ComboBox_EtKuntakoodi_00000027 | AB34: =IFERROR(INDEX(Data_Omakoodi!E:E,MATCH(AA34,Data_Omakoodi!A:A,0)),"") | AC34: ComboBox_TyHlo_yksikko_00000027 | AD34: =IFERROR(INDEX(Data_Omakoodi!E:E,MATCH(AC34,Data_Omakoodi!A:A,0)),"") | AE34: ComboBox_TyHlo_yksikko_00000027 | AF34: ComboBox_yksikko_00000027 | AG34: =TEXT(AD34,"@") | AH34: =IF(AG34<>"",ROW(),"") | AJ34: =TEXT(AB34,"@") | AK34: =IF(AJ34<>"",ROW(),"")
B35: yhteensä | C35: =IFERROR(SUM(C29:C34),"") -> 0 | D35: =IFERROR(SUM(D29:D34),"") -> 0 | M35: =IFERROR(INDEX($AG$5:$AG$37,MATCH(SMALL($AH$5:$AH$37,T35),$AH$5:$AH$37,0)),"") | N35: =SUMIFS(AS!$W:$W,AS!$AB:$AB,"OK",AS!$AW:$AW,Parkki!$Y$6,AS!$X:$X,Parkki!$Y$5,AS!$AV:$AV,Parkki!$Y$2,AS!$K:$K,Parkki!$U35) -> 0 | O35: =SUMIFS(JA!$Z:$Z,JA!$AE:$AE,"OK",JA!$X:$X,Parkki!$Y$6,JA!$BE:$BE,Parkki!$Y$5,JA!$AI:$AI,Parkki!$Y$2,JA!$Y:$Y,$U35,JA!$CW:$CW,1,JA!$AJ:$AJ,Parkki!$Y$2) -> 0 | P35: =SUMIFS(JA!$Z:$Z,JA!$AE:$AE,"OK",JA!$X:$X,Parkki!$Y$6,JA!$BE:$BE,Parkki!$Y$5,JA!$AI:$AI,Parkki!$Y$2,JA!$Y:$Y,$U35,JA!$AJ:$AJ,Parkki!$Y$2) -> 0 | S35: =IF(M35="",0,1) -> 0 | T35: 23 | U35: =INDEX($AC$5:$AC$37,MATCH(M35,$AD$5:$AD$37,0)) -> ComboBox_TyHlo_yksikko_00000001 | AA35: ComboBox_EtKuntakoodi_00000028 | AB35: =IFERROR(INDEX(Data_Omakoodi!E:E,MATCH(AA35,Data_Omakoodi!A:A,0)),"") | AC35: ComboBox_TyHlo_yksikko_00000028 | AD35: =IFERROR(INDEX(Data_Omakoodi!E:E,MATCH(AC35,Data_Omakoodi!A:A,0)),"") | AE35: ComboBox_TyHlo_yksikko_00000028 | AF35: ComboBox_yksikko_00000028 | AG35: =TEXT(AD35,"@") | AH35: =IF(AG35<>"",ROW(),"") | AJ35: =TEXT(AB35,"@") | AK35: =IF(AJ35<>"",ROW(),"")
M36: =IFERROR(INDEX($AG$5:$AG$37,MATCH(SMALL($AH$5:$AH$37,T36),$AH$5:$AH$37,0)),"") | N36: =SUMIFS(AS!$W:$W,AS!$AB:$AB,"OK",AS!$AW:$AW,Parkki!$Y$6,AS!$X:$X,Parkki!$Y$5,AS!$AV:$AV,Parkki!$Y$2,AS!$K:$K,Parkki!$U36) -> 0 | O36: =SUMIFS(JA!$Z:$Z,JA!$AE:$AE,"OK",JA!$X:$X,Parkki!$Y$6,JA!$BE:$BE,Parkki!$Y$5,JA!$AI:$AI,Parkki!$Y$2,JA!$Y:$Y,$U36,JA!$CW:$CW,1,JA!$AJ:$AJ,Parkki!$Y$2) -> 0 | P36: =SUMIFS(JA!$Z:$Z,JA!$AE:$AE,"OK",JA!$X:$X,Parkki!$Y$6,JA!$BE:$BE,Parkki!$Y$5,JA!$AI:$AI,Parkki!$Y$2,JA!$Y:$Y,$U36,JA!$AJ:$AJ,Parkki!$Y$2) -> 0 | S36: =IF(M36="",0,1) -> 0 | T36: 24 | U36: =INDEX($AC$5:$AC$37,MATCH(M36,$AD$5:$AD$37,0)) -> ComboBox_TyHlo_yksikko_00000001 | AA36: ComboBox_EtKuntakoodi_00000029 | AB36: =IFERROR(INDEX(Data_Omakoodi!E:E,MATCH(AA36,Data_Omakoodi!A:A,0)),"") | AC36: ComboBox_TyHlo_yksikko_00000029 | AD36: =IFERROR(INDEX(Data_Omakoodi!E:E,MATCH(AC36,Data_Omakoodi!A:A,0)),"") | AE36: ComboBox_TyHlo_yksikko_00000029 | AF36: ComboBox_yksikko_00000029 | AG36: =TEXT(AD36,"@") | AH36: =IF(AG36<>"",ROW(),"") | AJ36: =TEXT(AB36,"@") | AK36: =IF(AJ36<>"",ROW(),"")
A37: ="Työpajalla olleiden valmentautujien äidinkieli "&X10&X12 -> Työpajalla olleiden valmentautujien äidinkieli - 01.01.2026-31.12.2026 (Kaikki kunnat - tiedot perustiedoista, Kaikki yksiköt - tiedot perustiedoista, Kaikki asiakkuudet) | M37: =IFERROR(INDEX($AG$5:$AG$37,MATCH(SMALL($AH$5:$AH$37,T37),$AH$5:$AH$37,0)),"") | N37: =SUMIFS(AS!$W:$W,AS!$AB:$AB,"OK",AS!$AW:$AW,Parkki!$Y$6,AS!$X:$X,Parkki!$Y$5,AS!$AV:$AV,Parkki!$Y$2,AS!$K:$K,Parkki!$U37) -> 0 | O37: =SUMIFS(JA!$Z:$Z,JA!$AE:$AE,"OK",JA!$X:$X,Parkki!$Y$6,JA!$BE:$BE,Parkki!$Y$5,JA!$AI:$AI,Parkki!$Y$2,JA!$Y:$Y,$U37,JA!$CW:$CW,1,JA!$AJ:$AJ,Parkki!$Y$2) -> 0 | P37: =SUMIFS(JA!$Z:$Z,JA!$AE:$AE,"OK",JA!$X:$X,Parkki!$Y$6,JA!$BE:$BE,Parkki!$Y$5,JA!$AI:$AI,Parkki!$Y$2,JA!$Y:$Y,$U37,JA!$AJ:$AJ,Parkki!$Y$2) -> 0 | S37: =IF(M37="",0,1) -> 0 | T37: 25 | U37: =INDEX($AC$5:$AC$37,MATCH(M37,$AD$5:$AD$37,0)) -> ComboBox_TyHlo_yksikko_00000001 | AA37: ComboBox_EtKuntakoodi_00000030 | AB37: =IFERROR(INDEX(Data_Omakoodi!E:E,MATCH(AA37,Data_Omakoodi!A:A,0)),"") | AC37: ComboBox_TyHlo_yksikko_00000030 | AD37: =IFERROR(INDEX(Data_Omakoodi!E:E,MATCH(AC37,Data_Omakoodi!A:A,0)),"") | AE37: ComboBox_TyHlo_yksikko_00000030 | AF37: ComboBox_yksikko_00000030 | AG37: =TEXT(AD37,"@") | AH37: =IF(AG37<>"",ROW(),"") | AJ37: =TEXT(AB37,"@") | AK37: =IF(AJ37<>"",ROW(),"")
M38: =IFERROR(INDEX($AG$5:$AG$37,MATCH(SMALL($AH$5:$AH$37,T38),$AH$5:$AH$37,0)),"") | N38: =SUMIFS(AS!$W:$W,AS!$AB:$AB,"OK",AS!$AW:$AW,Parkki!$Y$6,AS!$X:$X,Parkki!$Y$5,AS!$AV:$AV,Parkki!$Y$2,AS!$K:$K,Parkki!$U38) -> 0 | O38: =SUMIFS(JA!$Z:$Z,JA!$AE:$AE,"OK",JA!$X:$X,Parkki!$Y$6,JA!$BE:$BE,Parkki!$Y$5,JA!$AI:$AI,Parkki!$Y$2,JA!$Y:$Y,$U38,JA!$CW:$CW,1,JA!$AJ:$AJ,Parkki!$Y$2) -> 0 | P38: =SUMIFS(JA!$Z:$Z,JA!$AE:$AE,"OK",JA!$X:$X,Parkki!$Y$6,JA!$BE:$BE,Parkki!$Y$5,JA!$AI:$AI,Parkki!$Y$2,JA!$Y:$Y,$U38,JA!$AJ:$AJ,Parkki!$Y$2) -> 0 | S38: =IF(M38="",0,1) -> 0 | T38: 26 | U38: =INDEX($AC$5:$AC$37,MATCH(M38,$AD$5:$AD$37,0)) -> ComboBox_TyHlo_yksikko_00000001
A39: Äidinkieli | C39: kaikki | D39: nuoria | M39: =IFERROR(INDEX($AG$5:$AG$37,MATCH(SMALL($AH$5:$AH$37,T39),$AH$5:$AH$37,0)),"") | N39: =SUMIFS(AS!$W:$W,AS!$AB:$AB,"OK",AS!$AW:$AW,Parkki!$Y$6,AS!$X:$X,Parkki!$Y$5,AS!$AV:$AV,Parkki!$Y$2,AS!$K:$K,Parkki!$U39) -> 0 | O39: =SUMIFS(JA!$Z:$Z,JA!$AE:$AE,"OK",JA!$X:$X,Parkki!$Y$6,JA!$BE:$BE,Parkki!$Y$5,JA!$AI:$AI,Parkki!$Y$2,JA!$Y:$Y,$U39,JA!$CW:$CW,1,JA!$AJ:$AJ,Parkki!$Y$2) -> 0 | P39: =SUMIFS(JA!$Z:$Z,JA!$AE:$AE,"OK",JA!$X:$X,Parkki!$Y$6,JA!$BE:$BE,Parkki!$Y$5,JA!$AI:$AI,Parkki!$Y$2,JA!$Y:$Y,$U39,JA!$AJ:$AJ,Parkki!$Y$2) -> 0 | S39: =IF(M39="",0,1) -> 0 | T39: 27 | U39: =INDEX($AC$5:$AC$37,MATCH(M39,$AD$5:$AD$37,0)) -> ComboBox_TyHlo_yksikko_00000001 | AE39: 2020
A40: Kotimaiset kielet | B40: Suomi | C40: =SUMIFS(AS!$W:$W,AS!$AB:$AB,"OK",AS!$AI:$AI,Parkki!$X40,AS!$AW:$AW,$W$8,AS!$K:$K,$W$7,AS!$X:$X,Parkki!$Y$5,AS!$AV:$AV,Parkki!$Y$2,AS!$CY:$CY,$U$6,AS!$CZ:$CZ,$U$5) -> 0 | D40: =SUMIFS(AS!$W:$W,AS!$AB:$AB,"OK",AS!$AI:$AI,Parkki!$X40,AS!$AH:$AH,Parkki!$X$8,AS!$AW:$AW,$W$8,AS!$K:$K,$W$7,AS!$X:$X,Parkki!$Y$5,AS!$AV:$AV,Parkki!$Y$2,AS!$CY:$CY,$U$6,AS!$CZ:$CZ,$U$5) -> 0 | E40: =IFERROR(C40/$C$60,"-") -> - | M40: =IFERROR(INDEX($AG$5:$AG$37,MATCH(SMALL($AH$5:$AH$37,T40),$AH$5:$AH$37,0)),"") | N40: =SUMIFS(AS!$W:$W,AS!$AB:$AB,"OK",AS!$AW:$AW,Parkki!$Y$6,AS!$X:$X,Parkki!$Y$5,AS!$AV:$AV,Parkki!$Y$2,AS!$K:$K,Parkki!$U40) -> 0 | O40: =SUMIFS(JA!$Z:$Z,JA!$AE:$AE,"OK",JA!$X:$X,Parkki!$Y$6,JA!$BE:$BE,Parkki!$Y$5,JA!$AI:$AI,Parkki!$Y$2,JA!$Y:$Y,$U40,JA!$CW:$CW,1,JA!$AJ:$AJ,Parkki!$Y$2) -> 0 | P40: =SUMIFS(JA!$Z:$Z,JA!$AE:$AE,"OK",JA!$X:$X,Parkki!$Y$6,JA!$BE:$BE,Parkki!$Y$5,JA!$AI:$AI,Parkki!$Y$2,JA!$Y:$Y,$U40,JA!$AJ:$AJ,Parkki!$Y$2) -> 0 | S40: =IF(M40="",0,1) -> 0 | T40: 28 | U40: =INDEX($AC$5:$AC$37,MATCH(M40,$AD$5:$AD$37,0)) -> ComboBox_TyHlo_yksikko_00000001 | X40: ComboBox_EtKieli#suomi | AE40: ComboBox_EtKieli#
...

Sheet Henkilöstö
A1: Hakuarvot: | V1: Piilota | W1: Piilota | X1: Piilota | Y1: Piilota | Z1: Piilota | AA1: Piilota | AB1: Piilota | AC1: Piilota | AD1: Piilota | AE1: Piilota
A2: =Asiakastilastot!$A$2 -> 46023 | V2: Kyllä, tarkistettu ja siirretään eteenpäin | W2: Kaikki | X2: * | Y2: Kaikki
A3: =Asiakastilastot!$A$3 -> 46387 | V3: Ei tarkistettu, ei siirretä | W3: Yhteydenottopyyntö | X3: ComboBox_EtStatus#yhteydenottopyyntö | Y3: Uudet
V4: Valitsematta | W4: Kontakti | X4: ComboBox_EtStatus#kontakti
A5: =IF(D22=D36,"","Tarkasta HTV yhteensä. Kysymyksissä 1. ja 2. on oltava sama summa") | G5: Tiedot tarkistettu? | W5: Tavoitettu | X5: ComboBox_EtStatus#tavoitettu
A6: =IF(E22=E36,"","Tarkasta HTV, naisia yhteensä. Kysymyksissä 1. ja 2. on oltava sama summa") | G6: Valitsematta | X6: =IF(A6="","*",INDEX($W$1:W5,MATCH($A$2,$V$1:$V$3,0))) -> * | Y6: =IF(#REF!="","*",INDEX(Z8:Z41,MATCH(#REF!,AA8:AA41,0))) -> #REF!
A7: =IF(F22+F36=F50+B66,"","Tarkasta (HLÖ) henkilömäärä yhteensä. Kysymyksissä 1- 4 on oltava sama summa") | X7: OptionButton_TyHlo_N | Y7: OptionButton_TyHlo_M
A8: =IF(G22+G36/2=G50,"","Tarkasta (HLÖ) henkilömäärä, naisia yhteensä. Kysymyksissä 1- 3 on oltava sama summa") | X8: nuori | Y8: vanha
A9: PAR-järjestelmän organisaatio-lehdellä ilmoitetut henkilöstöluvut: | B9: HTV | D9: HLÖ | X9: OK
B10: yhteensä | C10: joista naisia | D10: yhteensä | E10: joista naisia | X10: =" - "&TEXT($A$2,$X$11)&"-"&TEXT($A$3,$X$11)&"" -> - 01.01.2026-31.12.2026
A11: *tietojen tulisi täsmätä henkilöstö-sivun kanssa | B11: =D22 -> 0 | C11: =E22 -> 0 | D11: =F22 -> 0 | E11: =G22 -> 0 | X11: pp.kk.vvvv
A13: ="1. "&W13&X10 -> 1. Henkilöstön määrä - 01.01.2026-31.12.2026 | W13: Henkilöstön määrä | X13: Henkilöstön koulutustausta ja sukupuoli
A14: Työsuhde | D14: HTV | F14: HLÖ | W14: ComboBox_TyHlo_tyosuhde#vakituinen | X14: ComboBox_TyHlo_koulutus#yliopistotutkinto
D15: yhteensä | E15: joista naisia | F15: yhteensä | G15: joista naisia | V15: ComboBox_TyHlo_tyosuhde#muu määräaikaisuus | W15: ComboBox_TyHlo_tyosuhde#vakituisluonteinen | X15: ComboBox_TyHlo_koulutus#ylempi AMK-tutkinto
A16: Vakituisia | D16: =IFERROR(SUMIFS(Data_Kayttis!$AZ:$AZ,Data_Kayttis!$AX:$AX,Henkilöstö!$W14,Data_Kayttis!$AU:$AU,$X$9),"-") -> 0 | E16: =IFERROR(SUMIFS(Data_Kayttis!$AZ:$AZ,Data_Kayttis!$AX:$AX,Henkilöstö!$W14,Data_Kayttis!$C:$C,$X$7,Data_Kayttis!$AU:$AU,$X$9),"-") -> 0 | F16: =IFERROR(COUNTIFS(Data_Kayttis!$AX:$AX,Henkilöstö!$W14,Data_Kayttis!$AU:$AU,$X$9),"-") -> 0 | G16: =IFERROR(COUNTIFS(Data_Kayttis!$AX:$AX,Henkilöstö!$W14,Data_Kayttis!$C:$C,$X$7,Data_Kayttis!$AU:$AU,$X$9),"-") -> 0 | V16: ComboBox_TyHlo_tyosuhde#projektirahoituksella palkattu määräaikainen | W16: ComboBox_TyHlo_tyosuhde#muulla projektirahoituksella palkattu | X16: ComboBox_TyHlo_koulutus#AMK-tutkinto
A17: Projektirahoituksella palkattu määräaikainen | D17: =IFERROR(SUMIFS(Data_Kayttis!$AZ:$AZ,Data_Kayttis!$AX:$AX,Henkilöstö!$V16,Data_Kayttis!$AU:$AU,$X$9),"-")+IFERROR(SUMIFS(Data_Kayttis!$AZ:$AZ,Data_Kayttis!$AX:$AX,Henkilöstö!$W16,Data_Kayttis!$AU:$AU,$X$9),"-") -> 0 | E17: =IFERROR(SUMIFS(Data_Kayttis!$AZ:$AZ,Data_Kayttis!$AX:$AX,Henkilöstö!$V16,Data_Kayttis!$C:$C,$X$7,Data_Kayttis!$AU:$AU,$X$9),"-")+IFERROR(SUMIFS(Data_Kayttis!$AZ:$AZ,Data_Kayttis!$AX:$AX,Henkilöstö!$W16,Data_Kayttis!$C:$C,$X$7,Data_Kayttis!$AU:$AU,$X$9),"-") -> 0 | F17: =IFERROR(COUNTIFS(Data_Kayttis!$AX:$AX,Henkilöstö!$V16,Data_Kayttis!$AU:$AU,$X$9),"-")+IFERROR(COUNTIFS(Data_Kayttis!$AX:$AX,Henkilöstö!$W16,Data_Kayttis!$AU:$AU,$X$9),"-") -> 0 | G17: =IFERROR(COUNTIFS(Data_Kayttis!$AX:$AX,Henkilöstö!$V16,Data_Kayttis!$C:$C,$X$7,Data_Kayttis!$AU:$AU,$X$9),"-")+IFERROR(COUNTIFS(Data_Kayttis!$AX:$AX,Henkilöstö!$W16,Data_Kayttis!$C:$C,$X$7,Data_Kayttis!$AU:$AU,$X$9),"-") -> 0 | W17: ComboBox_TyHlo_tyosuhde#palkkatuella työllistetty | X17: ComboBox_TyHlo_koulutus#2. asteen tutkinto
A18: Muu määräaikaisuus (aikaisemmin vakituisluonteinen) | D18: =IFERROR(SUMIFS(Data_Kayttis!$AZ:$AZ,Data_Kayttis!$AX:$AX,Henkilöstö!$V15,Data_Kayttis!$AU:$AU,$X$9),"-")+IFERROR(SUMIFS(Data_Kayttis!$AZ:$AZ,Data_Kayttis!$AX:$AX,Henkilöstö!$W15,Data_Kayttis!$AU:$AU,$X$9),"-") -> 0 | E18: =IFERROR(SUMIFS(Data_Kayttis!$AZ:$AZ,Data_Kayttis!$AX:$AX,Henkilöstö!$V15,Data_Kayttis!$C:$C,$X$7,Data_Kayttis!$AU:$AU,$X$9),"-")+IFERROR(SUMIFS(Data_Kayttis!$AZ:$AZ,Data_Kayttis!$AX:$AX,Henkilöstö!$W15,Data_Kayttis!$C:$C,$X$7,Data_Kayttis!$AU:$AU,$X$9),"-") -> 0 | F18: =IFERROR(COUNTIFS(Data_Kayttis!$AX:$AX,Henkilöstö!$V15,Data_Kayttis!$AU:$AU,$X$9),"-")+IFERROR(COUNTIFS(Data_Kayttis!$AX:$AX,Henkilöstö!$W15,Data_Kayttis!$AU:$AU,$X$9),"-") -> 0 | G18: =IFERROR(COUNTIFS(Data_Kayttis!$AX:$AX,Henkilöstö!$V15,Data_Kayttis!$C:$C,$X$7,Data_Kayttis!$AU:$AU,$X$9),"-")+IFERROR(COUNTIFS(Data_Kayttis!$AX:$AX,Henkilöstö!$W15,Data_Kayttis!$C:$C,$X$7,Data_Kayttis!$AU:$AU,$X$9),"-") -> 0 | W18: ComboBox_TyHlo_tyosuhde#muu | X18: ComboBox_TyHlo_koulutus#muu ammattitutkinto
A19: Palkkatuella työllistettyjä | D19: =IFERROR(SUMIFS(Data_Kayttis!$AZ:$AZ,Data_Kayttis!$AX:$AX,Henkilöstö!$W17,Data_Kayttis!$AU:$AU,$X$9),"-") -> 0 | E19: =IFERROR(SUMIFS(Data_Kayttis!$AZ:$AZ,Data_Kayttis!$AX:$AX,Henkilöstö!$W17,Data_Kayttis!$C:$C,$X$7,Data_Kayttis!$AU:$AU,$X$9),"-") -> 0 | F19: =IFERROR(COUNTIFS(Data_Kayttis!$AX:$AX,Henkilöstö!$W17,Data_Kayttis!$AU:$AU,$X$9),"-") -> 0 | G19: =IFERROR(COUNTIFS(Data_Kayttis!$AX:$AX,Henkilöstö!$W17,Data_Kayttis!$C:$C,$X$7,Data_Kayttis!$AU:$AU,$X$9),"-") -> 0 | W19: ComboBox_TyHlo_tyosuhde#ei tietoa | X19: ComboBox_TyHlo_koulutus#ei ammatillista koulutusta
A20: Muu | D20: =IFERROR(SUMIFS(Data_Kayttis!$AZ:$AZ,Data_Kayttis!$AX:$AX,Henkilöstö!$W18,Data_Kayttis!$AU:$AU,$X$9),"-") -> 0 | E20: =IFERROR(SUMIFS(Data_Kayttis!$AZ:$AZ,Data_Kayttis!$AX:$AX,Henkilöstö!$W18,Data_Kayttis!$C:$C,$X$7,Data_Kayttis!$AU:$AU,$X$9),"-") -> 0 | F20: =IFERROR(COUNTIFS(Data_Kayttis!$AX:$AX,Henkilöstö!$W18,Data_Kayttis!$AU:$AU,$X$9),"-") -> 0 | G20: =IFERROR(COUNTIFS(Data_Kayttis!$AX:$AX,Henkilöstö!$W18,Data_Kayttis!$C:$C,$X$7,Data_Kayttis!$AU:$AU,$X$9),"-") -> 0 | X20: ComboBox_TyHlo_koulutus#muu koulutus
A21: Ei tietoa | D21: =IFERROR(SUMIFS(Data_Kayttis!$AZ:$AZ,Data_Kayttis!$AX:$AX,Henkilöstö!$W19,Data_Kayttis!$AU:$AU,$X$9),"-") -> 0 | E21: =IFERROR(SUMIFS(Data_Kayttis!$AZ:$AZ,Data_Kayttis!$AX:$AX,Henkilöstö!$W19,Data_Kayttis!$C:$C,$X$7,Data_Kayttis!$AU:$AU,$X$9),"-") -> 0 | F21: =IFERROR(COUNTIFS(Data_Kayttis!$AX:$AX,Henkilöstö!$W19,Data_Kayttis!$AU:$AU,$X$9),"-") -> 0 | G21: =IFERROR(COUNTIFS(Data_Kayttis!$AX:$AX,Henkilöstö!$W19,Data_Kayttis!$C:$C,$X$7,Data_Kayttis!$AU:$AU,$X$9),"-") -> 0 | X21: ComboBox_TyHlo_koulutus#ei tietoa
A22: Yhteensä | D22: =SUM(D16:D21) -> 0 | E22: =SUM(E16:E21) -> 0 | F22: =SUM(F16:F21) -> 0 | G22: =SUM(G16:G21) -> 0
A24: ="2. "&W26&X10&" (laskurissa pääasiallinen tehtävä)" -> 2. Millaisissa tehtävissä henkilöstö toimi? - 01.01.2026-31.12.2026 (laskurissa pääasiallinen tehtävä)
A25: Työtehtävä | B25: HTV (arvio kohdistuen työhön alle 29-vuotiaiden nuorten kanssa) | D25: HTV | F25: HLÖ | AD25: ComboBox_TyHlo_tyoteht#
B26: yhteensä | C26: joista naisia | D26: yhteensä | E26: joista naisia | F26: yhteensä | G26: joista naisia | W26: Millaisissa tehtävissä henkilöstö toimi? | X26: Henkilöstön koulutustausta ja tehtävä | AD26: ComboBox_TyHlo_tyoteht#työvalmentajana
A27: Työvalmentajina | B27: =IFERROR(SUMIFS(Data_Kayttis!$BE:$BE,Data_Kayttis!$BB:$BB,Henkilöstö!$X27,Data_Kayttis!$AU:$AU,$X$9)+SUMIFS(Data_Kayttis!$AZ:$AZ,Data_Kayttis!$BB:$BB,Henkilöstö!$W27,Data_Kayttis!$AU:$AU,$X$9),"-") -> 0 | C27: =IFERROR(SUMIFS(Data_Kayttis!$BE:$BE,Data_Kayttis!$BB:$BB,Henkilöstö!$X27,Data_Kayttis!$C:$C,$X$7,Data_Kayttis!$AU:$AU,$X$9)+SUMIFS(Data_Kayttis!$AZ:$AZ,Data_Kayttis!$BB:$BB,Henkilöstö!$W27,Data_Kayttis!$C:$C,$X$7,Data_Kayttis!$AU:$AU,$X$9),"-") -> 0 | D27: =IFERROR(SUMIFS(Data_Kayttis!$AZ:$AZ,Data_Kayttis!$BB:$BB,Henkilöstö!$X27,Data_Kayttis!$AU:$AU,$X$9)+SUMIFS(Data_Kayttis!$AZ:$AZ,Data_Kayttis!$BB:$BB,Henkilöstö!$W27,Data_Kayttis!$AU:$AU,$X$9),"-") -> 0 | E27: =IFERROR(SUMIFS(Data_Kayttis!$AZ:$AZ,Data_Kayttis!$BB:$BB,Henkilöstö!$X27,Data_Kayttis!$C:$C,$X$7,Data_Kayttis!$AU:$AU,$X$9)+SUMIFS(Data_Kayttis!$AZ:$AZ,Data_Kayttis!$BB:$BB,Henkilöstö!$W27,Data_Kayttis!$C:$C,$X$7,Data_Kayttis!$AU:$AU,$X$9),"-") -> 0 | F27: =IFERROR(COUNTIFS(Data_Kayttis!$BB:$BB,Henkilöstö!$X27,Data_Kayttis!$AU:$AU,$X$9)+COUNTIFS(Data_Kayttis!$BB:$BB,Henkilöstö!$W27,Data_Kayttis!$AU:$AU,$X$9),"-") -> 0 | G27: =IFERROR(COUNTIFS(Data_Kayttis!$BB:$BB,Henkilöstö!$X27,Data_Kayttis!$C:$C,$X$7,Data_Kayttis!$AU:$AU,$X$9)+COUNTIFS(Data_Kayttis!$BB:$BB,Henkilöstö!$W27,Data_Kayttis!$C:$C,$X$7,Data_Kayttis!$AU:$AU,$X$9),"-") -> 0 | W27: ComboBox_TyHlo_tyoteht#työvalmentajana | X27: ComboBox_TyHlo_tyoteht#työ-/työhönvalmentajana | AD27: ComboBox_TyHlo_tyoteht#työhönvalmentajana
A28: Yksilövalmentajina | B28: =IFERROR(SUMIFS(Data_Kayttis!$BE:$BE,Data_Kayttis!$BB:$BB,Henkilöstö!$W28,Data_Kayttis!$AU:$AU,$X$9),"-") -> 0 | C28: =IFERROR(SUMIFS(Data_Kayttis!$BE:$BE,Data_Kayttis!$BB:$BB,Henkilöstö!$W28,Data_Kayttis!$C:$C,$X$7,Data_Kayttis!$AU:$AU,$X$9),"-") -> 0 | D28: =IFERROR(SUMIFS(Data_Kayttis!$AZ:$AZ,Data_Kayttis!$BB:$BB,Henkilöstö!$W28,Data_Kayttis!$AU:$AU,$X$9),"-") -> 0 | E28: =IFERROR(SUMIFS(Data_Kayttis!$AZ:$AZ,Data_Kayttis!$BB:$BB,Henkilöstö!$W28,Data_Kayttis!$C:$C,$X$7,Data_Kayttis!$AU:$AU,$X$9),"-") -> 0 | F28: =IFERROR(COUNTIFS(Data_Kayttis!$BB:$BB,Henkilöstö!$W28,Data_Kayttis!$AU:$AU,$X$9),"-") -> 0 | G28: =IFERROR(COUNTIFS(Data_Kayttis!$BB:$BB,Henkilöstö!$W28,Data_Kayttis!$C:$C,$X$7,Data_Kayttis!$AU:$AU,$X$9),"-") -> 0 | W28: ComboBox_TyHlo_tyoteht#yksilövalmentajana | AD28: ComboBox_TyHlo_tyoteht#yksilövalmentajana
A29: Työhönvalmentajina | B29: =IFERROR(SUMIFS(Data_Kayttis!$BE:$BE,Data_Kayttis!$BB:$BB,Henkilöstö!$W29,Data_Kayttis!$AU:$AU,$X$9),"-") -> 0 | C29: =IFERROR(SUMIFS(Data_Kayttis!$BE:$BE,Data_Kayttis!$BB:$BB,Henkilöstö!$W29,Data_Kayttis!$C:$C,$X$7,Data_Kayttis!$AU:$AU,$X$9),"-") -> 0 | D29: =IFERROR(SUMIFS(Data_Kayttis!$AZ:$AZ,Data_Kayttis!$BB:$BB,Henkilöstö!$W29,Data_Kayttis!$AU:$AU,$X$9),"-") -> 0 | E29: =IFERROR(SUMIFS(Data_Kayttis!$AZ:$AZ,Data_Kayttis!$BB:$BB,Henkilöstö!$W29,Data_Kayttis!$C:$C,$X$7,Data_Kayttis!$AU:$AU,$X$9),"-") -> 0 | F29: =IFERROR(COUNTIFS(Data_Kayttis!$BB:$BB,Henkilöstö!$W29,Data_Kayttis!$AU:$AU,$X$9),"-") -> 0 | G29: =IFERROR(COUNTIFS(Data_Kayttis!$BB:$BB,Henkilöstö!$W29,Data_Kayttis!$C:$C,$X$7,Data_Kayttis!$AU:$AU,$X$9),"-") -> 0 | W29: ComboBox_TyHlo_tyoteht#työhönvalmentajana | AD29: ComboBox_TyHlo_tyoteht#etsivän nuorisotyöntekijänä
A30: Etsivän nuorisotyötekijöinä | B30: =IFERROR(SUMIFS(Data_Kayttis!$BE:$BE,Data_Kayttis!$BB:$BB,Henkilöstö!$W30,Data_Kayttis!$AU:$AU,$X$9),"-") -> 0 | C30: =IFERROR(SUMIFS(Data_Kayttis!$BE:$BE,Data_Kayttis!$BB:$BB,Henkilöstö!$W30,Data_Kayttis!$C:$C,$X$7,Data_Kayttis!$AU:$AU,$X$9),"-") -> 0 | D30: =IFERROR(SUMIFS(Data_Kayttis!$AZ:$AZ,Data_Kayttis!$BB:$BB,Henkilöstö!$W30,Data_Kayttis!$AU:$AU,$X$9),"-") -> 0 | E30: =IFERROR(SUMIFS(Data_Kayttis!$AZ:$AZ,Data_Kayttis!$BB:$BB,Henkilöstö!$W30,Data_Kayttis!$C:$C,$X$7,Data_Kayttis!$AU:$AU,$X$9),"-") -> 0 | F30: =IFERROR(COUNTIFS(Data_Kayttis!$BB:$BB,Henkilöstö!$W30,Data_Kayttis!$AU:$AU,$X$9),"-") -> 0 | G30: =IFERROR(COUNTIFS(Data_Kayttis!$BB:$BB,Henkilöstö!$W30,Data_Kayttis!$C:$C,$X$7,Data_Kayttis!$AU:$AU,$X$9),"-") -> 0 | W30: ComboBox_TyHlo_tyoteht#etsivän nuorisotyöntekijänä | AD30: ComboBox_TyHlo_tyoteht#johtotehtävissä
A31: Johtotehtävissä | B31: =IFERROR(SUMIFS(Data_Kayttis!$BE:$BE,Data_Kayttis!$BB:$BB,Henkilöstö!$W31,Data_Kayttis!$AU:$AU,$X$9),"-") -> 0 | C31: =IFERROR(SUMIFS(Data_Kayttis!$BE:$BE,Data_Kayttis!$BB:$BB,Henkilöstö!$W31,Data_Kayttis!$C:$C,$X$7,Data_Kayttis!$AU:$AU,$X$9),"-") -> 0 | D31: =IFERROR(SUMIFS(Data_Kayttis!$AZ:$AZ,Data_Kayttis!$BB:$BB,Henkilöstö!$W31,Data_Kayttis!$AU:$AU,$X$9),"-") -> 0 | E31: =IFERROR(SUMIFS(Data_Kayttis!$AZ:$AZ,Data_Kayttis!$BB:$BB,Henkilöstö!$W31,Data_Kayttis!$C:$C,$X$7,Data_Kayttis!$AU:$AU,$X$9),"-") -> 0 | F31: =IFERROR(COUNTIFS(Data_Kayttis!$BB:$BB,Henkilöstö!$W31,Data_Kayttis!$AU:$AU,$X$9),"-") -> 0 | G31: =IFERROR(COUNTIFS(Data_Kayttis!$BB:$BB,Henkilöstö!$W31,Data_Kayttis!$C:$C,$X$7,Data_Kayttis!$AU:$AU,$X$9),"-") -> 0 | W31: ComboBox_TyHlo_tyoteht#johtotehtävissä | AD31: ComboBox_TyHlo_tyoteht#kehittämis- ja suunnittelutehtävissä
A32: Kehittämis- ja suunnittelutehtävissä | B32: =IFERROR(SUMIFS(Data_Kayttis!$BE:$BE,Data_Kayttis!$BB:$BB,Henkilöstö!$W32,Data_Kayttis!$AU:$AU,$X$9),"-") -> 0 | C32: =IFERROR(SUMIFS(Data_Kayttis!$BE:$BE,Data_Kayttis!$BB:$BB,Henkilöstö!$W32,Data_Kayttis!$C:$C,$X$7,Data_Kayttis!$AU:$AU,$X$9),"-") -> 0 | D32: =IFERROR(SUMIFS(Data_Kayttis!$AZ:$AZ,Data_Kayttis!$BB:$BB,Henkilöstö!$W32,Data_Kayttis!$AU:$AU,$X$9),"-") -> 0 | E32: =IFERROR(SUMIFS(Data_Kayttis!$AZ:$AZ,Data_Kayttis!$BB:$BB,Henkilöstö!$W32,Data_Kayttis!$C:$C,$X$7,Data_Kayttis!$AU:$AU,$X$9),"-") -> 0 | F32: =IFERROR(COUNTIFS(Data_Kayttis!$BB:$BB,Henkilöstö!$W32,Data_Kayttis!$AU:$AU,$X$9),"-") -> 0 | G32: =IFERROR(COUNTIFS(Data_Kayttis!$BB:$BB,Henkilöstö!$W32,Data_Kayttis!$C:$C,$X$7,Data_Kayttis!$AU:$AU,$X$9),"-") -> 0 | W32: ComboBox_TyHlo_tyoteht#kehittämis- ja suunnittelutehtävissä | AD32: ComboBox_TyHlo_tyoteht#muissa hallinnon työtehtävissä
A33: Muissa hallinnon työtehtävissä | B33: =IFERROR(SUMIFS(Data_Kayttis!$BE:$BE,Data_Kayttis!$BB:$BB,Henkilöstö!$W33,Data_Kayttis!$AU:$AU,$X$9),"-") -> 0 | C33: =IFERROR(SUMIFS(Data_Kayttis!$BE:$BE,Data_Kayttis!$BB:$BB,Henkilöstö!$W33,Data_Kayttis!$C:$C,$X$7,Data_Kayttis!$AU:$AU,$X$9),"-") -> 0 | D33: =IFERROR(SUMIFS(Data_Kayttis!$AZ:$AZ,Data_Kayttis!$BB:$BB,Henkilöstö!$W33,Data_Kayttis!$AU:$AU,$X$9),"-") -> 0 | E33: =IFERROR(SUMIFS(Data_Kayttis!$AZ:$AZ,Data_Kayttis!$BB:$BB,Henkilöstö!$W33,Data_Kayttis!$C:$C,$X$7,Data_Kayttis!$AU:$AU,$X$9),"-") -> 0 | F33: =IFERROR(COUNTIFS(Data_Kayttis!$BB:$BB,Henkilöstö!$W33,Data_Kayttis!$AU:$AU,$X$9),"-") -> 0 | G33: =IFERROR(COUNTIFS(Data_Kayttis!$BB:$BB,Henkilöstö!$W33,Data_Kayttis!$C:$C,$X$7,Data_Kayttis!$AU:$AU,$X$9),"-") -> 0 | W33: ComboBox_TyHlo_tyoteht#muissa hallinnon työtehtävissä | AD33: ComboBox_TyHlo_tyoteht#muissa tehtävissä
A34: Muissa tehtävissä | B34: =IFERROR(SUMIFS(Data_Kayttis!$BE:$BE,Data_Kayttis!$BB:$BB,Henkilöstö!$W34,Data_Kayttis!$AU:$AU,$X$9),"-") -> 0 | C34: =IFERROR(SUMIFS(Data_Kayttis!$BE:$BE,Data_Kayttis!$BB:$BB,Henkilöstö!$W34,Data_Kayttis!$C:$C,$X$7,Data_Kayttis!$AU:$AU,$X$9),"-") -> 0 | D34: =IFERROR(SUMIFS(Data_Kayttis!$AZ:$AZ,Data_Kayttis!$BB:$BB,Henkilöstö!$W34,Data_Kayttis!$AU:$AU,$X$9),"-") -> 0 | E34: =IFERROR(SUMIFS(Data_Kayttis!$AZ:$AZ,Data_Kayttis!$BB:$BB,Henkilöstö!$W34,Data_Kayttis!$C:$C,$X$7,Data_Kayttis!$AU:$AU,$X$9),"-") -> 0 | F34: =IFERROR(COUNTIFS(Data_Kayttis!$BB:$BB,Henkilöstö!$W34,Data_Kayttis!$AU:$AU,$X$9),"-") -> 0 | G34: =IFERROR(COUNTIFS(Data_Kayttis!$BB:$BB,Henkilöstö!$W34,Data_Kayttis!$C:$C,$X$7,Data_Kayttis!$AU:$AU,$X$9),"-") -> 0 | W34: ComboBox_TyHlo_tyoteht#muissa tehtävissä | AD34: ComboBox_TyHlo_tyoteht#ei tietoa
