Workbook
Name Asiakkuudentila: #REF!
Name Asiakkuudentila: #REF!
Name Asumismuoto: #REF!
Name Asumismuoto: #REF!
Name Etsivä: #REF!
Name Etsivä: #REF!
Name ewq: #REF!
Name ewq: #REF!
Name Koulutustausta: #REF!
Name Koulutustausta: #REF!
Name Piiriin: #REF!
Name Piiriin: #REF!
Name Päättyminen: #REF!
Name Päättyminen: #REF!
Name Tila: #REF!
Name Tila: #REF!
Name Toimeentulo: #REF!
Name Toimeentulo: #REF!
Name Toiminta: #REF!
Name Toiminta: #REF!
Name xAsiakkuuden_tila: #REF!
Name xAsiakkuuden_tila: #REF!
Name xATK_taso: #REF!
Name xATK_taso: #REF!
Name xccxcx: #REF!
Name xccxcx: #REF!
Name xcxcx: #REF!
Name xcxcx: #REF!
Name xEnsisijainen_kesto: #REF!
Name xEnsisijainen_kesto: #REF!
Name xKirjallinen_suomenkieli: #REF!
Name xKirjallinen_suomenkieli: #REF!
Name xkoulutustausta_NYT: #REF!
Name xkoulutustausta_NYT: #REF!
Name xkoulutustilanne_NYT: #REF!
Name xkoulutustilanne_NYT: #REF!
Name xPääasiallinen_asumismuoto_ALKU: #REF!
Name xPääasiallinen_asumismuoto_ALKU: #REF!
Name xPääasiallinen_toimeentulo_ALKU: #REF!
Name xPääasiallinen_toimeentulo_ALKU: #REF!
Name xPääasiallinen_toiminta_ALKU: #REF!
Name xPääasiallinen_toiminta_ALKU: #REF!
Name xsaapuminen: #REF!
Name xsaapuminen: #REF!
Name xSijoittuminen: #REF!
Name xSijoittuminen: #REF!
Name xSiviilisääty: #REF!
Name xSiviilisääty: #REF!
Name xSuullinen_suomenkieli: #REF!
Name xSuullinen_suomenkieli: #REF!
Name xvuoden_jälkeen: #REF!
Name xvuoden_jälkeen: #REF!
Name xäidinkieli: #REF!
Name xäidinkieli: #REF!
Name Äidinkieli: #REF!
Name Äidinkieli: #REF!

Sheet Parkki
A1: =F1 -> Hakuarvot: | F1: Hakuarvot: | S1: Piilota | T1: Piilota | U1: Piilota | V1: Piilota | W1: Piilota | X1: Piilota | Y1: =IF(F5="","*",INDEX(AE5:AE61,MATCH(F5,AD5:AD61,0))) -> * | Z1: Piilota | AA1: Piilota | AB1: Piilota | AC1: Piilota | AD1: Piilota | AE1: Piilota | AF1: Piilota | AG1: Piilota | AH1: Piilota | AI1: Piilota | AJ1: Piilota | AK1: Piilota
A2: =F2 -> 46023 | F2: =Asiakastilastot!$A$2 -> 46023 | G2: > Hakuaika, aloitus | V2: perustiedoista | X2: Kaikki | Y2: =IF(F6=X3,"OK","*") -> * | Z2: KAIKKI: | AA2: hakuarvo | AB2: ComboBox_EtKun | AC2: hakuarvo | AD2: ComboBox_TyOma
A3: =F3 -> 46387 | F3: =Asiakastilastot!$A$3 -> 46387 | G3: > Hakuaika, päätös | V3: jaksoista | X3: Uudet | Z3: UUDET: | AA3: montako | AB3: =INDEX(Data_Omakoodi!K:K,MATCH($AB$2,Data_Omakoodi!$I:$I,0)) -> #N/A | AC3: montako | AD3: =INDEX(Data_Omakoodi!K:K,MATCH($AD$2,Data_Omakoodi!$I:$I,0)) -> #N/A | AG3: yksiköt | AJ3: kunnat
A4: =F4 -> Kaikki kunnat | F4: Kaikki kunnat | G4: > Kunta | I4: perustiedoista | J4: > Hae valittu kunta perustiedoista tai jaksoista | X4: Uudet (ei vanhoja jaksoja) | Y4: =IF(F7="","*",IF(F7=X2,"*",IF(F7=X3,X9,"*"))) -> * | AA4: 1. rivi | AB4: =IFERROR(MATCH($AB$2,Data_Omakoodi!$I:$I,0),"") | AC4: 1. rivi | AD4: =IFERROR(MATCH($AB$2,Data_Omakoodi!$I:$I,0),"") | AH4: hae seuraava rivi | AK4: hae seuraava rivi
A5: =F5 -> Kaikki yksiköt | F5: Kaikki yksiköt | G5: > Yksikkö | I5: perustiedoista | J5: > Hae valittu yksikkö perustiedoista tai jaksoista | U5: =IF(W5="*","*","OK") -> * | V5: jaksoista kunta: | W5: =IF($I$4="","*",IF($I$4=$V$2,"*",$Y$6)) -> * | Y5: =IF(F6="","*",IF(F6=X2,"*",IF(F6=X4,X9,"*"))) -> * | AA5: * | AB5: Kaikki kunnat | AC5: * | AD5: Kaikki yksiköt | AE5: * | AG5: =TEXT(AD5,"@") -> Kaikki yksiköt | AH5: =IF(AG5<>"",ROW(),"") -> 5 | AJ5: =TEXT(AB5,"@") -> Kaikki kunnat | AK5: =IF(AJ5<>"",ROW(),"") -> 5
A6: =F6 -> Kaikki | F6: Kaikki | G6: > Asiakkuus | U6: =IF(W6="*","*","OK") -> * | V6: jaksoista yksikkö: | W6: =IF($I$5="","*",IF($I$5=$V$2,"*",$Y$1)) -> * | Y6: =IF(F4="","*",INDEX(AA5:AA61,MATCH(F4,AB5:AB61,0))) -> * | AA6: tyhja | AB6: Ei kuntaluokkaa | AC6: tyhja | AD6: Ei yksiköitä | AE6: tyhja | AG6: =TEXT(AD6,"@") -> Ei yksiköitä | AH6: =IF(AG6<>"",ROW(),"") -> 6 | AJ6: =TEXT(AB6,"@") -> Ei kuntaluokkaa | AK6: =IF(AJ6<>"",ROW(),"") -> 6
A7: =F7 -> Kaikki | F7: Kaikki | G7: > Toimenpiteet | V7: kaikki yksikkö: | W7: =IF($I$5=V3,"*",$Y$1) -> * | X7: OptionButton_EtNainen | Y7: OptionButton_EtMies | AA7: muut | AB7: Muut kunnat | AC7: muut | AD7: Muut yksiköt | AE7: muut | AG7: =TEXT(AD7,"@") -> Muut yksiköt | AH7: =IF(AG7<>"",ROW(),"") -> 7 | AJ7: =TEXT(AB7,"@") -> Muut kunnat | AK7: =IF(AJ7<>"",ROW(),"") -> 7
A8: 46245 | V8: kaikki kunnat: | W8: =IF($I$4=V3,"*",$Y$6) -> * | X8: nuori | AA8: ComboBox_EtKuntakoodi_00000001 | AB8: =IFERROR(INDEX(Data_Omakoodi!E:E,MATCH(AA8,Data_Omakoodi!A:A,0)),"") | AC8: ComboBox_TyHlo_yksikko_00000001 | AD8: =IFERROR(INDEX(Data_Omakoodi!E:E,MATCH(AC8,Data_Omakoodi!A:A,0)),"") | AE8: ComboBox_TyHlo_yksikko_00000001 | AF8: ComboBox_yksikko_00000001 | AG8: =TEXT(AD8,"@") | AH8: =IF(AG8<>"",ROW(),"") | AJ8: =TEXT(AB8,"@") | AK8: =IF(AJ8<>"",ROW(),"")
B9: =IF(Henkilöstö!G6="Valitsematta","Tarkista Henkilöstö-lehden tiedot aina tammikuussa",IF(LEFT(Henkilöstö!G6,5)="Kyllä","HIENOA! Nyt myös Henkilöstö-lehden tiedot on tarkistettu","Henkilöstölehden tiedot lähetetään eteenpäin tarkistamatta, kirjoita lisäselvitys saatteeksi")) -> Tarkista Henkilöstö-lehden tiedot aina tammikuussa | M9: ="Yksiköt "&X10&F4 -> Yksiköt - 01.01.2026-31.12.2026 Kaikki kunnat | X9: OK | AA9: ComboBox_EtKuntakoodi_00000002 | AB9: =IFERROR(INDEX(Data_Omakoodi!E:E,MATCH(AA9,Data_Omakoodi!A:A,0)),"") | AC9: ComboBox_TyHlo_yksikko_00000002 | AD9: =IFERROR(INDEX(Data_Omakoodi!E:E,MATCH(AC9,Data_Omakoodi!A:A,0)),"") | AE9: ComboBox_TyHlo_yksikko_00000002 | AF9: ComboBox_yksikko_00000002 | AG9: =TEXT(AD9,"@") | AH9: =IF(AG9<>"",ROW(),"") | AJ9: =TEXT(AB9,"@") | AK9: =IF(AJ9<>"",ROW(),"")
M10: Organisaation yksiköt | N10: Kaikki henkilöt | O10: Henkilöt / yksikkö | P10: Sopimus-jaksot /yksikkö | W10: =" - "&TEXT($F$2-365,$X$11)&"-"&TEXT($F$2-1,$X$11)&" " -> - 01.01.2025-31.12.2025 | X10: =" - "&TEXT($F$2,$X$11)&"-"&TEXT($F$3,$X$11)&" " -> - 01.01.2026-31.12.2026 | AA10: ComboBox_EtKuntakoodi_00000003 | AB10: =IFERROR(INDEX(Data_Omakoodi!E:E,MATCH(AA10,Data_Omakoodi!A:A,0)),"") | AC10: ComboBox_TyHlo_yksikko_00000003 | AD10: =IFERROR(INDEX(Data_Omakoodi!E:E,MATCH(AC10,Data_Omakoodi!A:A,0)),"") | AE10: ComboBox_TyHlo_yksikko_00000003 | AF10: ComboBox_yksikko_00000003 | AG10: =TEXT(AD10,"@") | AH10: =IF(AG10<>"",ROW(),"") | AJ10: =TEXT(AB10,"@") | AK10: =IF(AJ10<>"",ROW(),"")
A11: =COUNTIFS(AS!U:U,"Y",AS!AB:AB,"OK",AS!$AW:$AW,$W$8,AS!$X:$X,Parkki!$Y$5,AS!$K:$K,$W$7,AS!$AV:$AV,Parkki!$Y$2,AS!$CY:$CY,$U$6,AS!$CZ:$CZ,$U$5) -> 0 | B11: =IF(A11>0,"HUOM! Laskennassa on etsivien ja pajojen yhteisiä asiakkaita yhteensä: "&A11,"") | X11: pp.kk.vvvv | Y11: Kuva: | AA11: ComboBox_EtKuntakoodi_00000004 | AB11: =IFERROR(INDEX(Data_Omakoodi!E:E,MATCH(AA11,Data_Omakoodi!A:A,0)),"") | AC11: ComboBox_TyHlo_yksikko_00000004 | AD11: =IFERROR(INDEX(Data_Omakoodi!E:E,MATCH(AC11,Data_Omakoodi!A:A,0)),"") | AE11: ComboBox_TyHlo_yksikko_00000004 | AF11: ComboBox_yksikko_00000004 | AG11: =TEXT(AD11,"@") | AH11: =IF(AG11<>"",ROW(),"") | AJ11: =TEXT(AB11,"@") | AK11: =IF(AJ11<>"",ROW(),"")
A12: =COUNTIFS(AS!J:J,AS!$G$1,AS!AB:AB,"OK",AS!$AW:$AW,$W$8,AS!$X:$X,Parkki!$Y$5,AS!$K:$K,$W$7,AS!$AV:$AV,Parkki!$Y$2,AS!$CY:$CY,$U$6,AS!$CZ:$CZ,$U$5) -> 0 | B12: =IF(A12>0,IF(A12=1,"Tiedoksi: Muunsukupuolisia on "&A12&" henkilö. Tilastoissa hänen tietoja ei eritellä.","Tiedoksi: Muunsukupuolisia on yhteensä: "&A12&" henkilöä. Tilastoissa heidän tietoja ei eritellä."),"") | X12: ="("&F4&" - tiedot "&I4&", "&F5&" - tiedot "&I5&", "&F6&" asiakkuudet"&")" -> (Kaikki kunnat - tiedot perustiedoista, Kaikki yksiköt - tiedot perustiedoista, Kaikki asiakkuudet) | AA12: ComboBox_EtKuntakoodi_00000005 | AB12: =IFERROR(INDEX(Data_Omakoodi!E:E,MATCH(AA12,Data_Omakoodi!A:A,0)),"") | AC12: ComboBox_TyHlo_yksikko_00000005 | AD12: =IFERROR(INDEX(Data_Omakoodi!E:E,MATCH(AC12,Data_Omakoodi!A:A,0)),"") | AE12: ComboBox_TyHlo_yksikko_00000005 | AF12: ComboBox_yksikko_00000005 | AG12: =TEXT(AD12,"@") | AH12: =IF(AG12<>"",ROW(),"") | AJ12: =TEXT(AB12,"@") | AK12: =IF(AJ12<>"",ROW(),"")
B13: ="Työpajalla olleiden valmentautujien ikä ja sukupuoli "&X10&X12 -> Työpajalla olleiden valmentautujien ikä ja sukupuoli - 01.01.2026-31.12.2026 (Kaikki kunnat - tiedot perustiedoista, Kaikki yksiköt - tiedot perustiedoista, Kaikki asiakkuudet) | M13: =IFERROR(INDEX($AG$5:$AG$37,MATCH(SMALL($AH$5:$AH$37,T13),$AH$5:$AH$37,0)),"") -> Kaikki yksiköt | N13: =SUMIFS(AS!$W:$W,AS!$AB:$AB,"OK",AS!$AW:$AW,Parkki!$Y$6,AS!$X:$X,Parkki!$Y$5,AS!$AV:$AV,Parkki!$Y$2,AS!$K:$K,Parkki!$U13) -> 0 | O13: =SUMIFS(JA!$Z:$Z,JA!$AE:$AE,"OK",JA!$AX:$AX,Parkki!$Y$6,JA!$BE:$BE,Parkki!$Y$5,JA!$AI:$AI,Parkki!$Y$2,JA!$Y:$Y,$U13,JA!$CW:$CW,1,JA!$AJ:$AJ,Parkki!$Y$2) -> 0 | P13: =SUMIFS(JA!$Z:$Z,JA!$AE:$AE,"OK",JA!$AX:$AX,Parkki!$Y$6,JA!$BE:$BE,Parkki!$Y$5,JA!$AI:$AI,Parkki!$Y$2,JA!$Y:$Y,$U13,JA!$AJ:$AJ,Parkki!$Y$2) -> 0 | S13: =IF(M13="",0,1) -> 1 | T13: 1 | U13: =INDEX($AC$5:$AC$37,MATCH(M13,$AD$5:$AD$37,0)) -> * | AA13: ComboBox_EtKuntakoodi_00000006 | AB13: =IFERROR(INDEX(Data_Omakoodi!E:E,MATCH(AA13,Data_Omakoodi!A:A,0)),"") | AC13: ComboBox_TyHlo_yksikko_00000006 | AD13: =IFERROR(INDEX(Data_Omakoodi!E:E,MATCH(AC13,Data_Omakoodi!A:A,0)),"") | AE13: ComboBox_TyHlo_yksikko_00000006 | AF13: ComboBox_yksikko_00000006 | AG13: =TEXT(AD13,"@") | AH13: =IF(AG13<>"",ROW(),"") | AJ13: =TEXT(AB13,"@") | AK13: =IF(AJ13<>"",ROW(),"")
M14: =IFERROR(INDEX($AG$5:$AG$37,MATCH(SMALL($AH$5:$AH$37,T14),$AH$5:$AH$37,0)),"") -> Ei yksiköitä | N14: =SUMIFS(AS!$W:$W,AS!$AB:$AB,"OK",AS!$AW:$AW,Parkki!$Y$6,AS!$X:$X,Parkki!$Y$5,AS!$AV:$AV,Parkki!$Y$2,AS!$K:$K,Parkki!$U14) -> 0 | O14: =SUMIFS(JA!$Z:$Z,JA!$AE:$AE,"OK",JA!$X:$X,Parkki!$Y$6,JA!$BE:$BE,Parkki!$Y$5,JA!$AI:$AI,Parkki!$Y$2,JA!$Y:$Y,$U14,JA!$CW:$CW,1,JA!$AJ:$AJ,Parkki!$Y$2) -> 0 | P14: =SUMIFS(JA!$Z:$Z,JA!$AE:$AE,"OK",JA!$X:$X,Parkki!$Y$6,JA!$BE:$BE,Parkki!$Y$5,JA!$AI:$AI,Parkki!$Y$2,JA!$Y:$Y,$U14,JA!$AJ:$AJ,Parkki!$Y$2) -> 0 | S14: =IF(M14="",0,1) -> 1 | T14: 2 | U14: =INDEX($AC$5:$AC$37,MATCH(M14,$AD$5:$AD$37,0)) -> tyhja | X14: OptionButton_EtMies | AA14: ComboBox_EtKuntakoodi_00000007 | AB14: =IFERROR(INDEX(Data_Omakoodi!E:E,MATCH(AA14,Data_Omakoodi!A:A,0)),"") | AC14: ComboBox_TyHlo_yksikko_00000007 | AD14: =IFERROR(INDEX(Data_Omakoodi!E:E,MATCH(AC14,Data_Omakoodi!A:A,0)),"") | AE14: ComboBox_TyHlo_yksikko_00000007 | AF14: ComboBox_yksikko_00000007 | AG14: =TEXT(AD14,"@") | AH14: =IF(AG14<>"",ROW(),"") | AJ14: =TEXT(AB14,"@") | AK14: =IF(AJ14<>"",ROW(),"")
C15: kaikki | D15: joista naisia | M15: =IFERROR(INDEX($AG$5:$AG$37,MATCH(SMALL($AH$5:$AH$37,T15),$AH$5:$AH$37,0)),"") -> Muut yksiköt | N15: =SUMIFS(AS!$W:$W,AS!$AB:$AB,"OK",AS!$AW:$AW,Parkki!$Y$6,AS!$X:$X,Parkki!$Y$5,AS!$AV:$AV,Parkki!$Y$2,AS!$K:$K,Parkki!$U15) -> 0 | O15: =SUMIFS(JA!$Z:$Z,JA!$AE:$AE,"OK",JA!$X:$X,Parkki!$Y$6,JA!$BE:$BE,Parkki!$Y$5,JA!$AI:$AI,Parkki!$Y$2,JA!$Y:$Y,$U15,JA!$CW:$CW,1,JA!$AJ:$AJ,Parkki!$Y$2) -> 0 | P15: =SUMIFS(JA!$Z:$Z,JA!$AE:$AE,"OK",JA!$X:$X,Parkki!$Y$6,JA!$BE:$BE,Parkki!$Y$5,JA!$AI:$AI,Parkki!$Y$2,JA!$Y:$Y,$U15,JA!$AJ:$AJ,Parkki!$Y$2) -> 0 | S15: =IF(M15="",0,1) -> 1 | T15: 3 | U15: =INDEX($AC$5:$AC$37,MATCH(M15,$AD$5:$AD$37,0)) -> muut | V15: summa | W15: AS!$W:$W | X15: OptionButton_EtNainen | AA15: ComboBox_EtKuntakoodi_00000008 | AB15: =IFERROR(INDEX(Data_Omakoodi!E:E,MATCH(AA15,Data_Omakoodi!A:A,0)),"") | AC15: ComboBox_TyHlo_yksikko_00000008 | AD15: =IFERROR(INDEX(Data_Omakoodi!E:E,MATCH(AC15,Data_Omakoodi!A:A,0)),"") | AE15: ComboBox_TyHlo_yksikko_00000008 | AF15: ComboBox_yksikko_00000008 | AG15: =TEXT(AD15,"@") | AH15: =IF(AG15<>"",ROW(),"") | AJ15: =TEXT(AB15,"@") | AK15: =IF(AJ15<>"",ROW(),"")
B16: Alle 17-vuotiaita | C16: =SUMIFS(AS!$W:$W,AS!$AB:$AB,"OK",AS!$AG:$AG,Parkki!X16,AS!$AW:$AW,$W$8,AS!$X:$X,Parkki!$Y$5,AS!$K:$K,$W$7,AS!$AV:$AV,Parkki!$Y$2,AS!$CY:$CY,$U$6,AS!$CZ:$CZ,$U$5) -> 0 | D16: =SUMIFS(AS!$W:$W,AS!$AB:$AB,"OK",AS!$AG:$AG,Parkki!$X16,AS!$F:$F,Parkki!$X$15,AS!$AW:$AW,$W$8,AS!$X:$X,Parkki!$Y$5,AS!$K:$K,$W$7,AS!$AV:$AV,Parkki!$Y$2,AS!$CY:$CY,$U$6,AS!$CZ:$CZ,$U$5) -> 0 | M16: =IFERROR(INDEX($AG$5:$AG$37,MATCH(SMALL($AH$5:$AH$37,T16),$AH$5:$AH$37,0)),"") | N16: =SUMIFS(AS!$W:$W,AS!$AB:$AB,"OK",AS!$AW:$AW,Parkki!$Y$6,AS!$X:$X,Parkki!$Y$5,AS!$AV:$AV,Parkki!$Y$2,AS!$K:$K,Parkki!$U16) -> 0 | O16: =SUMIFS(JA!$Z:$Z,JA!$AE:$AE,"OK",JA!$X:$X,Parkki!$Y$6,JA!$BE:$BE,Parkki!$Y$5,JA!$AI:$AI,Parkki!$Y$2,JA!$Y:$Y,$U16,JA!$CW:$CW,1,JA!$AJ:$AJ,Parkki!$Y$2) -> 0 | P16: =SUMIFS(JA!$Z:$Z,JA!$AE:$AE,"OK",JA!$X:$X,Parkki!$Y$6,JA!$BE:$BE,Parkki!$Y$5,JA!$AI:$AI,Parkki!$Y$2,JA!$Y:$Y,$U16,JA!$AJ:$AJ,Parkki!$Y$2) -> 0 | S16: =IF(M16="",0,1) -> 0 | T16: 4 | U16: =INDEX($AC$5:$AC$37,MATCH(M16,$AD$5:$AD$37,0)) -> ComboBox_TyHlo_yksikko_00000001 | V16: osuuko henkilö > jaksoilta haku | W16: ;AS!$AB:$AB;"OK" | X16: alle 17 | AA16: ComboBox_EtKuntakoodi_00000009 | AB16: =IFERROR(INDEX(Data_Omakoodi!E:E,MATCH(AA16,Data_Omakoodi!A:A,0)),"") | AC16: ComboBox_TyHlo_yksikko_00000009 | AD16: =IFERROR(INDEX(Data_Omakoodi!E:E,MATCH(AC16,Data_Omakoodi!A:A,0)),"") | AE16: ComboBox_TyHlo_yksikko_00000009 | AF16: ComboBox_yksikko_00000009 | AG16: =TEXT(AD16,"@") | AH16: =IF(AG16<>"",ROW(),"") | AJ16: =TEXT(AB16,"@") | AK16: =IF(AJ16<>"",ROW(),"")
B17: 17-20-vuotiaita | C17: =SUMIFS(AS!$W:$W,AS!$AB:$AB,"OK",AS!$AG:$AG,Parkki!X17,AS!$AW:$AW,$W$8,AS!$X:$X,Parkki!$Y$5,AS!$K:$K,$W$7,AS!$AV:$AV,Parkki!$Y$2,AS!$CY:$CY,$U$6,AS!$CZ:$CZ,$U$5) -> 0 | D17: =SUMIFS(AS!$W:$W,AS!$AB:$AB,"OK",AS!$AG:$AG,Parkki!$X17,AS!$F:$F,Parkki!$X$15,AS!$AW:$AW,$W$8,AS!$X:$X,Parkki!$Y$5,AS!$K:$K,$W$7,AS!$AV:$AV,Parkki!$Y$2,AS!$CY:$CY,$U$6,AS!$CZ:$CZ,$U$5) -> 0 | M17: =IFERROR(INDEX($AG$5:$AG$37,MATCH(SMALL($AH$5:$AH$37,T17),$AH$5:$AH$37,0)),"") | N17: =SUMIFS(AS!$W:$W,AS!$AB:$AB,"OK",AS!$AW:$AW,Parkki!$Y$6,AS!$X:$X,Parkki!$Y$5,AS!$AV:$AV,Parkki!$Y$2,AS!$K:$K,Parkki!$U17) -> 0 | O17: =SUMIFS(JA!$Z:$Z,JA!$AE:$AE,"OK",JA!$X:$X,Parkki!$Y$6,JA!$BE:$BE,Parkki!$Y$5,JA!$AI:$AI,Parkki!$Y$2,JA!$Y:$Y,$U17,JA!$CW:$CW,1,JA!$AJ:$AJ,Parkki!$Y$2) -> 0 | P17: =SUMIFS(JA!$Z:$Z,JA!$AE:$AE,"OK",JA!$X:$X,Parkki!$Y$6,JA!$BE:$BE,Parkki!$Y$5,JA!$AI:$AI,Parkki!$Y$2,JA!$Y:$Y,$U17,JA!$AJ:$AJ,Parkki!$Y$2) -> 0 | S17: =IF(M17="",0,1) -> 0 | T17: 5 | U17: =INDEX($AC$5:$AC$37,MATCH(M17,$AD$5:$AD$37,0)) -> ComboBox_TyHlo_yksikko_00000001 | V17: kunta | W17: ;AS!$AW:$AW;Parkki!$Y$6 | X17: 17-20 | AA17: ComboBox_EtKuntakoodi_00000010 | AB17: =IFERROR(INDEX(Data_Omakoodi!E:E,MATCH(AA17,Data_Omakoodi!A:A,0)),"") | AC17: ComboBox_TyHlo_yksikko_00000010 | AD17: =IFERROR(INDEX(Data_Omakoodi!E:E,MATCH(AC17,Data_Omakoodi!A:A,0)),"") | AE17: ComboBox_TyHlo_yksikko_00000010 | AF17: ComboBox_yksikko_00000010 | AG17: =TEXT(AD17,"@") | AH17: =IF(AG17<>"",ROW(),"") | AJ17: =TEXT(AB17,"@") | AK17: =IF(AJ17<>"",ROW(),"")
B18: 21-24-vuotiaita | C18: =SUMIFS(AS!$W:$W,AS!$AB:$AB,"OK",AS!$AG:$AG,Parkki!X18,AS!$AW:$AW,$W$8,AS!$X:$X,Parkki!$Y$5,AS!$K:$K,$W$7,AS!$AV:$AV,Parkki!$Y$2,AS!$CY:$CY,$U$6,AS!$CZ:$CZ,$U$5) -> 0 | D18: =SUMIFS(AS!$W:$W,AS!$AB:$AB,"OK",AS!$AG:$AG,Parkki!$X18,AS!$F:$F,Parkki!$X$15,AS!$AW:$AW,$W$8,AS!$X:$X,Parkki!$Y$5,AS!$K:$K,$W$7,AS!$AV:$AV,Parkki!$Y$2,AS!$CY:$CY,$U$6,AS!$CZ:$CZ,$U$5) -> 0 | M18: =IFERROR(INDEX($AG$5:$AG$37,MATCH(SMALL($AH$5:$AH$37,T18),$AH$5:$AH$37,0)),"") | N18: =SUMIFS(AS!$W:$W,AS!$AB:$AB,"OK",AS!$AW:$AW,Parkki!$Y$6,AS!$X:$X,Parkki!$Y$5,AS!$AV:$AV,Parkki!$Y$2,AS!$K:$K,Parkki!$U18) -> 0 | O18: =SUMIFS(JA!$Z:$Z,JA!$AE:$AE,"OK",JA!$X:$X,Parkki!$Y$6,JA!$BE:$BE,Parkki!$Y$5,JA!$AI:$AI,Parkki!$Y$2,JA!$Y:$Y,$U18,JA!$CW:$CW,1,JA!$AJ:$AJ,Parkki!$Y$2) -> 0 | P18: =SUMIFS(JA!$Z:$Z,JA!$AE:$AE,"OK",JA!$X:$X,Parkki!$Y$6,JA!$BE:$BE,Parkki!$Y$5,JA!$AI:$AI,Parkki!$Y$2,JA!$Y:$Y,$U18,JA!$AJ:$AJ,Parkki!$Y$2) -> 0 | S18: =IF(M18="",0,1) -> 0 | T18: 6 | U18: =INDEX($AC$5:$AC$37,MATCH(M18,$AD$5:$AD$37,0)) -> ComboBox_TyHlo_yksikko_00000001 | V18: uusi hlö | W18: ;AS!$X:$X;Parkki!$Y$5 | X18: 21-24 | AA18: ComboBox_EtKuntakoodi_00000011 | AB18: =IFERROR(INDEX(Data_Omakoodi!E:E,MATCH(AA18,Data_Omakoodi!A:A,0)),"") | AC18: ComboBox_TyHlo_yksikko_00000011 | AD18: =IFERROR(INDEX(Data_Omakoodi!E:E,MATCH(AC18,Data_Omakoodi!A:A,0)),"") | AE18: ComboBox_TyHlo_yksikko_00000011 | AF18: ComboBox_yksikko_00000011 | AG18: =TEXT(AD18,"@") | AH18: =IF(AG18<>"",ROW(),"") | AJ18: =TEXT(AB18,"@") | AK18: =IF(AJ18<>"",ROW(),"")
B19: 25-28-vuotiaita | C19: =SUMIFS(AS!$W:$W,AS!$AB:$AB,"OK",AS!$AG:$AG,Parkki!X19,AS!$AW:$AW,$W$8,AS!$X:$X,Parkki!$Y$5,AS!$K:$K,$W$7,AS!$AV:$AV,Parkki!$Y$2,AS!$CY:$CY,$U$6,AS!$CZ:$CZ,$U$5) -> 0 | D19: =SUMIFS(AS!$W:$W,AS!$AB:$AB,"OK",AS!$AG:$AG,Parkki!$X19,AS!$F:$F,Parkki!$X$15,AS!$AW:$AW,$W$8,AS!$X:$X,Parkki!$Y$5,AS!$K:$K,$W$7,AS!$AV:$AV,Parkki!$Y$2,AS!$CY:$CY,$U$6,AS!$CZ:$CZ,$U$5) -> 0 | M19: =IFERROR(INDEX($AG$5:$AG$37,MATCH(SMALL($AH$5:$AH$37,T19),$AH$5:$AH$37,0)),"") | N19: =SUMIFS(AS!$W:$W,AS!$AB:$AB,"OK",AS!$AW:$AW,Parkki!$Y$6,AS!$X:$X,Parkki!$Y$5,AS!$AV:$AV,Parkki!$Y$2,AS!$K:$K,Parkki!$U19) -> 0 | O19: =SUMIFS(JA!$Z:$Z,JA!$AE:$AE,"OK",JA!$X:$X,Parkki!$Y$6,JA!$BE:$BE,Parkki!$Y$5,JA!$AI:$AI,Parkki!$Y$2,JA!$Y:$Y,$U19,JA!$CW:$CW,1,JA!$AJ:$AJ,Parkki!$Y$2) -> 0 | P19: =SUMIFS(JA!$Z:$Z,JA!$AE:$AE,"OK",JA!$X:$X,Parkki!$Y$6,JA!$BE:$BE,Parkki!$Y$5,JA!$AI:$AI,Parkki!$Y$2,JA!$Y:$Y,$U19,JA!$AJ:$AJ,Parkki!$Y$2) -> 0 | S19: =IF(M19="",0,1) -> 0 | T19: 7 | U19: =INDEX($AC$5:$AC$37,MATCH(M19,$AD$5:$AD$37,0)) -> ComboBox_TyHlo_yksikko_00000001 | V19: uusia jaksoja | W19: ;AS!$AV:$AV;Parkki!$Y$2 | X19: 25-28 | AA19: ComboBox_EtKuntakoodi_00000012 | AB19: =IFERROR(INDEX(Data_Omakoodi!E:E,MATCH(AA19,Data_Omakoodi!A:A,0)),"") | AC19: ComboBox_TyHlo_yksikko_00000012 | AD19: =IFERROR(INDEX(Data_Omakoodi!E:E,MATCH(AC19,Data_Omakoodi!A:A,0)),"") | AE19: ComboBox_TyHlo_yksikko_00000012 | AF19: ComboBox_yksikko_00000012 | AG19: =TEXT(AD19,"@") | AH19: =IF(AG19<>"",ROW(),"") | AJ19: =TEXT(AB19,"@") | AK19: =IF(AJ19<>"",ROW(),"")
B20: Nuoria (-28) yhteensä | C20: =IFERROR(SUM(C16:C19),"") -> 0 | D20: =IFERROR(SUM(D16:D19),"") -> 0 | M20: =IFERROR(INDEX($AG$5:$AG$37,MATCH(SMALL($AH$5:$AH$37,T20),$AH$5:$AH$37,0)),"") | N20: =SUMIFS(AS!$W:$W,AS!$AB:$AB,"OK",AS!$AW:$AW,Parkki!$Y$6,AS!$X:$X,Parkki!$Y$5,AS!$AV:$AV,Parkki!$Y$2,AS!$K:$K,Parkki!$U20) -> 0 | O20: =SUMIFS(JA!$Z:$Z,JA!$AE:$AE,"OK",JA!$X:$X,Parkki!$Y$6,JA!$BE:$BE,Parkki!$Y$5,JA!$AI:$AI,Parkki!$Y$2,JA!$Y:$Y,$U20,JA!$CW:$CW,1,JA!$AJ:$AJ,Parkki!$Y$2) -> 0 | P20: =SUMIFS(JA!$Z:$Z,JA!$AE:$AE,"OK",JA!$X:$X,Parkki!$Y$6,JA!$BE:$BE,Parkki!$Y$5,JA!$AI:$AI,Parkki!$Y$2,JA!$Y:$Y,$U20,JA!$AJ:$AJ,Parkki!$Y$2) -> 0 | S20: =IF(M20="",0,1) -> 0 | T20: 8 | U20: =INDEX($AC$5:$AC$37,MATCH(M20,$AD$5:$AD$37,0)) -> ComboBox_TyHlo_yksikko_00000001 | V20: yksikkö perustiedot | W20: ;AS!$K:$K;Parkki!$AC5) | AA20: ComboBox_EtKuntakoodi_00000013 | AB20: =IFERROR(INDEX(Data_Omakoodi!E:E,MATCH(AA20,Data_Omakoodi!A:A,0)),"") | AC20: ComboBox_TyHlo_yksikko_00000013 | AD20: =IFERROR(INDEX(Data_Omakoodi!E:E,MATCH(AC20,Data_Omakoodi!A:A,0)),"") | AE20: ComboBox_TyHlo_yksikko_00000013 | AF20: ComboBox_yksikko_00000013 | AG20: =TEXT(AD20,"@") | AH20: =IF(AG20<>"",ROW(),"") | AJ20: =TEXT(AB20,"@") | AK20: =IF(AJ20<>"",ROW(),"")
B21: 29-49-vuotiaita | C21: =SUMIFS(AS!$W:$W,AS!$AB:$AB,"OK",AS!$AG:$AG,Parkki!X21,AS!$AW:$AW,$W$8,AS!$X:$X,Parkki!$Y$5,AS!$K:$K,$W$7,AS!$AV:$AV,Parkki!$Y$2,AS!$CY:$CY,$U$6,AS!$CZ:$CZ,$U$5) -> 0 | D21: =SUMIFS(AS!$W:$W,AS!$AB:$AB,"OK",AS!$AG:$AG,Parkki!$X21,AS!$F:$F,Parkki!$X$15,AS!$AW:$AW,$W$8,AS!$X:$X,Parkki!$Y$5,AS!$K:$K,$W$7,AS!$AV:$AV,Parkki!$Y$2,AS!$CY:$CY,$U$6,AS!$CZ:$CZ,$U$5) -> 0 | M21: =IFERROR(INDEX($AG$5:$AG$37,MATCH(SMALL($AH$5:$AH$37,T21),$AH$5:$AH$37,0)),"") | N21: =SUMIFS(AS!$W:$W,AS!$AB:$AB,"OK",AS!$AW:$AW,Parkki!$Y$6,AS!$X:$X,Parkki!$Y$5,AS!$AV:$AV,Parkki!$Y$2,AS!$K:$K,Parkki!$U21) -> 0 | O21: =SUMIFS(JA!$Z:$Z,JA!$AE:$AE,"OK",JA!$X:$X,Parkki!$Y$6,JA!$BE:$BE,Parkki!$Y$5,JA!$AI:$AI,Parkki!$Y$2,JA!$Y:$Y,$U21,JA!$CW:$CW,1,JA!$AJ:$AJ,Parkki!$Y$2) -> 0 | P21: =SUMIFS(JA!$Z:$Z,JA!$AE:$AE,"OK",JA!$X:$X,Parkki!$Y$6,JA!$BE:$BE,Parkki!$Y$5,JA!$AI:$AI,Parkki!$Y$2,JA!$Y:$Y,$U21,JA!$AJ:$AJ,Parkki!$Y$2) -> 0 | S21: =IF(M21="",0,1) -> 0 | T21: 9 | U21: =INDEX($AC$5:$AC$37,MATCH(M21,$AD$5:$AD$37,0)) -> ComboBox_TyHlo_yksikko_00000001 | X21: 29-49 | AA21: ComboBox_EtKuntakoodi_00000014 | AB21: =IFERROR(INDEX(Data_Omakoodi!E:E,MATCH(AA21,Data_Omakoodi!A:A,0)),"") | AC21: ComboBox_TyHlo_yksikko_00000014 | AD21: =IFERROR(INDEX(Data_Omakoodi!E:E,MATCH(AC21,Data_Omakoodi!A:A,0)),"") | AE21: ComboBox_TyHlo_yksikko_00000014 | AF21: ComboBox_yksikko_00000014 | AG21: =TEXT(AD21,"@") | AH21: =IF(AG21<>"",ROW(),"") | AJ21: =TEXT(AB21,"@") | AK21: =IF(AJ21<>"",ROW(),"")
B22: 50- tai yli -vuotiaita | C22: =SUMIFS(AS!$W:$W,AS!$AB:$AB,"OK",AS!$AG:$AG,Parkki!X22,AS!$AW:$AW,$W$8,AS!$X:$X,Parkki!$Y$5,AS!$K:$K,$W$7,AS!$AV:$AV,Parkki!$Y$2,AS!$CY:$CY,$U$6,AS!$CZ:$CZ,$U$5) -> 0 | D22: =SUMIFS(AS!$W:$W,AS!$AB:$AB,"OK",AS!$AG:$AG,Parkki!$X22,AS!$F:$F,Parkki!$X$15,AS!$AW:$AW,$W$8,AS!$X:$X,Parkki!$Y$5,AS!$K:$K,$W$7,AS!$AV:$AV,Parkki!$Y$2,AS!$CY:$CY,$U$6,AS!$CZ:$CZ,$U$5) -> 0 | M22: =IFERROR(INDEX($AG$5:$AG$37,MATCH(SMALL($AH$5:$AH$37,T22),$AH$5:$AH$37,0)),"") | N22: =SUMIFS(AS!$W:$W,AS!$AB:$AB,"OK",AS!$AW:$AW,Parkki!$Y$6,AS!$X:$X,Parkki!$Y$5,AS!$AV:$AV,Parkki!$Y$2,AS!$K:$K,Parkki!$U22) -> 0 | O22: =SUMIFS(JA!$Z:$Z,JA!$AE:$AE,"OK",JA!$X:$X,Parkki!$Y$6,JA!$BE:$BE,Parkki!$Y$5,JA!$AI:$AI,Parkki!$Y$2,JA!$Y:$Y,$U22,JA!$CW:$CW,1,JA!$AJ:$AJ,Parkki!$Y$2) -> 0 | P22: =SUMIFS(JA!$Z:$Z,JA!$AE:$AE,"OK",JA!$X:$X,Parkki!$Y$6,JA!$BE:$BE,Parkki!$Y$5,JA!$AI:$AI,Parkki!$Y$2,JA!$Y:$Y,$U22,JA!$AJ:$AJ,Parkki!$Y$2) -> 0 | S22: =IF(M22="",0,1) -> 0 | T22: 10 | U22: =INDEX($AC$5:$AC$37,MATCH(M22,$AD$5:$AD$37,0)) -> ComboBox_TyHlo_yksikko_00000001 | X22: yli 50 | AA22: ComboBox_EtKuntakoodi_00000015 | AB22: =IFERROR(INDEX(Data_Omakoodi!E:E,MATCH(AA22,Data_Omakoodi!A:A,0)),"") | AC22: ComboBox_TyHlo_yksikko_00000015 | AD22: =IFERROR(INDEX(Data_Omakoodi!E:E,MATCH(AC22,Data_Omakoodi!A:A,0)),"") | AE22: ComboBox_TyHlo_yksikko_00000015 | AF22: ComboBox_yksikko_00000015 | AG22: =TEXT(AD22,"@") | AH22: =IF(AG22<>"",ROW(),"") | AJ22: =TEXT(AB22,"@") | AK22: =IF(AJ22<>"",ROW(),"")
B23: Ikä ei rekisteröity | C23: =SUMIFS(AS!$W:$W,AS!$AB:$AB,"OK",AS!$AG:$AG,Parkki!X23,AS!$AW:$AW,$W$8,AS!$X:$X,Parkki!$Y$5,AS!$K:$K,$W$7,AS!$AV:$AV,Parkki!$Y$2,AS!$CY:$CY,$U$6,AS!$CZ:$CZ,$U$5) -> 0 | D23: =SUMIFS(AS!$W:$W,AS!$AB:$AB,"OK",AS!$AG:$AG,Parkki!$X23,AS!$F:$F,Parkki!$X$15,AS!$AW:$AW,$W$8,AS!$X:$X,Parkki!$Y$5,AS!$K:$K,$W$7,AS!$AV:$AV,Parkki!$Y$2,AS!$CY:$CY,$U$6,AS!$CZ:$CZ,$U$5) -> 0 | M23: =IFERROR(INDEX($AG$5:$AG$37,MATCH(SMALL($AH$5:$AH$37,T23),$AH$5:$AH$37,0)),"") | N23: =SUMIFS(AS!$W:$W,AS!$AB:$AB,"OK",AS!$AW:$AW,Parkki!$Y$6,AS!$X:$X,Parkki!$Y$5,AS!$AV:$AV,Parkki!$Y$2,AS!$K:$K,Parkki!$U23) -> 0 | O23: =SUMIFS(JA!$Z:$Z,JA!$AE:$AE,"OK",JA!$X:$X,Parkki!$Y$6,JA!$BE:$BE,Parkki!$Y$5,JA!$AI:$AI,Parkki!$Y$2,JA!$Y:$Y,$U23,JA!$CW:$CW,1,JA!$AJ:$AJ,Parkki!$Y$2) -> 0 | P23: =SUMIFS(JA!$Z:$Z,JA!$AE:$AE,"OK",JA!$X:$X,Parkki!$Y$6,JA!$BE:$BE,Parkki!$Y$5,JA!$AI:$AI,Parkki!$Y$2,JA!$Y:$Y,$U23,JA!$AJ:$AJ,Parkki!$Y$2) -> 0 | S23: =IF(M23="",0,1) -> 0 | T23: 11 | U23: =INDEX($AC$5:$AC$37,MATCH(M23,$AD$5:$AD$37,0)) -> ComboBox_TyHlo_yksikko_00000001 | V23: summa | W23: JA!$Z:$Z; | X23: EI | Y23: UUSIEN Valmentautujien määrä sukupuolen ja ikäryhmän mukaan (ei aikaisempia jaksoja!) | AA23: ComboBox_EtKuntakoodi_00000016 | AB23: =IFERROR(INDEX(Data_Omakoodi!E:E,MATCH(AA23,Data_Omakoodi!A:A,0)),"") | AC23: ComboBox_TyHlo_yksikko_00000016 | AD23: =IFERROR(INDEX(Data_Omakoodi!E:E,MATCH(AC23,Data_Omakoodi!A:A,0)),"") | AE23: ComboBox_TyHlo_yksikko_00000016 | AF23: ComboBox_yksikko_00000016 | AG23: =TEXT(AD23,"@") | AH23: =IF(AG23<>"",ROW(),"") | AJ23: =TEXT(AB23,"@") | AK23: =IF(AJ23<>"",ROW(),"")
B24: Työpajalla valmentautujia yhteensä | C24: =IFERROR(SUM(C20:C23),"") -> 0 | D24: =IFERROR(SUM(D20:D23),"") -> 0 | M24: =IFERROR(INDEX($AG$5:$AG$37,MATCH(SMALL($AH$5:$AH$37,T24),$AH$5:$AH$37,0)),"") | N24: =SUMIFS(AS!$W:$W,AS!$AB:$AB,"OK",AS!$AW:$AW,Parkki!$Y$6,AS!$X:$X,Parkki!$Y$5,AS!$AV:$AV,Parkki!$Y$2,AS!$K:$K,Parkki!$U24) -> 0 | O24: =SUMIFS(JA!$Z:$Z,JA!$AE:$AE,"OK",JA!$X:$X,Parkki!$Y$6,JA!$BE:$BE,Parkki!$Y$5,JA!$AI:$AI,Parkki!$Y$2,JA!$Y:$Y,$U24,JA!$CW:$CW,1,JA!$AJ:$AJ,Parkki!$Y$2) -> 0 | P24: =SUMIFS(JA!$Z:$Z,JA!$AE:$AE,"OK",JA!$X:$X,Parkki!$Y$6,JA!$BE:$BE,Parkki!$Y$5,JA!$AI:$AI,Parkki!$Y$2,JA!$Y:$Y,$U24,JA!$AJ:$AJ,Parkki!$Y$2) -> 0 | S24: =IF(M24="",0,1) -> 0 | T24: 12 | U24: =INDEX($AC$5:$AC$37,MATCH(M24,$AD$5:$AD$37,0)) -> ComboBox_TyHlo_yksikko_00000001 | V24: osuuko henkilö | W24: JA!$AE:$AE;"OK" | Y24: UUSILLA JAKSOILLA olevien valmentautujien määrä sukupuolen ja ikäryhmän mukaan (löytyy aikaisempia jaksoja, mutta henkilö voi esiintyä vain kerran!) | AA24: ComboBox_EtKuntakoodi_00000017 | AB24: =IFERROR(INDEX(Data_Omakoodi!E:E,MATCH(AA24,Data_Omakoodi!A:A,0)),"") | AC24: ComboBox_TyHlo_yksikko_00000017 | AD24: =IFERROR(INDEX(Data_Omakoodi!E:E,MATCH(AC24,Data_Omakoodi!A:A,0)),"") | AE24: ComboBox_TyHlo_yksikko_00000017 | AF24: ComboBox_yksikko_00000017 | AG24: =TEXT(AD24,"@") | AH24: =IF(AG24<>"",ROW(),"") | AJ24: =TEXT(AB24,"@") | AK24: =IF(AJ24<>"",ROW(),"")
M25: =IFERROR(INDEX($AG$5:$AG$37,MATCH(SMALL($AH$5:$AH$37,T25),$AH$5:$AH$37,0)),"") | N25: =SUMIFS(AS!$W:$W,AS!$AB:$AB,"OK",AS!$AW:$AW,Parkki!$Y$6,AS!$X:$X,Parkki!$Y$5,AS!$AV:$AV,Parkki!$Y$2,AS!$K:$K,Parkki!$U25) -> 0 | O25: =SUMIFS(JA!$Z:$Z,JA!$AE:$AE,"OK",JA!$X:$X,Parkki!$Y$6,JA!$BE:$BE,Parkki!$Y$5,JA!$AI:$AI,Parkki!$Y$2,JA!$Y:$Y,$U25,JA!$CW:$CW,1,JA!$AJ:$AJ,Parkki!$Y$2) -> 0 | P25: =SUMIFS(JA!$Z:$Z,JA!$AE:$AE,"OK",JA!$X:$X,Parkki!$Y$6,JA!$BE:$BE,Parkki!$Y$5,JA!$AI:$AI,Parkki!$Y$2,JA!$Y:$Y,$U25,JA!$AJ:$AJ,Parkki!$Y$2) -> 0 | S25: =IF(M25="",0,1) -> 0 | T25: 13 | U25: =INDEX($AC$5:$AC$37,MATCH(M25,$AD$5:$AD$37,0)) -> ComboBox_TyHlo_yksikko_00000001 | V25: kunta | W25: ;JA!$AX:$AX;Parkki!$Y$6 | Y25: KAIKKIEN Valmentautujien määrä sukupuolen ja ikäryhmän mukaan | AA25: ComboBox_EtKuntakoodi_00000018 | AB25: =IFERROR(INDEX(Data_Omakoodi!E:E,MATCH(AA25,Data_Omakoodi!A:A,0)),"") | AC25: ComboBox_TyHlo_yksikko_00000018 | AD25: =IFERROR(INDEX(Data_Omakoodi!E:E,MATCH(AC25,Data_Omakoodi!A:A,0)),"") | AE25: ComboBox_TyHlo_yksikko_00000018 | AF25: ComboBox_yksikko_00000018 | AG25: =TEXT(AD25,"@") | AH25: =IF(AG25<>"",ROW(),"") | AJ25: =TEXT(AB25,"@") | AK25: =IF(AJ25<>"",ROW(),"")
B26: ="Työpajajaksojen kokonaiskesto, jonka valmentautujat olleet pajalla kuukausina" & X10&X12 -> Työpajajaksojen kokonaiskesto, jonka valmentautujat olleet pajalla kuukausina - 01.01.2026-31.12.2026 (Kaikki kunnat - tiedot perustiedoista, Kaikki yksiköt - tiedot perustiedoista, Kaikki asiakkuudet) | M26: =IFERROR(INDEX($AG$5:$AG$37,MATCH(SMALL($AH$5:$AH$37,T26),$AH$5:$AH$37,0)),"") | N26: =SUMIFS(AS!$W:$W,AS!$AB:$AB,"OK",AS!$AW:$AW,Parkki!$Y$6,AS!$X:$X,Parkki!$Y$5,AS!$AV:$AV,Parkki!$Y$2,AS!$K:$K,Parkki!$U26) -> 0 | O26: =SUMIFS(JA!$Z:$Z,JA!$AE:$AE,"OK",JA!$X:$X,Parkki!$Y$6,JA!$BE:$BE,Parkki!$Y$5,JA!$AI:$AI,Parkki!$Y$2,JA!$Y:$Y,$U26,JA!$CW:$CW,1,JA!$AJ:$AJ,Parkki!$Y$2) -> 0 | P26: =SUMIFS(JA!$Z:$Z,JA!$AE:$AE,"OK",JA!$X:$X,Parkki!$Y$6,JA!$BE:$BE,Parkki!$Y$5,JA!$AI:$AI,Parkki!$Y$2,JA!$Y:$Y,$U26,JA!$AJ:$AJ,Parkki!$Y$2) -> 0 | S26: =IF(M26="",0,1) -> 0 | T26: 14 | U26: =INDEX($AC$5:$AC$37,MATCH(M26,$AD$5:$AD$37,0)) -> ComboBox_TyHlo_yksikko_00000001 | V26: uusi hlö | W26: ;JA!$BE:$BE;Parkki!$Y$5 | AA26: ComboBox_EtKuntakoodi_00000019 | AB26: =IFERROR(INDEX(Data_Omakoodi!E:E,MATCH(AA26,Data_Omakoodi!A:A,0)),"") | AC26: ComboBox_TyHlo_yksikko_00000019 | AD26: =IFERROR(INDEX(Data_Omakoodi!E:E,MATCH(AC26,Data_Omakoodi!A:A,0)),"") | AE26: ComboBox_TyHlo_yksikko_00000019 | AF26: ComboBox_yksikko_00000019 | AG26: =TEXT(AD26,"@") | AH26: =IF(AG26<>"",ROW(),"") | AJ26: =TEXT(AB26,"@") | AK26: =IF(AJ26<>"",ROW(),"")
M27: =IFERROR(INDEX($AG$5:$AG$37,MATCH(SMALL($AH$5:$AH$37,T27),$AH$5:$AH$37,0)),"") | N27: =SUMIFS(AS!$W:$W,AS!$AB:$AB,"OK",AS!$AW:$AW,Parkki!$Y$6,AS!$X:$X,Parkki!$Y$5,AS!$AV:$AV,Parkki!$Y$2,AS!$K:$K,Parkki!$U27) -> 0 | O27: =SUMIFS(JA!$Z:$Z,JA!$AE:$AE,"OK",JA!$X:$X,Parkki!$Y$6,JA!$BE:$BE,Parkki!$Y$5,JA!$AI:$AI,Parkki!$Y$2,JA!$Y:$Y,$U27,JA!$CW:$CW,1,JA!$AJ:$AJ,Parkki!$Y$2) -> 0 | P27: =SUMIFS(JA!$Z:$Z,JA!$AE:$AE,"OK",JA!$X:$X,Parkki!$Y$6,JA!$BE:$BE,Parkki!$Y$5,JA!$AI:$AI,Parkki!$Y$2,JA!$Y:$Y,$U27,JA!$AJ:$AJ,Parkki!$Y$2) -> 0 | S27: =IF(M27="",0,1) -> 0 | T27: 15 | U27: =INDEX($AC$5:$AC$37,MATCH(M27,$AD$5:$AD$37,0)) -> ComboBox_TyHlo_yksikko_00000001 | V27: uusi jakso | W27: ;JA!$AI:$AI;Parkki!$Y$4 | AA27: ComboBox_EtKuntakoodi_00000020 | AB27: =IFERROR(INDEX(Data_Omakoodi!E:E,MATCH(AA27,Data_Omakoodi!A:A,0)),"") | AC27: ComboBox_TyHlo_yksikko_00000020 | AD27: =IFERROR(INDEX(Data_Omakoodi!E:E,MATCH(AC27,Data_Omakoodi!A:A,0)),"") | AE27: ComboBox_TyHlo_yksikko_00000020 | AF27: ComboBox_yksikko_00000020 | AG27: =TEXT(AD27,"@") | AH27: =IF(AG27<>"",ROW(),"") | AJ27: =TEXT(AB27,"@") | AK27: =IF(AJ27<>"",ROW(),"")
C28: kaikki | D28: nuoria | M28: =IFERROR(INDEX($AG$5:$AG$37,MATCH(SMALL($AH$5:$AH$37,T28),$AH$5:$AH$37,0)),"") | N28: =SUMIFS(AS!$W:$W,AS!$AB:$AB,"OK",AS!$AW:$AW,Parkki!$Y$6,AS!$X:$X,Parkki!$Y$5,AS!$AV:$AV,Parkki!$Y$2,AS!$K:$K,Parkki!$U28) -> 0 | O28: =SUMIFS(JA!$Z:$Z,JA!$AE:$AE,"OK",JA!$X:$X,Parkki!$Y$6,JA!$BE:$BE,Parkki!$Y$5,JA!$AI:$AI,Parkki!$Y$2,JA!$Y:$Y,$U28,JA!$CW:$CW,1,JA!$AJ:$AJ,Parkki!$Y$2) -> 0 | P28: =SUMIFS(JA!$Z:$Z,JA!$AE:$AE,"OK",JA!$X:$X,Parkki!$Y$6,JA!$BE:$BE,Parkki!$Y$5,JA!$AI:$AI,Parkki!$Y$2,JA!$Y:$Y,$U28,JA!$AJ:$AJ,Parkki!$Y$2) -> 0 | S28: =IF(M28="",0,1) -> 0 | T28: 16 | U28: =INDEX($AC$5:$AC$37,MATCH(M28,$AD$5:$AD$37,0)) -> ComboBox_TyHlo_yksikko_00000001 | W28: ;JA!$AJ:$AJ;Parkki!$Y$2 | AA28: ComboBox_EtKuntakoodi_00000021 | AB28: =IFERROR(INDEX(Data_Omakoodi!E:E,MATCH(AA28,Data_Omakoodi!A:A,0)),"") | AC28: ComboBox_TyHlo_yksikko_00000021 | AD28: =IFERROR(INDEX(Data_Omakoodi!E:E,MATCH(AC28,Data_Omakoodi!A:A,0)),"") | AE28: ComboBox_TyHlo_yksikko_00000021 | AF28: ComboBox_yksikko_00000021 | AG28: =TEXT(AD28,"@") | AH28: =IF(AG28<>"",ROW(),"") | AJ28: =TEXT(AB28,"@") | AK28: =IF(AJ28<>"",ROW(),"")
B29: Alle 2kk | C29: =SUMIFS(AS!$W:$W,AS!$AB:$AB,"OK",AS!$BD:$BD,Parkki!$X29,AS!$AW:$AW,$W$8,AS!$K:$K,$W$7,AS!$X:$X,Parkki!$Y$5,AS!$AV:$AV,Parkki!$Y$2,AS!$CY:$CY,$U$6,AS!$CZ:$CZ,$U$5) -> 0 | D29: =SUMIFS(AS!$W:$W,AS!$AB:$AB,"OK",AS!$BD:$BD,Parkki!$X29,AS!$AH:$AH,Parkki!$X$8,AS!$AW:$AW,$W$8,AS!$K:$K,$W$7,AS!$X:$X,Parkki!$Y$5,AS!$AV:$AV,Parkki!$Y$2,AS!$CY:$CY,$U$6,AS!$CZ:$CZ,$U$5) -> 0 | M29: =IFERROR(INDEX($AG$5:$AG$37,MATCH(SMALL($AH$5:$AH$37,T29),$AH$5:$AH$37,0)),"") | N29: =SUMIFS(AS!$W:$W,AS!$AB:$AB,"OK",AS!$AW:$AW,Parkki!$Y$6,AS!$X:$X,Parkki!$Y$5,AS!$AV:$AV,Parkki!$Y$2,AS!$K:$K,Parkki!$U29) -> 0 | O29: =SUMIFS(JA!$Z:$Z,JA!$AE:$AE,"OK",JA!$X:$X,Parkki!$Y$6,JA!$BE:$BE,Parkki!$Y$5,JA!$AI:$AI,Parkki!$Y$2,JA!$Y:$Y,$U29,JA!$CW:$CW,1,JA!$AJ:$AJ,Parkki!$Y$2) -> 0 | P29: =SUMIFS(JA!$Z:$Z,JA!$AE:$AE,"OK",JA!$X:$X,Parkki!$Y$6,JA!$BE:$BE,Parkki!$Y$5,JA!$AI:$AI,Parkki!$Y$2,JA!$Y:$Y,$U29,JA!$AJ:$AJ,Parkki!$Y$2) -> 0 | S29: =IF(M29="",0,1) -> 0 | T29: 17 | U29: =INDEX($AC$5:$AC$37,MATCH(M29,$AD$5:$AD$37,0)) -> ComboBox_TyHlo_yksikko_00000001 | V29: yksikkö jaksoilta | W29: ;JA!$Y:$Y;$AC5 | X29: alle 2kk | AA29: ComboBox_EtKuntakoodi_00000022 | AB29: =IFERROR(INDEX(Data_Omakoodi!E:E,MATCH(AA29,Data_Omakoodi!A:A,0)),"") | AC29: ComboBox_TyHlo_yksikko_00000022 | AD29: =IFERROR(INDEX(Data_Omakoodi!E:E,MATCH(AC29,Data_Omakoodi!A:A,0)),"") | AE29: ComboBox_TyHlo_yksikko_00000022 | AF29: ComboBox_yksikko_00000022 | AG29: =TEXT(AD29,"@") | AH29: =IF(AG29<>"",ROW(),"") | AJ29: =TEXT(AB29,"@") | AK29: =IF(AJ29<>"",ROW(),"")
B30: 2- alle 3kk | C30: =SUMIFS(AS!$W:$W,AS!$AB:$AB,"OK",AS!$BD:$BD,Parkki!$X30,AS!$AW:$AW,$W$8,AS!$K:$K,$W$7,AS!$X:$X,Parkki!$Y$5,AS!$AV:$AV,Parkki!$Y$2,AS!$CY:$CY,$U$6,AS!$CZ:$CZ,$U$5) -> 0 | D30: =SUMIFS(AS!$W:$W,AS!$AB:$AB,"OK",AS!$BD:$BD,Parkki!$X30,AS!$AH:$AH,Parkki!$X$8,AS!$AW:$AW,$W$8,AS!$K:$K,$W$7,AS!$X:$X,Parkki!$Y$5,AS!$AV:$AV,Parkki!$Y$2,AS!$CY:$CY,$U$6,AS!$CZ:$CZ,$U$5) -> 0 | M30: =IFERROR(INDEX($AG$5:$AG$37,MATCH(SMALL($AH$5:$AH$37,T30),$AH$5:$AH$37,0)),"") | N30: =SUMIFS(AS!$W:$W,AS!$AB:$AB,"OK",AS!$AW:$AW,Parkki!$Y$6,AS!$X:$X,Parkki!$Y$5,AS!$AV:$AV,Parkki!$Y$2,AS!$K:$K,Parkki!$U30) -> 0 | O30: =SUMIFS(JA!$Z:$Z,JA!$AE:$AE,"OK",JA!$X:$X,Parkki!$Y$6,JA!$BE:$BE,Parkki!$Y$5,JA!$AI:$AI,Parkki!$Y$2,JA!$Y:$Y,$U30,JA!$CW:$CW,1,JA!$AJ:$AJ,Parkki!$Y$2) -> 0 | P30: =SUMIFS(JA!$Z:$Z,JA!$AE:$AE,"OK",JA!$X:$X,Parkki!$Y$6,JA!$BE:$BE,Parkki!$Y$5,JA!$AI:$AI,Parkki!$Y$2,JA!$Y:$Y,$U30,JA!$AJ:$AJ,Parkki!$Y$2) -> 0 | S30: =IF(M30="",0,1) -> 0 | T30: 18 | U30: =INDEX($AC$5:$AC$37,MATCH(M30,$AD$5:$AD$37,0)) -> ComboBox_TyHlo_yksikko_00000001 | V30: yksikkö jaksoilta, vain 1 hlö | W30: ;JA!$CW:$CW;1) | X30: alle 3kk | AA30: ComboBox_EtKuntakoodi_00000023 | AB30: =IFERROR(INDEX(Data_Omakoodi!E:E,MATCH(AA30,Data_Omakoodi!A:A,0)),"") | AC30: ComboBox_TyHlo_yksikko_00000023 | AD30: =IFERROR(INDEX(Data_Omakoodi!E:E,MATCH(AC30,Data_Omakoodi!A:A,0)),"") | AE30: ComboBox_TyHlo_yksikko_00000023 | AF30: ComboBox_yksikko_00000023 | AG30: =TEXT(AD30,"@") | AH30: =IF(AG30<>"",ROW(),"") | AJ30: =TEXT(AB30,"@") | AK30: =IF(AJ30<>"",ROW(),"")
B31: 3-alle 6kk | C31: =SUMIFS(AS!$W:$W,AS!$AB:$AB,"OK",AS!$BD:$BD,Parkki!$X31,AS!$AW:$AW,$W$8,AS!$K:$K,$W$7,AS!$X:$X,Parkki!$Y$5,AS!$AV:$AV,Parkki!$Y$2,AS!$CY:$CY,$U$6,AS!$CZ:$CZ,$U$5) -> 0 | D31: =SUMIFS(AS!$W:$W,AS!$AB:$AB,"OK",AS!$BD:$BD,Parkki!$X31,AS!$AH:$AH,Parkki!$X$8,AS!$AW:$AW,$W$8,AS!$K:$K,$W$7,AS!$X:$X,Parkki!$Y$5,AS!$AV:$AV,Parkki!$Y$2,AS!$CY:$CY,$U$6,AS!$CZ:$CZ,$U$5) -> 0 | M31: =IFERROR(INDEX($AG$5:$AG$37,MATCH(SMALL($AH$5:$AH$37,T31),$AH$5:$AH$37,0)),"") | N31: =SUMIFS(AS!$W:$W,AS!$AB:$AB,"OK",AS!$AW:$AW,Parkki!$Y$6,AS!$X:$X,Parkki!$Y$5,AS!$AV:$AV,Parkki!$Y$2,AS!$K:$K,Parkki!$U31) -> 0 | O31: =SUMIFS(JA!$Z:$Z,JA!$AE:$AE,"OK",JA!$X:$X,Parkki!$Y$6,JA!$BE:$BE,Parkki!$Y$5,JA!$AI:$AI,Parkki!$Y$2,JA!$Y:$Y,$U31,JA!$CW:$CW,1,JA!$AJ:$AJ,Parkki!$Y$2) -> 0 | P31: =SUMIFS(JA!$Z:$Z,JA!$AE:$AE,"OK",JA!$X:$X,Parkki!$Y$6,JA!$BE:$BE,Parkki!$Y$5,JA!$AI:$AI,Parkki!$Y$2,JA!$Y:$Y,$U31,JA!$AJ:$AJ,Parkki!$Y$2) -> 0 | S31: =IF(M31="",0,1) -> 0 | T31: 19 | U31: =INDEX($AC$5:$AC$37,MATCH(M31,$AD$5:$AD$37,0)) -> ComboBox_TyHlo_yksikko_00000001 | X31: alle 6kk | AA31: ComboBox_EtKuntakoodi_00000024 | AB31: =IFERROR(INDEX(Data_Omakoodi!E:E,MATCH(AA31,Data_Omakoodi!A:A,0)),"") | AC31: ComboBox_TyHlo_yksikko_00000024 | AD31: =IFERROR(INDEX(Data_Omakoodi!E:E,MATCH(AC31,Data_Omakoodi!A:A,0)),"") | AE31: ComboBox_TyHlo_yksikko_00000024 | AF31: ComboBox_yksikko_00000024 | AG31: =TEXT(AD31,"@") | AH31: =IF(AG31<>"",ROW(),"") | AJ31: =TEXT(AB31,"@") | AK31: =IF(AJ31<>"",ROW(),"")
B32: 6kk- alle 1vuosi | C32: =SUMIFS(AS!$W:$W,AS!$AB:$AB,"OK",AS!$BD:$BD,Parkki!$X32,AS!$AW:$AW,$W$8,AS!$K:$K,$W$7,AS!$X:$X,Parkki!$Y$5,AS!$AV:$AV,Parkki!$Y$2,AS!$CY:$CY,$U$6,AS!$CZ:$CZ,$U$5) -> 0 | D32: =SUMIFS(AS!$W:$W,AS!$AB:$AB,"OK",AS!$BD:$BD,Parkki!$X32,AS!$AH:$AH,Parkki!$X$8,AS!$AW:$AW,$W$8,AS!$K:$K,$W$7,AS!$X:$X,Parkki!$Y$5,AS!$AV:$AV,Parkki!$Y$2,AS!$CY:$CY,$U$6,AS!$CZ:$CZ,$U$5) -> 0 | M32: =IFERROR(INDEX($AG$5:$AG$37,MATCH(SMALL($AH$5:$AH$37,T32),$AH$5:$AH$37,0)),"") | N32: =SUMIFS(AS!$W:$W,AS!$AB:$AB,"OK",AS!$AW:$AW,Parkki!$Y$6,AS!$X:$X,Parkki!$Y$5,AS!$AV:$AV,Parkki!$Y$2,AS!$K:$K,Parkki!$U32) -> 0 | O32: =SUMIFS(JA!$Z:$Z,JA!$AE:$AE,"OK",JA!$X:$X,Parkki!$Y$6,JA!$BE:$BE,Parkki!$Y$5,JA!$AI:$AI,Parkki!$Y$2,JA!$Y:$Y,$U32,JA!$CW:$CW,1,JA!$AJ:$AJ,Parkki!$Y$2) -> 0 | P32: =SUMIFS(JA!$Z:$Z,JA!$AE:$AE,"OK",JA!$X:$X,Parkki!$Y$6,JA!$BE:$BE,Parkki!$Y$5,JA!$AI:$AI,Parkki!$Y$2,JA!$Y:$Y,$U32,JA!$AJ:$AJ,Parkki!$Y$2) -> 0 | S32: =IF(M32="",0,1) -> 0 | T32: 20 | U32: =INDEX($AC$5:$AC$37,MATCH(M32,$AD$5:$AD$37,0)) -> ComboBox_TyHlo_yksikko_00000001 | X32: alle 1vuosi | AA32: ComboBox_EtKuntakoodi_00000025 | AB32: =IFERROR(INDEX(Data_Omakoodi!E:E,MATCH(AA32,Data_Omakoodi!A:A,0)),"") | AC32: ComboBox_TyHlo_yksikko_00000025 | AD32: =IFERROR(INDEX(Data_Omakoodi!E:E,MATCH(AC32,Data_Omakoodi!A:A,0)),"") | AE32: ComboBox_TyHlo_yksikko_00000025 | AF32: ComboBox_yksikko_00000025 | AG32: =TEXT(AD32,"@") | AH32: =IF(AG32<>"",ROW(),"") | AJ32: =TEXT(AB32,"@") | AK32: =IF(AJ32<>"",ROW(),"")
B33: 1vuosi tai pitempi | C33: =SUMIFS(AS!$W:$W,AS!$AB:$AB,"OK",AS!$BD:$BD,Parkki!$X33,AS!$AW:$AW,$W$8,AS!$K:$K,$W$7,AS!$X:$X,Parkki!$Y$5,AS!$AV:$AV,Parkki!$Y$2,AS!$CY:$CY,$U$6,AS!$CZ:$CZ,$U$5) -> 0 | D33: =SUMIFS(AS!$W:$W,AS!$AB:$AB,"OK",AS!$BD:$BD,Parkki!$X33,AS!$AH:$AH,Parkki!$X$8,AS!$AW:$AW,$W$8,AS!$K:$K,$W$7,AS!$X:$X,Parkki!$Y$5,AS!$AV:$AV,Parkki!$Y$2,AS!$CY:$CY,$U$6,AS!$CZ:$CZ,$U$5) -> 0 | M33: =IFERROR(INDEX($AG$5:$AG$37,MATCH(SMALL($AH$5:$AH$37,T33),$AH$5:$AH$37,0)),"") | N33: =SUMIFS(AS!$W:$W,AS!$AB:$AB,"OK",AS!$AW:$AW,Parkki!$Y$6,AS!$X:$X,Parkki!$Y$5,AS!$AV:$AV,Parkki!$Y$2,AS!$K:$K,Parkki!$U33) -> 0 | O33: =SUMIFS(JA!$Z:$Z,JA!$AE:$AE,"OK",JA!$X:$X,Parkki!$Y$6,JA!$BE:$BE,Parkki!$Y$5,JA!$AI:$AI,Parkki!$Y$2,JA!$Y:$Y,$U33,JA!$CW:$CW,1,JA!$AJ:$AJ,Parkki!$Y$2) -> 0 | P33: =SUMIFS(JA!$Z:$Z,JA!$AE:$AE,"OK",JA!$X:$X,Parkki!$Y$6,JA!$BE:$BE,Parkki!$Y$5,JA!$AI:$AI,Parkki!$Y$2,JA!$Y:$Y,$U33,JA!$AJ:$AJ,Parkki!$Y$2) -> 0 | S33: =IF(M33="",0,1) -> 0 | T33: 21 | U33: =INDEX($AC$5:$AC$37,MATCH(M33,$AD$5:$AD$37,0)) -> ComboBox_TyHlo_yksikko_00000001 | X33: yli 1vuosi | AA33: ComboBox_EtKuntakoodi_00000026 | AB33: =IFERROR(INDEX(Data_Omakoodi!E:E,MATCH(AA33,Data_Omakoodi!A:A,0)),"") | AC33: ComboBox_TyHlo_yksikko_00000026 | AD33: =IFERROR(INDEX(Data_Omakoodi!E:E,MATCH(AC33,Data_Omakoodi!A:A,0)),"") | AE33: ComboBox_TyHlo_yksikko_00000026 | AF33: ComboBox_yksikko_00000026 | AG33: =TEXT(AD33,"@") | AH33: =IF(AG33<>"",ROW(),"") | AJ33: =TEXT(AB33,"@") | AK33: =IF(AJ33<>"",ROW(),"")
B34: Tietoa ei ole kirjattu | C34: =SUMIFS(AS!$W:$W,AS!$AB:$AB,"OK",AS!$BD:$BD,Parkki!$X34,AS!$AW:$AW,$W$8,AS!$K:$K,$W$7,AS!$X:$X,Parkki!$Y$5,AS!$AV:$AV,Parkki!$Y$2,AS!$CY:$CY,$U$6,AS!$CZ:$CZ,$U$5) -> 0 | D34: =SUMIFS(AS!$W:$W,AS!$AB:$AB,"OK",AS!$BD:$BD,Parkki!$X34,AS!$AH:$AH,Parkki!$X$8,AS!$AW:$AW,$W$8,AS!$K:$K,$W$7,AS!$X:$X,Parkki!$Y$5,AS!$AV:$AV,Parkki!$Y$2,AS!$CY:$CY,$U$6,AS!$CZ:$CZ,$U$5) -> 0 | M34: =IFERROR(INDEX($AG$5:$AG$37,MATCH(SMALL($AH$5:$AH$37,T34),$AH$5:$AH$37,0)),"") | N34: =SUMIFS(AS!$W:$W,AS!$AB:$AB,"OK",AS!$AW:$AW,Parkki!$Y$6,AS!$X:$X,Parkki!$Y$5,AS!$AV:$AV,Parkki!$Y$2,AS!$K:$K,Parkki!$U34) -> 0 | O34: =SUMIFS(JA!$Z:$Z,JA!$AE:$AE,"OK",JA!$X:$X,Parkki!$Y$6,JA!$BE:$BE,Parkki!$Y$5,JA!$AI:$AI,Parkki!$Y$2,JA!$Y:$Y,$U34,JA!$CW:$CW,1,JA!$AJ:$AJ,Parkki!$Y$2) -> 0 | P34: =SUMIFS(JA!$Z:$Z,JA!$AE:$AE,"OK",JA!$X:$X,Parkki!$Y$6,JA!$BE:$BE,Parkki!$Y$5,JA!$AI:$AI,Parkki!$Y$2,JA!$Y:$Y,$U34,JA!$AJ:$AJ,Parkki!$Y$2) -> 0 | S34: =IF(M34="",0,1) -> 0 | T34: 22 | U34: =INDEX($AC$5:$AC$37,MATCH(M34,$AD$5:$AD$37,0)) -> ComboBox_TyHlo_yksikko_00000001 | X34: EI | AA34: ComboBox_EtKuntakoodi_00000027 | AB34: =IFERROR(INDEX(Data_Omakoodi!E:E,MATCH(AA34,Data_Omakoodi!A:A,0)),"") | AC34: ComboBox_TyHlo_yksikko_00000027 | AD34: =IFERROR(INDEX(Data_Omakoodi!E:E,MATCH(AC34,Data_Omakoodi!A:A,0)),"") | AE34: ComboBox_TyHlo_yksikko_00000027 | AF34: ComboBox_yksikko_00000027 | AG34: =TEXT(AD34,"@") | AH34: =IF(AG34<>"",ROW(),"") | AJ34: =TEXT(AB34,"@") | AK34: =IF(AJ34<>"",ROW(),"")
B35: yhteensä | C35: =IFERROR(SUM(C29:C34),"") -> 0 | D35: =IFERROR(SUM(D29:D34),"") -> 0 | M35: =IFERROR(INDEX($AG$5:$AG$37,MATCH(SMALL($AH$5:$AH$37,T35),$AH$5:$AH$37,0)),"") | N35: =SUMIFS(AS!$W:$W,AS!$AB:$AB,"OK",AS!$AW:$AW,Parkki!$Y$6,AS!$X:$X,Parkki!$Y$5,AS!$AV:$AV,Parkki!$Y$2,AS!$K:$K,Parkki!$U35) -> 0 | O35: =SUMIFS(JA!$Z:$Z,JA!$AE:$AE,"OK",JA!$X:$X,Parkki!$Y$6,JA!$BE:$BE,Parkki!$Y$5,JA!$AI:$AI,Parkki!$Y$2,JA!$Y:$Y,$U35,JA!$CW:$CW,1,JA!$AJ:$AJ,Parkki!$Y$2) -> 0 | P35: =SUMIFS(JA!$Z:$Z,JA!$AE:$AE,"OK",JA!$X:$X,Parkki!$Y$6,JA!$BE:$BE,Parkki!$Y$5,JA!$AI:$AI,Parkki!$Y$2,JA!$Y:$Y,$U35,JA!$AJ:$AJ,Parkki!$Y$2) -> 0 | S35: =IF(M35="",0,1) -> 0 | T35: 23 | U35: =INDEX($AC$5:$AC$37,MATCH(M35,$AD$5:$AD$37,0)) -> ComboBox_TyHlo_yksikko_00000001 | AA35: ComboBox_EtKuntakoodi_00000028 | AB35: =IFERROR(INDEX(Data_Omakoodi!E:E,MATCH(AA35,Data_Omakoodi!A:A,0)),"") | AC35: ComboBox_TyHlo_yksikko_00000028 | AD35: =IFERROR(INDEX(Data_Omakoodi!E:E,MATCH(AC35,Data_Omakoodi!A:A,0)),"") | AE35: ComboBox_TyHlo_yksikko_00000028 | AF35: ComboBox_yksikko_00000028 | AG35: =TEXT(AD35,"@") | AH35: =IF(AG35<>"",ROW(),"") | AJ35: =TEXT(AB35,"@") | AK35: =IF(AJ35<>"",ROW(),"")
M36: =IFERROR(INDEX($AG$5:$AG$37,MATCH(SMALL($AH$5:$AH$37,T36),$AH$5:$AH$37,0)),"") | N36: =SUMIFS(AS!$W:$W,AS!$AB:$AB,"OK",AS!$AW:$AW,Parkki!$Y$6,AS!$X:$X,Parkki!$Y$5,AS!$AV:$AV,Parkki!$Y$2,AS!$K:$K,Parkki!$U36) -> 0 | O36: =SUMIFS(JA!$Z:$Z,JA!$AE:$AE,"OK",JA!$X:$X,Parkki!$Y$6,JA!$BE:$BE,Parkki!$Y$5,JA!$AI:$AI,Parkki!$Y$2,JA!$Y:$Y,$U36,JA!$CW:$CW,1,JA!$AJ:$AJ,Parkki!$Y$2) -> 0 | P36: =SUMIFS(JA!$Z:$Z,JA!$AE:$AE,"OK",JA!$X:$X,Parkki!$Y$6,JA!$BE:$BE,Parkki!$Y$5,JA!$AI:$AI,Parkki!$Y$2,JA!$Y:$Y,$U36,JA!$AJ:$AJ,Parkki!$Y$2) -> 0 | S36: =IF(M36="",0,1) -> 0 | T36: 24 | U36: =INDEX($AC$5:$AC$37,MATCH(M36,$AD$5:$AD$37,0)) -> ComboBox_TyHlo_yksikko_00000001 | AA36: ComboBox_EtKuntakoodi_00000029 | AB36: =IFERROR(INDEX(Data_Omakoodi!E:E,MATCH(AA36,Data_Omakoodi!A:A,0)),"") | AC36: ComboBox_TyHlo_yksikko_00000029 | AD36: =IFERROR(INDEX(Data_Omakoodi!E:E,MATCH(AC36,Data_Omakoodi!A:A,0)),"") | AE36: ComboBox_TyHlo_yksikko_00000029 | AF36: ComboBox_yksikko_00000029 | AG36: =TEXT(AD36,"@") | AH36: =IF(AG36<>"",ROW(),"") | AJ36: =TEXT(AB36,"@") | AK36: =IF(AJ36<>"",ROW(),"")
A37: ="Työpajalla olleiden valmentautujien äidinkieli "&X10&X12 -> Työpajalla olleiden valmentautujien äidinkieli - 01.01.2026-31.12.2026 (Kaikki kunnat - tiedot perustiedoista, Kaikki yksiköt - tiedot perustiedoista, Kaikki asiakkuudet) | M37: =IFERROR(INDEX($AG$5:$AG$37,MATCH(SMALL($AH$5:$AH$37,T37),$AH$5:$AH$37,0)),"") | N37: =SUMIFS(AS!$W:$W,AS!$AB:$AB,"OK",AS!$AW:$AW,Parkki!$Y$6,AS!$X:$X,Parkki!$Y$5,AS!$AV:$AV,Parkki!$Y$2,AS!$K:$K,Parkki!$U37) -> 0 | O37: =SUMIFS(JA!$Z:$Z,JA!$AE:$AE,"OK",JA!$X:$X,Parkki!$Y$6,JA!$BE:$BE,Parkki!$Y$5,JA!$AI:$AI,Parkki!$Y$2,JA!$Y:$Y,$U37,JA!$CW:$CW,1,JA!$AJ:$AJ,Parkki!$Y$2) -> 0 | P37: =SUMIFS(JA!$Z:$Z,JA!$AE:$AE,"OK",JA!$X:$X,Parkki!$Y$6,JA!$BE:$BE,Parkki!$Y$5,JA!$AI:$AI,Parkki!$Y$2,JA!$Y:$Y,$U37,JA!$AJ:$AJ,Parkki!$Y$2) -> 0 | S37: =IF(M37="",0,1) -> 0 | T37: 25 | U37: =INDEX($AC$5:$AC$37,MATCH(M37,$AD$5:$AD$37,0)) -> ComboBox_TyHlo_yksikko_00000001 | AA37: ComboBox_EtKuntakoodi_00000030 | AB37: =IFERROR(INDEX(Data_Omakoodi!E:E,MATCH(AA37,Data_Omakoodi!A:A,0)),"") | AC37: ComboBox_TyHlo_yksikko_00000030 | AD37: =IFERROR(INDEX(Data_Omakoodi!E:E,MATCH(AC37,Data_Omakoodi!A:A,0)),"") | AE37: ComboBox_TyHlo_yksikko_00000030 | AF37: ComboBox_yksikko_00000030 | AG37: =TEXT(AD37,"@") | AH37: =IF(AG37<>"",ROW(),"") | AJ37: =TEXT(AB37,"@") | AK37: =IF(AJ37<>"",ROW(),"")
M38: =IFERROR(INDEX($AG$5:$AG$37,MATCH(SMALL($AH$5:$AH$37,T38),$AH$5:$AH$37,0)),"") | N38: =SUMIFS(AS!$W:$W,AS!$AB:$AB,"OK",AS!$AW:$AW,Parkki!$Y$6,AS!$X:$X,Parkki!$Y$5,AS!$AV:$AV,Parkki!$Y$2,AS!$K:$K,Parkki!$U38) -> 0 | O38: =SUMIFS(JA!$Z:$Z,JA!$AE:$AE,"OK",JA!$X:$X,Parkki!$Y$6,JA!$BE:$BE,Parkki!$Y$5,JA!$AI:$AI,Parkki!$Y$2,JA!$Y:$Y,$U38,JA!$CW:$CW,1,JA!$AJ:$AJ,Parkki!$Y$2) -> 0 | P38: =SUMIFS(JA!$Z:$Z,JA!$AE:$AE,"OK",JA!$X:$X,Parkki!$Y$6,JA!$BE:$BE,Parkki!$Y$5,JA!$AI:$AI,Parkki!$Y$2,JA!$Y:$Y,$U38,JA!$AJ:$AJ,Parkki!$Y$2) -> 0 | S38: =IF(M38="",0,1) -> 0 | T38: 26 | U38: =INDEX($AC$5:$AC$37,MATCH(M38,$AD$5:$AD$37,0)) -> ComboBox_TyHlo_yksikko_00000001
A39: Äidinkieli | C39: kaikki | D39: nuoria | M39: =IFERROR(INDEX($AG$5:$AG$37,MATCH(SMALL($AH$5:$AH$37,T39),$AH$5:$AH$37,0)),"") | N39: =SUMIFS(AS!$W:$W,AS!$AB:$AB,"OK",AS!$AW:$AW,Parkki!$Y$6,AS!$X:$X,Parkki!$Y$5,AS!$AV:$AV,Parkki!$Y$2,AS!$K:$K,Parkki!$U39) -> 0 | O39: =SUMIFS(JA!$Z:$Z,JA!$AE:$AE,"OK",JA!$X:$X,Parkki!$Y$6,JA!$BE:$BE,Parkki!$Y$5,JA!$AI:$AI,Parkki!$Y$2,JA!$Y:$Y,$U39,JA!$CW:$CW,1,JA!$AJ:$AJ,Parkki!$Y$2) -> 0 | P39: =SUMIFS(JA!$Z:$Z,JA!$AE:$AE,"OK",JA!$X:$X,Parkki!$Y$6,JA!$BE:$BE,Parkki!$Y$5,JA!$AI:$AI,Parkki!$Y$2,JA!$Y:$Y,$U39,JA!$AJ:$AJ,Parkki!$Y$2) -> 0 | S39: =IF(M39="",0,1) -> 0 | T39: 27 | U39: =INDEX($AC$5:$AC$37,MATCH(M39,$AD$5:$AD$37,0)) -> ComboBox_TyHlo_yksikko_00000001 | AE39: 2020
A40: Kotimaiset kielet | B40: Suomi | C40: =SUMIFS(AS!$W:$W,AS!$AB:$AB,"OK",AS!$AI:$AI,Parkki!$X40,AS!$AW:$AW,$W$8,AS!$K:$K,$W$7,AS!$X:$X,Parkki!$Y$5,AS!$AV:$AV,Parkki!$Y$2,AS!$CY:$CY,$U$6,AS!$CZ:$CZ,$U$5) -> 0 | D40: =SUMIFS(AS!$W:$W,AS!$AB:$AB,"OK",AS!$AI:$AI,Parkki!$X40,AS!$AH:$AH,Parkki!$X$8,AS!$AW:$AW,$W$8,AS!$K:$K,$W$7,AS!$X:$X,Parkki!$Y$5,AS!$AV:$AV,Parkki!$Y$2,AS!$CY:$CY,$U$6,AS!$CZ:$CZ,$U$5) -> 0 | E40: =IFERROR(C40/$C$60,"-") -> - | M40: =IFERROR(INDEX($AG$5:$AG$37,MATCH(SMALL($AH$5:$AH$37,T40),$AH$5:$AH$37,0)),"") | N40: =SUMIFS(AS!$W:$W,AS!$AB:$AB,"OK",AS!$AW:$AW,Parkki!$Y$6,AS!$X:$X,Parkki!$Y$5,AS!$AV:$AV,Parkki!$Y$2,AS!$K:$K,Parkki!$U40) -> 0 | O40: =SUMIFS(JA!$Z:$Z,JA!$AE:$AE,"OK",JA!$X:$X,Parkki!$Y$6,JA!$BE:$BE,Parkki!$Y$5,JA!$AI:$AI,Parkki!$Y$2,JA!$Y:$Y,$U40,JA!$CW:$CW,1,JA!$AJ:$AJ,Parkki!$Y$2) -> 0 | P40: =SUMIFS(JA!$Z:$Z,JA!$AE:$AE,"OK",JA!$X:$X,Parkki!$Y$6,JA!$BE:$BE,Parkki!$Y$5,JA!$AI:$AI,Parkki!$Y$2,JA!$Y:$Y,$U40,JA!$AJ:$AJ,Parkki!$Y$2) -> 0 | S40: =IF(M40="",0,1) -> 0 | T40: 28 | U40: =INDEX($AC$5:$AC$37,MATCH(M40,$AD$5:$AD$37,0)) -> ComboBox_TyHlo_yksikko_00000001 | X40: ComboBox_EtKieli#suomi | AE40: ComboBox_EtKieli#
B41: Ruotsi | C41: =SUMIFS(AS!$W:$W,AS!$AB:$AB,"OK",AS!$AI:$AI,Parkki!$X41,AS!$AW:$AW,$W$8,AS!$K:$K,$W$7,AS!$X:$X,Parkki!$Y$5,AS!$AV:$AV,Parkki!$Y$2,AS!$CY:$CY,$U$6,AS!$CZ:$CZ,$U$5) -> 0 | D41: =SUMIFS(AS!$W:$W,AS!$AB:$AB,"OK",AS!$AI:$AI,Parkki!$X41,AS!$AH:$AH,Parkki!$X$8,AS!$AW:$AW,$W$8,AS!$K:$K,$W$7,AS!$X:$X,Parkki!$Y$5,AS!$AV:$AV,Parkki!$Y$2,AS!$CY:$CY,$U$6,AS!$CZ:$CZ,$U$5) -> 0 | E41: =IFERROR(C41/$C$60,"-") -> - | M41: =IFERROR(INDEX($AG$5:$AG$37,MATCH(SMALL($AH$5:$AH$37,T41),$AH$5:$AH$37,0)),"") | N41: =SUMIFS(AS!$W:$W,AS!$AB:$AB,"OK",AS!$AW:$AW,Parkki!$Y$6,AS!$X:$X,Parkki!$Y$5,AS!$AV:$AV,Parkki!$Y$2,AS!$K:$K,Parkki!$U41) -> 0 | O41: =SUMIFS(JA!$Z:$Z,JA!$AE:$AE,"OK",JA!$X:$X,Parkki!$Y$6,JA!$BE:$BE,Parkki!$Y$5,JA!$AI:$AI,Parkki!$Y$2,JA!$Y:$Y,$U41,JA!$CW:$CW,1,JA!$AJ:$AJ,Parkki!$Y$2) -> 0 | P41: =SUMIFS(JA!$Z:$Z,JA!$AE:$AE,"OK",JA!$X:$X,Parkki!$Y$6,JA!$BE:$BE,Parkki!$Y$5,JA!$AI:$AI,Parkki!$Y$2,JA!$Y:$Y,$U41,JA!$AJ:$AJ,Parkki!$Y$2) -> 0 | S41: =IF(M41="",0,1) -> 0 | T41: 29 | U41: =INDEX($AC$5:$AC$37,MATCH(M41,$AD$5:$AD$37,0)) -> ComboBox_TyHlo_yksikko_00000001 | X41: ComboBox_EtKieli#ruotsi | AE41: ComboBox_EtKieli#suomi
B42: Saame | C42: =SUMIFS(AS!$W:$W,AS!$AB:$AB,"OK",AS!$AI:$AI,Parkki!$X42,AS!$AW:$AW,$W$8,AS!$K:$K,$W$7,AS!$X:$X,Parkki!$Y$5,AS!$AV:$AV,Parkki!$Y$2,AS!$CY:$CY,$U$6,AS!$CZ:$CZ,$U$5) -> 0 | D42: =SUMIFS(AS!$W:$W,AS!$AB:$AB,"OK",AS!$AI:$AI,Parkki!$X42,AS!$AH:$AH,Parkki!$X$8,AS!$AW:$AW,$W$8,AS!$K:$K,$W$7,AS!$X:$X,Parkki!$Y$5,AS!$AV:$AV,Parkki!$Y$2,AS!$CY:$CY,$U$6,AS!$CZ:$CZ,$U$5) -> 0 | E42: =IFERROR(C42/$C$60,"-") -> - | M42: =IFERROR(INDEX($AG$5:$AG$37,MATCH(SMALL($AH$5:$AH$37,T42),$AH$5:$AH$37,0)),"") | N42: =SUMIFS(AS!$W:$W,AS!$AB:$AB,"OK",AS!$AW:$AW,Parkki!$Y$6,AS!$X:$X,Parkki!$Y$5,AS!$AV:$AV,Parkki!$Y$2,AS!$K:$K,Parkki!$U42) -> 0 | O42: =SUMIFS(JA!$Z:$Z,JA!$AE:$AE,"OK",JA!$AX:$AX,Parkki!$Y$6,JA!$BE:$BE,Parkki!$Y$5,JA!$AI:$AI,Parkki!$Y$2,JA!$Y:$Y,$U42,JA!$CW:$CW,1,JA!$AJ:$AJ,Parkki!$Y$2) -> 0 | P42: =SUMIFS(JA!$Z:$Z,JA!$AE:$AE,"OK",JA!$AX:$AX,Parkki!$Y$6,JA!$BE:$BE,Parkki!$Y$5,JA!$AI:$AI,Parkki!$Y$2,JA!$Y:$Y,$U42,JA!$AJ:$AJ,Parkki!$Y$2) -> 0 | S42: 0 | T42: 30 | U42: =INDEX($AC$5:$AC$37,MATCH(M42,$AD$5:$AD$37,0)) -> ComboBox_TyHlo_yksikko_00000001 | X42: ComboBox_EtKieli#saame | AE42: ComboBox_EtKieli#ruotsi
A43: Vierasperäiset kielet | B43: Albania | C43: =SUMIFS(AS!$W:$W,AS!$AB:$AB,"OK",AS!$AI:$AI,Parkki!$X43,AS!$AW:$AW,$W$8,AS!$K:$K,$W$7,AS!$X:$X,Parkki!$Y$5,AS!$AV:$AV,Parkki!$Y$2,AS!$CY:$CY,$U$6,AS!$CZ:$CZ,$U$5) -> 0 | D43: =SUMIFS(AS!$W:$W,AS!$AB:$AB,"OK",AS!$AI:$AI,Parkki!$X43,AS!$AH:$AH,Parkki!$X$8,AS!$AW:$AW,$W$8,AS!$K:$K,$W$7,AS!$X:$X,Parkki!$Y$5,AS!$AV:$AV,Parkki!$Y$2,AS!$CY:$CY,$U$6,AS!$CZ:$CZ,$U$5) -> 0 | E43: =IFERROR(C43/$C$60,"-") -> - | M43: ="Kunnat "&X10&F5 -> Kunnat - 01.01.2026-31.12.2026 Kaikki yksiköt | X43: ComboBox_EtKieli#albania | AE43: ComboBox_EtKieli#albania
B44: Arabia | C44: =SUMIFS(AS!$W:$W,AS!$AB:$AB,"OK",AS!$AI:$AI,Parkki!$X44,AS!$AW:$AW,$W$8,AS!$K:$K,$W$7,AS!$X:$X,Parkki!$Y$5,AS!$AV:$AV,Parkki!$Y$2,AS!$CY:$CY,$U$6,AS!$CZ:$CZ,$U$5) -> 0 | D44: =SUMIFS(AS!$W:$W,AS!$AB:$AB,"OK",AS!$AI:$AI,Parkki!$X44,AS!$AH:$AH,Parkki!$X$8,AS!$AW:$AW,$W$8,AS!$K:$K,$W$7,AS!$X:$X,Parkki!$Y$5,AS!$AV:$AV,Parkki!$Y$2,AS!$CY:$CY,$U$6,AS!$CZ:$CZ,$U$5) -> 0 | E44: =IFERROR(C44/$C$60,"-") -> - | M44: Organisaation kunnat | N44: Kaikki henkilöt | O44: Henkilöt / kunta | P44: Sopimus-jaksot /kunta | X44: ComboBox_EtKieli#arabia | AE44: ComboBox_EtKieli#arabia
B45: Dari | C45: =SUMIFS(AS!$W:$W,AS!$AB:$AB,"OK",AS!$AI:$AI,Parkki!$X45,AS!$AW:$AW,$W$8,AS!$K:$K,$W$7,AS!$X:$X,Parkki!$Y$5,AS!$AV:$AV,Parkki!$Y$2,AS!$CY:$CY,$U$6,AS!$CZ:$CZ,$U$5) -> 0 | D45: =SUMIFS(AS!$W:$W,AS!$AB:$AB,"OK",AS!$AI:$AI,Parkki!$X45,AS!$AH:$AH,Parkki!$X$8,AS!$AW:$AW,$W$8,AS!$K:$K,$W$7,AS!$X:$X,Parkki!$Y$5,AS!$AV:$AV,Parkki!$Y$2,AS!$CY:$CY,$U$6,AS!$CZ:$CZ,$U$5) -> 0 | E45: =IFERROR(C45/$C$60,"-") -> - | X45: ComboBox_EtKieli#dari | AE45: ComboBox_EtKieli#eesti
B46: Eesti | C46: =SUMIFS(AS!$W:$W,AS!$AB:$AB,"OK",AS!$AI:$AI,Parkki!$X46,AS!$AW:$AW,$W$8,AS!$K:$K,$W$7,AS!$X:$X,Parkki!$Y$5,AS!$AV:$AV,Parkki!$Y$2,AS!$CY:$CY,$U$6,AS!$CZ:$CZ,$U$5) -> 0 | D46: =SUMIFS(AS!$W:$W,AS!$AB:$AB,"OK",AS!$AI:$AI,Parkki!$X46,AS!$AH:$AH,Parkki!$X$8,AS!$AW:$AW,$W$8,AS!$K:$K,$W$7,AS!$X:$X,Parkki!$Y$5,AS!$AV:$AV,Parkki!$Y$2,AS!$CY:$CY,$U$6,AS!$CZ:$CZ,$U$5) -> 0 | E46: =IFERROR(C46/$C$60,"-") -> - | X46: ComboBox_EtKieli#eesti | AE46: ComboBox_EtKieli#englanti
B47: Englanti | C47: =SUMIFS(AS!$W:$W,AS!$AB:$AB,"OK",AS!$AI:$AI,Parkki!$X47,AS!$AW:$AW,$W$8,AS!$K:$K,$W$7,AS!$X:$X,Parkki!$Y$5,AS!$AV:$AV,Parkki!$Y$2,AS!$CY:$CY,$U$6,AS!$CZ:$CZ,$U$5) -> 0 | D47: =SUMIFS(AS!$W:$W,AS!$AB:$AB,"OK",AS!$AI:$AI,Parkki!$X47,AS!$AH:$AH,Parkki!$X$8,AS!$AW:$AW,$W$8,AS!$K:$K,$W$7,AS!$X:$X,Parkki!$Y$5,AS!$AV:$AV,Parkki!$Y$2,AS!$CY:$CY,$U$6,AS!$CZ:$CZ,$U$5) -> 0 | E47: =IFERROR(C47/$C$60,"-") -> - | M47: =IFERROR(INDEX($AJ$5:$AJ$37,MATCH(SMALL($AK$5:$AK$37,T47),$AK$5:$AK$37,0)),"") -> Kaikki kunnat | N47: =SUMIFS(AS!$W:$W,AS!$AB:$AB,"OK",AS!$X:$X,Parkki!$Y$5,AS!$AV:$AV,Parkki!$Y$2,AS!$AW:$AW,Parkki!$U47,AS!$K:$K,$Y$1) -> 0 | O47: =SUMIFS(JA!$Z:$Z,JA!$AE:$AE,"OK",JA!$BE:$BE,Parkki!$Y$5,JA!$AI:$AI,Parkki!$Y$2,JA!$X:$X,$U47,JA!$CZ:$CZ,1,JA!$AJ:$AJ,Parkki!$Y$2,JA!$Y:$Y,$Y$1) -> 0 | P47: =SUMIFS(JA!$Z:$Z,JA!$AE:$AE,"OK",JA!$BE:$BE,Parkki!$Y$5,JA!$AI:$AI,Parkki!$Y$2,JA!$X:$X,$U47,JA!$AJ:$AJ,Parkki!$Y$2,JA!$Y:$Y,$Y$1) -> 0 | S47: =IF(M47="",0,1) -> 1 | T47: 1 | U47: =INDEX($AA$5:$AA$37,MATCH(M47,$AB$5:$AB$37,0)) -> * | X47: ComboBox_EtKieli#englanti | AE47: ComboBox_EtKieli#ranska
B48: Kurdi | C48: =SUMIFS(AS!$W:$W,AS!$AB:$AB,"OK",AS!$AI:$AI,Parkki!$X48,AS!$AW:$AW,$W$8,AS!$K:$K,$W$7,AS!$X:$X,Parkki!$Y$5,AS!$AV:$AV,Parkki!$Y$2,AS!$CY:$CY,$U$6,AS!$CZ:$CZ,$U$5) -> 0 | D48: =SUMIFS(AS!$W:$W,AS!$AB:$AB,"OK",AS!$AI:$AI,Parkki!$X48,AS!$AH:$AH,Parkki!$X$8,AS!$AW:$AW,$W$8,AS!$K:$K,$W$7,AS!$X:$X,Parkki!$Y$5,AS!$AV:$AV,Parkki!$Y$2,AS!$CY:$CY,$U$6,AS!$CZ:$CZ,$U$5) -> 0 | E48: =IFERROR(C48/$C$60,"-") -> - | M48: =IFERROR(INDEX($AJ$5:$AJ$37,MATCH(SMALL($AK$5:$AK$37,T48),$AK$5:$AK$37,0)),"") -> Ei kuntaluokkaa | N48: =SUMIFS(AS!$W:$W,AS!$AB:$AB,"OK",AS!$X:$X,Parkki!$Y$5,AS!$AV:$AV,Parkki!$Y$2,AS!$AW:$AW,Parkki!$U48,AS!$K:$K,$Y$1) -> 0 | O48: =SUMIFS(JA!$Z:$Z,JA!$AE:$AE,"OK",JA!$BE:$BE,Parkki!$Y$5,JA!$AI:$AI,Parkki!$Y$2,JA!$X:$X,$U48,JA!$CZ:$CZ,1,JA!$AJ:$AJ,Parkki!$Y$2,JA!$Y:$Y,$Y$1) -> 0 | P48: =SUMIFS(JA!$Z:$Z,JA!$AE:$AE,"OK",JA!$BE:$BE,Parkki!$Y$5,JA!$AI:$AI,Parkki!$Y$2,JA!$X:$X,$U48,JA!$AJ:$AJ,Parkki!$Y$2,JA!$Y:$Y,$Y$1) -> 0 | S48: =IF(M48="",0,1) -> 1 | T48: 2 | U48: =INDEX($AA$5:$AA$37,MATCH(M48,$AB$5:$AB$37,0)) -> tyhja | X48: ComboBox_EtKieli#kurdi | AE48: ComboBox_EtKieli#kurdi
B49: Ranska | C49: =SUMIFS(AS!$W:$W,AS!$AB:$AB,"OK",AS!$AI:$AI,Parkki!$X49,AS!$AW:$AW,$W$8,AS!$K:$K,$W$7,AS!$X:$X,Parkki!$Y$5,AS!$AV:$AV,Parkki!$Y$2,AS!$CY:$CY,$U$6,AS!$CZ:$CZ,$U$5) -> 0 | D49: =SUMIFS(AS!$W:$W,AS!$AB:$AB,"OK",AS!$AI:$AI,Parkki!$X49,AS!$AH:$AH,Parkki!$X$8,AS!$AW:$AW,$W$8,AS!$K:$K,$W$7,AS!$X:$X,Parkki!$Y$5,AS!$AV:$AV,Parkki!$Y$2,AS!$CY:$CY,$U$6,AS!$CZ:$CZ,$U$5) -> 0 | E49: =IFERROR(C49/$C$60,"-") -> - | M49: =IFERROR(INDEX($AJ$5:$AJ$37,MATCH(SMALL($AK$5:$AK$37,T49),$AK$5:$AK$37,0)),"") -> Muut kunnat | N49: =SUMIFS(AS!$W:$W,AS!$AB:$AB,"OK",AS!$X:$X,Parkki!$Y$5,AS!$AV:$AV,Parkki!$Y$2,AS!$AW:$AW,Parkki!$U49,AS!$K:$K,$Y$1) -> 0 | O49: =SUMIFS(JA!$Z:$Z,JA!$AE:$AE,"OK",JA!$BE:$BE,Parkki!$Y$5,JA!$AI:$AI,Parkki!$Y$2,JA!$X:$X,$U49,JA!$CZ:$CZ,1,JA!$AJ:$AJ,Parkki!$Y$2,JA!$Y:$Y,$Y$1) -> 0 | P49: =SUMIFS(JA!$Z:$Z,JA!$AE:$AE,"OK",JA!$BE:$BE,Parkki!$Y$5,JA!$AI:$AI,Parkki!$Y$2,JA!$X:$X,$U49,JA!$AJ:$AJ,Parkki!$Y$2,JA!$Y:$Y,$Y$1) -> 0 | S49: =IF(M49="",0,1) -> 1 | T49: 3 | U49: =INDEX($AA$5:$AA$37,MATCH(M49,$AB$5:$AB$37,0)) -> muut | X49: ComboBox_EtKieli#ranska | AE49: ComboBox_EtKieli#saame
B50: Saksa | C50: =SUMIFS(AS!$W:$W,AS!$AB:$AB,"OK",AS!$AI:$AI,Parkki!$X50,AS!$AW:$AW,$W$8,AS!$K:$K,$W$7,AS!$X:$X,Parkki!$Y$5,AS!$AV:$AV,Parkki!$Y$2,AS!$CY:$CY,$U$6,AS!$CZ:$CZ,$U$5) -> 0 | D50: =SUMIFS(AS!$W:$W,AS!$AB:$AB,"OK",AS!$AI:$AI,Parkki!$X50,AS!$AH:$AH,Parkki!$X$8,AS!$AW:$AW,$W$8,AS!$K:$K,$W$7,AS!$X:$X,Parkki!$Y$5,AS!$AV:$AV,Parkki!$Y$2,AS!$CY:$CY,$U$6,AS!$CZ:$CZ,$U$5) -> 0 | E50: =IFERROR(C50/$C$60,"-") -> - | M50: =IFERROR(INDEX($AJ$5:$AJ$37,MATCH(SMALL($AK$5:$AK$37,T50),$AK$5:$AK$37,0)),"") | N50: =SUMIFS(AS!$W:$W,AS!$AB:$AB,"OK",AS!$X:$X,Parkki!$Y$5,AS!$AV:$AV,Parkki!$Y$2,AS!$AW:$AW,Parkki!$U50,AS!$K:$K,$Y$1) -> 0 | O50: =SUMIFS(JA!$Z:$Z,JA!$AE:$AE,"OK",JA!$BE:$BE,Parkki!$Y$5,JA!$AI:$AI,Parkki!$Y$2,JA!$X:$X,$U50,JA!$CZ:$CZ,1,JA!$AJ:$AJ,Parkki!$Y$2,JA!$Y:$Y,$Y$1) -> 0 | P50: =SUMIFS(JA!$Z:$Z,JA!$AE:$AE,"OK",JA!$BE:$BE,Parkki!$Y$5,JA!$AI:$AI,Parkki!$Y$2,JA!$X:$X,$U50,JA!$AJ:$AJ,Parkki!$Y$2,JA!$Y:$Y,$Y$1) -> 0 | S50: =IF(M50="",0,1) -> 0 | T50: 4 | U50: =INDEX($AA$5:$AA$37,MATCH(M50,$AB$5:$AB$37,0)) -> ComboBox_EtKuntakoodi_00000001 | X50: ComboBox_EtKieli#saksa | AE50: ComboBox_EtKieli#saksa
B51: Somali | C51: =SUMIFS(AS!$W:$W,AS!$AB:$AB,"OK",AS!$AI:$AI,Parkki!$X51,AS!$AW:$AW,$W$8,AS!$K:$K,$W$7,AS!$X:$X,Parkki!$Y$5,AS!$AV:$AV,Parkki!$Y$2,AS!$CY:$CY,$U$6,AS!$CZ:$CZ,$U$5) -> 0 | D51: =SUMIFS(AS!$W:$W,AS!$AB:$AB,"OK",AS!$AI:$AI,Parkki!$X51,AS!$AH:$AH,Parkki!$X$8,AS!$AW:$AW,$W$8,AS!$K:$K,$W$7,AS!$X:$X,Parkki!$Y$5,AS!$AV:$AV,Parkki!$Y$2,AS!$CY:$CY,$U$6,AS!$CZ:$CZ,$U$5) -> 0 | E51: =IFERROR(C51/$C$60,"-") -> - | M51: =IFERROR(INDEX($AJ$5:$AJ$37,MATCH(SMALL($AK$5:$AK$37,T51),$AK$5:$AK$37,0)),"") | N51: =SUMIFS(AS!$W:$W,AS!$AB:$AB,"OK",AS!$X:$X,Parkki!$Y$5,AS!$AV:$AV,Parkki!$Y$2,AS!$AW:$AW,Parkki!$U51,AS!$K:$K,$Y$1) -> 0 | O51: =SUMIFS(JA!$Z:$Z,JA!$AE:$AE,"OK",JA!$BE:$BE,Parkki!$Y$5,JA!$AI:$AI,Parkki!$Y$2,JA!$X:$X,$U51,JA!$CZ:$CZ,1,JA!$AJ:$AJ,Parkki!$Y$2,JA!$Y:$Y,$Y$1) -> 0 | P51: =SUMIFS(JA!$Z:$Z,JA!$AE:$AE,"OK",JA!$BE:$BE,Parkki!$Y$5,JA!$AI:$AI,Parkki!$Y$2,JA!$X:$X,$U51,JA!$AJ:$AJ,Parkki!$Y$2,JA!$Y:$Y,$Y$1) -> 0 | S51: =IF(M51="",0,1) -> 0 | T51: 5 | U51: =INDEX($AA$5:$AA$37,MATCH(M51,$AB$5:$AB$37,0)) -> ComboBox_EtKuntakoodi_00000001 | X51: ComboBox_EtKieli#somali | AE51: ComboBox_EtKieli#somali
B52: Swahili | C52: =SUMIFS(AS!$W:$W,AS!$AB:$AB,"OK",AS!$AI:$AI,Parkki!$X52,AS!$AW:$AW,$W$8,AS!$K:$K,$W$7,AS!$X:$X,Parkki!$Y$5,AS!$AV:$AV,Parkki!$Y$2,AS!$CY:$CY,$U$6,AS!$CZ:$CZ,$U$5) -> 0 | D52: =SUMIFS(AS!$W:$W,AS!$AB:$AB,"OK",AS!$AI:$AI,Parkki!$X52,AS!$AH:$AH,Parkki!$X$8,AS!$AW:$AW,$W$8,AS!$K:$K,$W$7,AS!$X:$X,Parkki!$Y$5,AS!$AV:$AV,Parkki!$Y$2,AS!$CY:$CY,$U$6,AS!$CZ:$CZ,$U$5) -> 0 | E52: =IFERROR(C52/$C$60,"-") -> - | M52: =IFERROR(INDEX($AJ$5:$AJ$37,MATCH(SMALL($AK$5:$AK$37,T52),$AK$5:$AK$37,0)),"") | N52: =SUMIFS(AS!$W:$W,AS!$AB:$AB,"OK",AS!$X:$X,Parkki!$Y$5,AS!$AV:$AV,Parkki!$Y$2,AS!$AW:$AW,Parkki!$U52,AS!$K:$K,$Y$1) -> 0 | O52: =SUMIFS(JA!$Z:$Z,JA!$AE:$AE,"OK",JA!$BE:$BE,Parkki!$Y$5,JA!$AI:$AI,Parkki!$Y$2,JA!$X:$X,$U52,JA!$CZ:$CZ,1,JA!$AJ:$AJ,Parkki!$Y$2,JA!$Y:$Y,$Y$1) -> 0 | P52: =SUMIFS(JA!$Z:$Z,JA!$AE:$AE,"OK",JA!$BE:$BE,Parkki!$Y$5,JA!$AI:$AI,Parkki!$Y$2,JA!$X:$X,$U52,JA!$AJ:$AJ,Parkki!$Y$2,JA!$Y:$Y,$Y$1) -> 0 | S52: =IF(M52="",0,1) -> 0 | T52: 6 | U52: =INDEX($AA$5:$AA$37,MATCH(M52,$AB$5:$AB$37,0)) -> ComboBox_EtKuntakoodi_00000001 | X52: ComboBox_EtKieli#swahili | AE52: ComboBox_EtKieli#thai
B53: Thai | C53: =SUMIFS(AS!$W:$W,AS!$AB:$AB,"OK",AS!$AI:$AI,Parkki!$X53,AS!$AW:$AW,$W$8,AS!$K:$K,$W$7,AS!$X:$X,Parkki!$Y$5,AS!$AV:$AV,Parkki!$Y$2,AS!$CY:$CY,$U$6,AS!$CZ:$CZ,$U$5) -> 0 | D53: =SUMIFS(AS!$W:$W,AS!$AB:$AB,"OK",AS!$AI:$AI,Parkki!$X53,AS!$AH:$AH,Parkki!$X$8,AS!$AW:$AW,$W$8,AS!$K:$K,$W$7,AS!$X:$X,Parkki!$Y$5,AS!$AV:$AV,Parkki!$Y$2,AS!$CY:$CY,$U$6,AS!$CZ:$CZ,$U$5) -> 0 | E53: =IFERROR(C53/$C$60,"-") -> - | M53: =IFERROR(INDEX($AJ$5:$AJ$37,MATCH(SMALL($AK$5:$AK$37,T53),$AK$5:$AK$37,0)),"") | N53: =SUMIFS(AS!$W:$W,AS!$AB:$AB,"OK",AS!$X:$X,Parkki!$Y$5,AS!$AV:$AV,Parkki!$Y$2,AS!$AW:$AW,Parkki!$U53,AS!$K:$K,$Y$1) -> 0 | O53: =SUMIFS(JA!$Z:$Z,JA!$AE:$AE,"OK",JA!$BE:$BE,Parkki!$Y$5,JA!$AI:$AI,Parkki!$Y$2,JA!$X:$X,$U53,JA!$CZ:$CZ,1,JA!$AJ:$AJ,Parkki!$Y$2,JA!$Y:$Y,$Y$1) -> 0 | P53: =SUMIFS(JA!$Z:$Z,JA!$AE:$AE,"OK",JA!$BE:$BE,Parkki!$Y$5,JA!$AI:$AI,Parkki!$Y$2,JA!$X:$X,$U53,JA!$AJ:$AJ,Parkki!$Y$2,JA!$Y:$Y,$Y$1) -> 0 | S53: =IF(M53="",0,1) -> 0 | T53: 7 | U53: =INDEX($AA$5:$AA$37,MATCH(M53,$AB$5:$AB$37,0)) -> ComboBox_EtKuntakoodi_00000001 | X53: ComboBox_EtKieli#thai | AE53: ComboBox_EtKieli#venäjä
B54: Ukraina | C54: =SUMIFS(AS!$W:$W,AS!$AB:$AB,"OK",AS!$AI:$AI,Parkki!$X54,AS!$AW:$AW,$W$8,AS!$K:$K,$W$7,AS!$X:$X,Parkki!$Y$5,AS!$AV:$AV,Parkki!$Y$2,AS!$CY:$CY,$U$6,AS!$CZ:$CZ,$U$5) -> 0 | D54: =SUMIFS(AS!$W:$W,AS!$AB:$AB,"OK",AS!$AI:$AI,Parkki!$X54,AS!$AH:$AH,Parkki!$X$8,AS!$AW:$AW,$W$8,AS!$K:$K,$W$7,AS!$X:$X,Parkki!$Y$5,AS!$AV:$AV,Parkki!$Y$2,AS!$CY:$CY,$U$6,AS!$CZ:$CZ,$U$5) -> 0 | E54: =IFERROR(C54/$C$60,"-") -> - | M54: =IFERROR(INDEX($AJ$5:$AJ$37,MATCH(SMALL($AK$5:$AK$37,T54),$AK$5:$AK$37,0)),"") | N54: =SUMIFS(AS!$W:$W,AS!$AB:$AB,"OK",AS!$X:$X,Parkki!$Y$5,AS!$AV:$AV,Parkki!$Y$2,AS!$AW:$AW,Parkki!$U54,AS!$K:$K,$Y$1) -> 0 | O54: =SUMIFS(JA!$Z:$Z,JA!$AE:$AE,"OK",JA!$BE:$BE,Parkki!$Y$5,JA!$AI:$AI,Parkki!$Y$2,JA!$X:$X,$U54,JA!$CZ:$CZ,1,JA!$AJ:$AJ,Parkki!$Y$2,JA!$Y:$Y,$Y$1) -> 0 | P54: =SUMIFS(JA!$Z:$Z,JA!$AE:$AE,"OK",JA!$BE:$BE,Parkki!$Y$5,JA!$AI:$AI,Parkki!$Y$2,JA!$X:$X,$U54,JA!$AJ:$AJ,Parkki!$Y$2,JA!$Y:$Y,$Y$1) -> 0 | S54: =IF(M54="",0,1) -> 0 | T54: 8 | U54: =INDEX($AA$5:$AA$37,MATCH(M54,$AB$5:$AB$37,0)) -> ComboBox_EtKuntakoodi_00000001 | X54: ComboBox_EtKieli#ukraina
B55: Venäjä | C55: =SUMIFS(AS!$W:$W,AS!$AB:$AB,"OK",AS!$AI:$AI,Parkki!$X55,AS!$AW:$AW,$W$8,AS!$K:$K,$W$7,AS!$X:$X,Parkki!$Y$5,AS!$AV:$AV,Parkki!$Y$2,AS!$CY:$CY,$U$6,AS!$CZ:$CZ,$U$5) -> 0 | D55: =SUMIFS(AS!$W:$W,AS!$AB:$AB,"OK",AS!$AI:$AI,Parkki!$X55,AS!$AH:$AH,Parkki!$X$8,AS!$AW:$AW,$W$8,AS!$K:$K,$W$7,AS!$X:$X,Parkki!$Y$5,AS!$AV:$AV,Parkki!$Y$2,AS!$CY:$CY,$U$6,AS!$CZ:$CZ,$U$5) -> 0 | E55: =IFERROR(C55/$C$60,"-") -> - | M55: =IFERROR(INDEX($AJ$5:$AJ$37,MATCH(SMALL($AK$5:$AK$37,T55),$AK$5:$AK$37,0)),"") | N55: =SUMIFS(AS!$W:$W,AS!$AB:$AB,"OK",AS!$X:$X,Parkki!$Y$5,AS!$AV:$AV,Parkki!$Y$2,AS!$AW:$AW,Parkki!$U55,AS!$K:$K,$Y$1) -> 0 | O55: =SUMIFS(JA!$Z:$Z,JA!$AE:$AE,"OK",JA!$BE:$BE,Parkki!$Y$5,JA!$AI:$AI,Parkki!$Y$2,JA!$X:$X,$U55,JA!$CZ:$CZ,1,JA!$AJ:$AJ,Parkki!$Y$2,JA!$Y:$Y,$Y$1) -> 0 | P55: =SUMIFS(JA!$Z:$Z,JA!$AE:$AE,"OK",JA!$BE:$BE,Parkki!$Y$5,JA!$AI:$AI,Parkki!$Y$2,JA!$X:$X,$U55,JA!$AJ:$AJ,Parkki!$Y$2,JA!$Y:$Y,$Y$1) -> 0 | S55: =IF(M55="",0,1) -> 0 | T55: 9 | U55: =INDEX($AA$5:$AA$37,MATCH(M55,$AB$5:$AB$37,0)) -> ComboBox_EtKuntakoodi_00000001 | X55: ComboBox_EtKieli#venäjä
B56: Vietnam | C56: =SUMIFS(AS!$W:$W,AS!$AB:$AB,"OK",AS!$AI:$AI,Parkki!$X56,AS!$AW:$AW,$W$8,AS!$K:$K,$W$7,AS!$X:$X,Parkki!$Y$5,AS!$AV:$AV,Parkki!$Y$2,AS!$CY:$CY,$U$6,AS!$CZ:$CZ,$U$5) -> 0 | D56: =SUMIFS(AS!$W:$W,AS!$AB:$AB,"OK",AS!$AI:$AI,Parkki!$X56,AS!$AH:$AH,Parkki!$X$8,AS!$AW:$AW,$W$8,AS!$K:$K,$W$7,AS!$X:$X,Parkki!$Y$5,AS!$AV:$AV,Parkki!$Y$2,AS!$CY:$CY,$U$6,AS!$CZ:$CZ,$U$5) -> 0 | E56: =IFERROR(C56/$C$60,"-") -> - | M56: =IFERROR(INDEX($AJ$5:$AJ$37,MATCH(SMALL($AK$5:$AK$37,T56),$AK$5:$AK$37,0)),"") | N56: =SUMIFS(AS!$W:$W,AS!$AB:$AB,"OK",AS!$X:$X,Parkki!$Y$5,AS!$AV:$AV,Parkki!$Y$2,AS!$AW:$AW,Parkki!$U56,AS!$K:$K,$Y$1) -> 0 | O56: =SUMIFS(JA!$Z:$Z,JA!$AE:$AE,"OK",JA!$BE:$BE,Parkki!$Y$5,JA!$AI:$AI,Parkki!$Y$2,JA!$X:$X,$U56,JA!$CZ:$CZ,1,JA!$AJ:$AJ,Parkki!$Y$2,JA!$Y:$Y,$Y$1) -> 0 | P56: =SUMIFS(JA!$Z:$Z,JA!$AE:$AE,"OK",JA!$BE:$BE,Parkki!$Y$5,JA!$AI:$AI,Parkki!$Y$2,JA!$X:$X,$U56,JA!$AJ:$AJ,Parkki!$Y$2,JA!$Y:$Y,$Y$1) -> 0 | S56: =IF(M56="",0,1) -> 0 | T56: 10 | U56: =INDEX($AA$5:$AA$37,MATCH(M56,$AB$5:$AB$37,0)) -> ComboBox_EtKuntakoodi_00000001 | X56: ComboBox_EtKieli#vietnam
B57: Muut äidinkielet | C57: =SUMIFS(AS!$W:$W,AS!$AB:$AB,"OK",AS!$AI:$AI,Parkki!$X57,AS!$AW:$AW,$W$8,AS!$K:$K,$W$7,AS!$X:$X,Parkki!$Y$5,AS!$AV:$AV,Parkki!$Y$2,AS!$CY:$CY,$U$6,AS!$CZ:$CZ,$U$5) -> 0 | D57: =SUMIFS(AS!$W:$W,AS!$AB:$AB,"OK",AS!$AI:$AI,Parkki!$X57,AS!$AH:$AH,Parkki!$X$8,AS!$AW:$AW,$W$8,AS!$K:$K,$W$7,AS!$X:$X,Parkki!$Y$5,AS!$AV:$AV,Parkki!$Y$2,AS!$CY:$CY,$U$6,AS!$CZ:$CZ,$U$5) -> 0 | E57: =IFERROR(C57/$C$60,"-") -> - | M57: =IFERROR(INDEX($AJ$5:$AJ$37,MATCH(SMALL($AK$5:$AK$37,T57),$AK$5:$AK$37,0)),"") | N57: =SUMIFS(AS!$W:$W,AS!$AB:$AB,"OK",AS!$X:$X,Parkki!$Y$5,AS!$AV:$AV,Parkki!$Y$2,AS!$AW:$AW,Parkki!$U57,AS!$K:$K,$Y$1) -> 0 | O57: =SUMIFS(JA!$Z:$Z,JA!$AE:$AE,"OK",JA!$BE:$BE,Parkki!$Y$5,JA!$AI:$AI,Parkki!$Y$2,JA!$X:$X,$U57,JA!$CZ:$CZ,1,JA!$AJ:$AJ,Parkki!$Y$2,JA!$Y:$Y,$Y$1) -> 0 | P57: =SUMIFS(JA!$Z:$Z,JA!$AE:$AE,"OK",JA!$BE:$BE,Parkki!$Y$5,JA!$AI:$AI,Parkki!$Y$2,JA!$X:$X,$U57,JA!$AJ:$AJ,Parkki!$Y$2,JA!$Y:$Y,$Y$1) -> 0 | S57: =IF(M57="",0,1) -> 0 | T57: 11 | U57: =INDEX($AA$5:$AA$37,MATCH(M57,$AB$5:$AB$37,0)) -> ComboBox_EtKuntakoodi_00000001 | X57: ComboBox_EtKieli#muu kieli | AE57: ComboBox_EtKieli#vietnam
A58: Ei tietoa | B58: Ei tietoa | C58: =SUMIFS(AS!$W:$W,AS!$AB:$AB,"OK",AS!$AI:$AI,Parkki!$X58,AS!$AW:$AW,$W$8,AS!$K:$K,$W$7,AS!$X:$X,Parkki!$Y$5,AS!$AV:$AV,Parkki!$Y$2,AS!$CY:$CY,$U$6,AS!$CZ:$CZ,$U$5) -> 0 | D58: =SUMIFS(AS!$W:$W,AS!$AB:$AB,"OK",AS!$AI:$AI,Parkki!$X58,AS!$AH:$AH,Parkki!$X$8,AS!$AW:$AW,$W$8,AS!$K:$K,$W$7,AS!$X:$X,Parkki!$Y$5,AS!$AV:$AV,Parkki!$Y$2,AS!$CY:$CY,$U$6,AS!$CZ:$CZ,$U$5) -> 0 | E58: =IFERROR(C58/$C$60,"-") -> - | M58: =IFERROR(INDEX($AJ$5:$AJ$37,MATCH(SMALL($AK$5:$AK$37,T58),$AK$5:$AK$37,0)),"") | N58: =SUMIFS(AS!$W:$W,AS!$AB:$AB,"OK",AS!$X:$X,Parkki!$Y$5,AS!$AV:$AV,Parkki!$Y$2,AS!$AW:$AW,Parkki!$U58,AS!$K:$K,$Y$1) -> 0 | O58: =SUMIFS(JA!$Z:$Z,JA!$AE:$AE,"OK",JA!$BE:$BE,Parkki!$Y$5,JA!$AI:$AI,Parkki!$Y$2,JA!$X:$X,$U58,JA!$CZ:$CZ,1,JA!$AJ:$AJ,Parkki!$Y$2,JA!$Y:$Y,$Y$1) -> 0 | P58: =SUMIFS(JA!$Z:$Z,JA!$AE:$AE,"OK",JA!$BE:$BE,Parkki!$Y$5,JA!$AI:$AI,Parkki!$Y$2,JA!$X:$X,$U58,JA!$AJ:$AJ,Parkki!$Y$2,JA!$Y:$Y,$Y$1) -> 0 | S58: =IF(M58="",0,1) -> 0 | T58: 12 | U58: =INDEX($AA$5:$AA$37,MATCH(M58,$AB$5:$AB$37,0)) -> ComboBox_EtKuntakoodi_00000001 | X58: ComboBox_EtKieli#ei tietoa | AE58: ComboBox_EtKieli#muu kieli
B59: Ei kirjattu | C59: =SUMIFS(AS!$W:$W,AS!$AB:$AB,"OK",AS!$AI:$AI,Parkki!$X59,AS!$AW:$AW,$W$8,AS!$K:$K,$W$7,AS!$X:$X,Parkki!$Y$5,AS!$AV:$AV,Parkki!$Y$2,AS!$CY:$CY,$U$6,AS!$CZ:$CZ,$U$5) -> 0 | D59: =SUMIFS(AS!$W:$W,AS!$AB:$AB,"OK",AS!$AI:$AI,Parkki!$X59,AS!$AH:$AH,Parkki!$X$8,AS!$AW:$AW,$W$8,AS!$K:$K,$W$7,AS!$X:$X,Parkki!$Y$5,AS!$AV:$AV,Parkki!$Y$2,AS!$CY:$CY,$U$6,AS!$CZ:$CZ,$U$5) -> 0 | E59: =IFERROR(C59/$C$60,"-") -> - | M59: =IFERROR(INDEX($AJ$5:$AJ$37,MATCH(SMALL($AK$5:$AK$37,T59),$AK$5:$AK$37,0)),"") | N59: =SUMIFS(AS!$W:$W,AS!$AB:$AB,"OK",AS!$X:$X,Parkki!$Y$5,AS!$AV:$AV,Parkki!$Y$2,AS!$AW:$AW,Parkki!$U59,AS!$K:$K,$Y$1) -> 0 | O59: =SUMIFS(JA!$Z:$Z,JA!$AE:$AE,"OK",JA!$BE:$BE,Parkki!$Y$5,JA!$AI:$AI,Parkki!$Y$2,JA!$X:$X,$U59,JA!$CZ:$CZ,1,JA!$AJ:$AJ,Parkki!$Y$2,JA!$Y:$Y,$Y$1) -> 0 | P59: =SUMIFS(JA!$Z:$Z,JA!$AE:$AE,"OK",JA!$BE:$BE,Parkki!$Y$5,JA!$AI:$AI,Parkki!$Y$2,JA!$X:$X,$U59,JA!$AJ:$AJ,Parkki!$Y$2,JA!$Y:$Y,$Y$1) -> 0 | S59: =IF(M59="",0,1) -> 0 | T59: 13 | U59: =INDEX($AA$5:$AA$37,MATCH(M59,$AB$5:$AB$37,0)) -> ComboBox_EtKuntakoodi_00000001 | X59: ei kirjattu | AE59: ComboBox_EtKieli#ei tietoa
A60: Yhteensä | C60: =IFERROR(SUM(C40:C59),"") -> 0 | D60: =IFERROR(SUM(D40:D59),"") -> 0 | M60: =IFERROR(INDEX($AJ$5:$AJ$37,MATCH(SMALL($AK$5:$AK$37,T60),$AK$5:$AK$37,0)),"") | N60: =SUMIFS(AS!$W:$W,AS!$AB:$AB,"OK",AS!$X:$X,Parkki!$Y$5,AS!$AV:$AV,Parkki!$Y$2,AS!$AW:$AW,Parkki!$U60,AS!$K:$K,$Y$1) -> 0 | O60: =SUMIFS(JA!$Z:$Z,JA!$AE:$AE,"OK",JA!$BE:$BE,Parkki!$Y$5,JA!$AI:$AI,Parkki!$Y$2,JA!$X:$X,$U60,JA!$CZ:$CZ,1,JA!$AJ:$AJ,Parkki!$Y$2,JA!$Y:$Y,$Y$1) -> 0 | P60: =SUMIFS(JA!$Z:$Z,JA!$AE:$AE,"OK",JA!$BE:$BE,Parkki!$Y$5,JA!$AI:$AI,Parkki!$Y$2,JA!$X:$X,$U60,JA!$AJ:$AJ,Parkki!$Y$2,JA!$Y:$Y,$Y$1) -> 0 | S60: =IF(M60="",0,1) -> 0 | T60: 14 | U60: =INDEX($AA$5:$AA$37,MATCH(M60,$AB$5:$AB$37,0)) -> ComboBox_EtKuntakoodi_00000001
M61: =IFERROR(INDEX($AJ$5:$AJ$37,MATCH(SMALL($AK$5:$AK$37,T61),$AK$5:$AK$37,0)),"") | N61: =SUMIFS(AS!$W:$W,AS!$AB:$AB,"OK",AS!$X:$X,Parkki!$Y$5,AS!$AV:$AV,Parkki!$Y$2,AS!$AW:$AW,Parkki!$U61,AS!$K:$K,$Y$1) -> 0 | O61: =SUMIFS(JA!$Z:$Z,JA!$AE:$AE,"OK",JA!$BE:$BE,Parkki!$Y$5,JA!$AI:$AI,Parkki!$Y$2,JA!$X:$X,$U61,JA!$CZ:$CZ,1,JA!$AJ:$AJ,Parkki!$Y$2,JA!$Y:$Y,$Y$1) -> 0 | P61: =SUMIFS(JA!$Z:$Z,JA!$AE:$AE,"OK",JA!$BE:$BE,Parkki!$Y$5,JA!$AI:$AI,Parkki!$Y$2,JA!$X:$X,$U61,JA!$AJ:$AJ,Parkki!$Y$2,JA!$Y:$Y,$Y$1) -> 0 | S61: =IF(M61="",0,1) -> 0 | T61: 15 | U61: =INDEX($AA$5:$AA$37,MATCH(M61,$AB$5:$AB$37,0)) -> ComboBox_EtKuntakoodi_00000001
A62: ="Mitä kautta NUORET valmentautujat ovat ohjautuneet työpajalle" &X10&X12 -> Mitä kautta NUORET valmentautujat ovat ohjautuneet työpajalle - 01.01.2026-31.12.2026 (Kaikki kunnat - tiedot perustiedoista, Kaikki yksiköt - tiedot perustiedoista, Kaikki asiakkuudet) | M62: =IFERROR(INDEX($AJ$5:$AJ$37,MATCH(SMALL($AK$5:$AK$37,T62),$AK$5:$AK$37,0)),"") | N62: =SUMIFS(AS!$W:$W,AS!$AB:$AB,"OK",AS!$X:$X,Parkki!$Y$5,AS!$AV:$AV,Parkki!$Y$2,AS!$AW:$AW,Parkki!$U62,AS!$K:$K,$Y$1) -> 0 | O62: =SUMIFS(JA!$Z:$Z,JA!$AE:$AE,"OK",JA!$BE:$BE,Parkki!$Y$5,JA!$AI:$AI,Parkki!$Y$2,JA!$X:$X,$U62,JA!$CZ:$CZ,1,JA!$AJ:$AJ,Parkki!$Y$2,JA!$Y:$Y,$Y$1) -> 0 | P62: =SUMIFS(JA!$Z:$Z,JA!$AE:$AE,"OK",JA!$BE:$BE,Parkki!$Y$5,JA!$AI:$AI,Parkki!$Y$2,JA!$X:$X,$U62,JA!$AJ:$AJ,Parkki!$Y$2,JA!$Y:$Y,$Y$1) -> 0 | S62: =IF(M62="",0,1) -> 0 | T62: 16 | U62: =INDEX($AA$5:$AA$37,MATCH(M62,$AB$5:$AB$37,0)) -> ComboBox_EtKuntakoodi_00000001
M63: =IFERROR(INDEX($AJ$5:$AJ$37,MATCH(SMALL($AK$5:$AK$37,T63),$AK$5:$AK$37,0)),"") | N63: =SUMIFS(AS!$W:$W,AS!$AB:$AB,"OK",AS!$X:$X,Parkki!$Y$5,AS!$AV:$AV,Parkki!$Y$2,AS!$AW:$AW,Parkki!$U63,AS!$K:$K,$Y$1) -> 0 | O63: =SUMIFS(JA!$Z:$Z,JA!$AE:$AE,"OK",JA!$BE:$BE,Parkki!$Y$5,JA!$AI:$AI,Parkki!$Y$2,JA!$X:$X,$U63,JA!$CZ:$CZ,1,JA!$AJ:$AJ,Parkki!$Y$2,JA!$Y:$Y,$Y$1) -> 0 | P63: =SUMIFS(JA!$Z:$Z,JA!$AE:$AE,"OK",JA!$BE:$BE,Parkki!$Y$5,JA!$AI:$AI,Parkki!$Y$2,JA!$X:$X,$U63,JA!$AJ:$AJ,Parkki!$Y$2,JA!$Y:$Y,$Y$1) -> 0 | S63: =IF(M63="",0,1) -> 0 | T63: 17 | U63: =INDEX($AA$5:$AA$37,MATCH(M63,$AB$5:$AB$37,0)) -> ComboBox_EtKuntakoodi_00000001
A64: Saapuminen | C64: nuoria | D64: joista naisia | M64: =IFERROR(INDEX($AJ$5:$AJ$37,MATCH(SMALL($AK$5:$AK$37,T64),$AK$5:$AK$37,0)),"") | N64: =SUMIFS(AS!$W:$W,AS!$AB:$AB,"OK",AS!$X:$X,Parkki!$Y$5,AS!$AV:$AV,Parkki!$Y$2,AS!$AW:$AW,Parkki!$U64,AS!$K:$K,$Y$1) -> 0 | O64: =SUMIFS(JA!$Z:$Z,JA!$AE:$AE,"OK",JA!$BE:$BE,Parkki!$Y$5,JA!$AI:$AI,Parkki!$Y$2,JA!$X:$X,$U64,JA!$CZ:$CZ,1,JA!$AJ:$AJ,Parkki!$Y$2,JA!$Y:$Y,$Y$1) -> 0 | P64: =SUMIFS(JA!$Z:$Z,JA!$AE:$AE,"OK",JA!$BE:$BE,Parkki!$Y$5,JA!$AI:$AI,Parkki!$Y$2,JA!$X:$X,$U64,JA!$AJ:$AJ,Parkki!$Y$2,JA!$Y:$Y,$Y$1) -> 0 | S64: =IF(M64="",0,1) -> 0 | T64: 18 | U64: =INDEX($AA$5:$AA$37,MATCH(M64,$AB$5:$AB$37,0)) -> ComboBox_EtKuntakoodi_00000001 | X64: ComboBox_TySaapunut#
A65: Oppilaitos | B65: Peruskoulu | C65: =SUMIFS(AS!$W:$W,AS!$AB:$AB,"OK",AS!$AX:$AX,Parkki!$X65,AS!$AH:$AH,Parkki!$X$8,AS!$AW:$AW,$W$8,AS!$K:$K,$W$7,AS!$X:$X,Parkki!$Y$5,AS!$AV:$AV,Parkki!$Y$2,AS!$CY:$CY,$U$6,AS!$CZ:$CZ,$U$5) -> 0 | D65: =SUMIFS(AS!$W:$W,AS!$AB:$AB,"OK",AS!$AX:$AX,Parkki!$X65,AS!$AH:$AH,Parkki!$X$8,AS!$F:$F,Parkki!$X$7,AS!$AW:$AW,$W$8,AS!$K:$K,$W$7,AS!$X:$X,Parkki!$Y$5,AS!$AV:$AV,Parkki!$Y$2,AS!$CY:$CY,$U$6,AS!$CZ:$CZ,$U$5) -> 0 | E65: =IFERROR(C65/$C$90,"-") -> - | M65: =IFERROR(INDEX($AJ$5:$AJ$37,MATCH(SMALL($AK$5:$AK$37,T65),$AK$5:$AK$37,0)),"") | N65: =SUMIFS(AS!$W:$W,AS!$AB:$AB,"OK",AS!$X:$X,Parkki!$Y$5,AS!$AV:$AV,Parkki!$Y$2,AS!$AW:$AW,Parkki!$U65,AS!$K:$K,$Y$1) -> 0 | O65: =SUMIFS(JA!$Z:$Z,JA!$AE:$AE,"OK",JA!$BE:$BE,Parkki!$Y$5,JA!$AI:$AI,Parkki!$Y$2,JA!$X:$X,$U65,JA!$CZ:$CZ,1,JA!$AJ:$AJ,Parkki!$Y$2,JA!$Y:$Y,$Y$1) -> 0 | P65: =SUMIFS(JA!$Z:$Z,JA!$AE:$AE,"OK",JA!$BE:$BE,Parkki!$Y$5,JA!$AI:$AI,Parkki!$Y$2,JA!$X:$X,$U65,JA!$AJ:$AJ,Parkki!$Y$2,JA!$Y:$Y,$Y$1) -> 0 | S65: =IF(M65="",0,1) -> 0 | T65: 19 | U65: =INDEX($AA$5:$AA$37,MATCH(M65,$AB$5:$AB$37,0)) -> ComboBox_EtKuntakoodi_00000001 | X65: ComboBox_TySaapunut#peruskoulu
B66: 2. asteen oppilaitos | C66: =SUMIFS(AS!$W:$W,AS!$AB:$AB,"OK",AS!$AX:$AX,Parkki!$X66,AS!$AH:$AH,Parkki!$X$8,AS!$AW:$AW,$W$8,AS!$K:$K,$W$7,AS!$X:$X,Parkki!$Y$5,AS!$AV:$AV,Parkki!$Y$2,AS!$CY:$CY,$U$6,AS!$CZ:$CZ,$U$5) -> 0 | D66: =SUMIFS(AS!$W:$W,AS!$AB:$AB,"OK",AS!$AX:$AX,Parkki!$X66,AS!$AH:$AH,Parkki!$X$8,AS!$F:$F,Parkki!$X$7,AS!$AW:$AW,$W$8,AS!$K:$K,$W$7,AS!$X:$X,Parkki!$Y$5,AS!$AV:$AV,Parkki!$Y$2,AS!$CY:$CY,$U$6,AS!$CZ:$CZ,$U$5) -> 0 | E66: =IFERROR(C66/$C$90,"-") -> - | M66: =IFERROR(INDEX($AJ$5:$AJ$37,MATCH(SMALL($AK$5:$AK$37,T66),$AK$5:$AK$37,0)),"") | N66: =SUMIFS(AS!$W:$W,AS!$AB:$AB,"OK",AS!$X:$X,Parkki!$Y$5,AS!$AV:$AV,Parkki!$Y$2,AS!$AW:$AW,Parkki!$U66,AS!$K:$K,$Y$1) -> 0 | O66: =SUMIFS(JA!$Z:$Z,JA!$AE:$AE,"OK",JA!$BE:$BE,Parkki!$Y$5,JA!$AI:$AI,Parkki!$Y$2,JA!$X:$X,$U66,JA!$CZ:$CZ,1,JA!$AJ:$AJ,Parkki!$Y$2,JA!$Y:$Y,$Y$1) -> 0 | P66: =SUMIFS(JA!$Z:$Z,JA!$AE:$AE,"OK",JA!$BE:$BE,Parkki!$Y$5,JA!$AI:$AI,Parkki!$Y$2,JA!$X:$X,$U66,JA!$AJ:$AJ,Parkki!$Y$2,JA!$Y:$Y,$Y$1) -> 0 | S66: =IF(M66="",0,1) -> 0 | T66: 20 | U66: =INDEX($AA$5:$AA$37,MATCH(M66,$AB$5:$AB$37,0)) -> ComboBox_EtKuntakoodi_00000001 | X66: ComboBox_TySaapunut#toisen asteen oppilaitos
B67: Muu oppilaitos | C67: =SUMIFS(AS!$W:$W,AS!$AB:$AB,"OK",AS!$AX:$AX,Parkki!$X67,AS!$AH:$AH,Parkki!$X$8,AS!$AW:$AW,$W$8,AS!$K:$K,$W$7,AS!$X:$X,Parkki!$Y$5,AS!$AV:$AV,Parkki!$Y$2,AS!$CY:$CY,$U$6,AS!$CZ:$CZ,$U$5) -> 0 | D67: =SUMIFS(AS!$W:$W,AS!$AB:$AB,"OK",AS!$AX:$AX,Parkki!$X67,AS!$AH:$AH,Parkki!$X$8,AS!$F:$F,Parkki!$X$7,AS!$AW:$AW,$W$8,AS!$K:$K,$W$7,AS!$X:$X,Parkki!$Y$5,AS!$AV:$AV,Parkki!$Y$2,AS!$CY:$CY,$U$6,AS!$CZ:$CZ,$U$5) -> 0 | E67: =IFERROR(C67/$C$90,"-") -> - | M67: =IFERROR(INDEX($AJ$5:$AJ$37,MATCH(SMALL($AK$5:$AK$37,T67),$AK$5:$AK$37,0)),"") | N67: =SUMIFS(AS!$W:$W,AS!$AB:$AB,"OK",AS!$X:$X,Parkki!$Y$5,AS!$AV:$AV,Parkki!$Y$2,AS!$AW:$AW,Parkki!$U67,AS!$K:$K,$Y$1) -> 0 | O67: =SUMIFS(JA!$Z:$Z,JA!$AE:$AE,"OK",JA!$BE:$BE,Parkki!$Y$5,JA!$AI:$AI,Parkki!$Y$2,JA!$X:$X,$U67,JA!$CZ:$CZ,1,JA!$AJ:$AJ,Parkki!$Y$2,JA!$Y:$Y,$Y$1) -> 0 | P67: =SUMIFS(JA!$Z:$Z,JA!$AE:$AE,"OK",JA!$BE:$BE,Parkki!$Y$5,JA!$AI:$AI,Parkki!$Y$2,JA!$X:$X,$U67,JA!$AJ:$AJ,Parkki!$Y$2,JA!$Y:$Y,$Y$1) -> 0 | S67: =IF(M67="",0,1) -> 0 | T67: 21 | U67: =INDEX($AA$5:$AA$37,MATCH(M67,$AB$5:$AB$37,0)) -> ComboBox_EtKuntakoodi_00000001 | X67: ComboBox_TySaapunut#muu oppilaitos
B68: Oppivelvollisuuden ohjaus ja valvonta | C68: =SUMIFS(AS!$W:$W,AS!$AB:$AB,"OK",AS!$AX:$AX,Parkki!$X68,AS!$AH:$AH,Parkki!$X$8,AS!$AW:$AW,$W$8,AS!$K:$K,$W$7,AS!$X:$X,Parkki!$Y$5,AS!$AV:$AV,Parkki!$Y$2,AS!$CY:$CY,$U$6,AS!$CZ:$CZ,$U$5) -> 0 | D68: =SUMIFS(AS!$W:$W,AS!$AB:$AB,"OK",AS!$AX:$AX,Parkki!$X68,AS!$AH:$AH,Parkki!$X$8,AS!$F:$F,Parkki!$X$7,AS!$AW:$AW,$W$8,AS!$K:$K,$W$7,AS!$X:$X,Parkki!$Y$5,AS!$AV:$AV,Parkki!$Y$2,AS!$CY:$CY,$U$6,AS!$CZ:$CZ,$U$5) -> 0 | E68: =IFERROR(C68/$C$90,"-") -> - | M68: =IFERROR(INDEX($AJ$5:$AJ$37,MATCH(SMALL($AK$5:$AK$37,T68),$AK$5:$AK$37,0)),"") | N68: =SUMIFS(AS!$W:$W,AS!$AB:$AB,"OK",AS!$X:$X,Parkki!$Y$5,AS!$AV:$AV,Parkki!$Y$2,AS!$AW:$AW,Parkki!$U68,AS!$K:$K,$Y$1) -> 0 | O68: =SUMIFS(JA!$Z:$Z,JA!$AE:$AE,"OK",JA!$BE:$BE,Parkki!$Y$5,JA!$AI:$AI,Parkki!$Y$2,JA!$X:$X,$U68,JA!$CZ:$CZ,1,JA!$AJ:$AJ,Parkki!$Y$2,JA!$Y:$Y,$Y$1) -> 0 | P68: =SUMIFS(JA!$Z:$Z,JA!$AE:$AE,"OK",JA!$BE:$BE,Parkki!$Y$5,JA!$AI:$AI,Parkki!$Y$2,JA!$X:$X,$U68,JA!$AJ:$AJ,Parkki!$Y$2,JA!$Y:$Y,$Y$1) -> 0 | S68: =IF(M68="",0,1) -> 0 | T68: 22 | U68: =INDEX($AA$5:$AA$37,MATCH(M68,$AB$5:$AB$37,0)) -> ComboBox_EtKuntakoodi_00000001 | X68: ComboBox_TySaapunut#oppivelvollisuuden ohjaus ja valvonta
A69: Nuorisopalvelut | B69: Etsivä nuorisotyö | C69: =SUMIFS(AS!$W:$W,AS!$AB:$AB,"OK",AS!$AX:$AX,Parkki!$X69,AS!$AH:$AH,Parkki!$X$8,AS!$AW:$AW,$W$8,AS!$K:$K,$W$7,AS!$X:$X,Parkki!$Y$5,AS!$AV:$AV,Parkki!$Y$2,AS!$CY:$CY,$U$6,AS!$CZ:$CZ,$U$5) -> 0 | D69: =SUMIFS(AS!$W:$W,AS!$AB:$AB,"OK",AS!$AX:$AX,Parkki!$X69,AS!$AH:$AH,Parkki!$X$8,AS!$F:$F,Parkki!$X$7,AS!$AW:$AW,$W$8,AS!$K:$K,$W$7,AS!$X:$X,Parkki!$Y$5,AS!$AV:$AV,Parkki!$Y$2,AS!$CY:$CY,$U$6,AS!$CZ:$CZ,$U$5) -> 0 | E69: =IFERROR(C69/$C$90,"-") -> - | M69: =IFERROR(INDEX($AJ$5:$AJ$37,MATCH(SMALL($AK$5:$AK$37,T69),$AK$5:$AK$37,0)),"") | N69: =SUMIFS(AS!$W:$W,AS!$AB:$AB,"OK",AS!$X:$X,Parkki!$Y$5,AS!$AV:$AV,Parkki!$Y$2,AS!$AW:$AW,Parkki!$U69,AS!$K:$K,$Y$1) -> 0 | O69: =SUMIFS(JA!$Z:$Z,JA!$AE:$AE,"OK",JA!$BE:$BE,Parkki!$Y$5,JA!$AI:$AI,Parkki!$Y$2,JA!$X:$X,$U69,JA!$CZ:$CZ,1,JA!$AJ:$AJ,Parkki!$Y$2,JA!$Y:$Y,$Y$1) -> 0 | P69: =SUMIFS(JA!$Z:$Z,JA!$AE:$AE,"OK",JA!$BE:$BE,Parkki!$Y$5,JA!$AI:$AI,Parkki!$Y$2,JA!$X:$X,$U69,JA!$AJ:$AJ,Parkki!$Y$2,JA!$Y:$Y,$Y$1) -> 0 | S69: =IF(M69="",0,1) -> 0 | T69: 23 | U69: =INDEX($AA$5:$AA$37,MATCH(M69,$AB$5:$AB$37,0)) -> ComboBox_EtKuntakoodi_00000001 | X69: ComboBox_TySaapunut#etsivä nuorisotyö
B70: Nuorisotoimen palvelut | C70: =SUMIFS(AS!$W:$W,AS!$AB:$AB,"OK",AS!$AX:$AX,Parkki!$X70,AS!$AH:$AH,Parkki!$X$8,AS!$AW:$AW,$W$8,AS!$K:$K,$W$7,AS!$X:$X,Parkki!$Y$5,AS!$AV:$AV,Parkki!$Y$2,AS!$CY:$CY,$U$6,AS!$CZ:$CZ,$U$5)+SUMIFS(AS!$W:$W,AS!$AB:$AB,"OK",AS!$AX:$AX,Parkki!$W70,AS!$AH:$AH,Parkki!$X$8,AS!$AW:$AW,$W$8,AS!$K:$K,$W$7,AS!$X:$X,Parkki!$Y$5,AS!$AV:$AV,Parkki!$Y$2,AS!$CY:$CY,$U$6,AS!$CZ:$CZ,$U$5) -> 0 | D70: =SUMIFS(AS!$W:$W,AS!$AB:$AB,"OK",AS!$AX:$AX,Parkki!$X70,AS!$AH:$AH,Parkki!$X$8,AS!$F:$F,Parkki!$X$7,AS!$AW:$AW,$W$8,AS!$K:$K,$W$7,AS!$X:$X,Parkki!$Y$5,AS!$AV:$AV,Parkki!$Y$2,AS!$CY:$CY,$U$6,AS!$CZ:$CZ,$U$5)+SUMIFS(AS!$W:$W,AS!$AB:$AB,"OK",AS!$AX:$AX,Parkki!$W70,AS!$AH:$AH,Parkki!$X$8,AS!$F:$F,Parkki!$X$7,AS!$AW:$AW,$W$8,AS!$K:$K,$W$7,AS!$X:$X,Parkki!$Y$5,AS!$AV:$AV,Parkki!$Y$2,AS!$CY:$CY,$U$6,AS!$CZ:$CZ,$U$5) -> 0 | E70: =IFERROR(C70/$C$90,"-") -> - | M70: =IFERROR(INDEX($AJ$5:$AJ$37,MATCH(SMALL($AK$5:$AK$37,T70),$AK$5:$AK$37,0)),"") | N70: =SUMIFS(AS!$W:$W,AS!$AB:$AB,"OK",AS!$X:$X,Parkki!$Y$5,AS!$AV:$AV,Parkki!$Y$2,AS!$AW:$AW,Parkki!$U70,AS!$K:$K,$Y$1) -> 0 | O70: =SUMIFS(JA!$Z:$Z,JA!$AE:$AE,"OK",JA!$BE:$BE,Parkki!$Y$5,JA!$AI:$AI,Parkki!$Y$2,JA!$X:$X,$U70,JA!$CZ:$CZ,1,JA!$AJ:$AJ,Parkki!$Y$2,JA!$Y:$Y,$Y$1) -> 0 | P70: =SUMIFS(JA!$Z:$Z,JA!$AE:$AE,"OK",JA!$BE:$BE,Parkki!$Y$5,JA!$AI:$AI,Parkki!$Y$2,JA!$X:$X,$U70,JA!$AJ:$AJ,Parkki!$Y$2,JA!$Y:$Y,$Y$1) -> 0 | S70: =IF(M70="",0,1) -> 0 | T70: 24 | U70: =INDEX($AA$5:$AA$37,MATCH(M70,$AB$5:$AB$37,0)) -> ComboBox_EtKuntakoodi_00000001 | W70: ComboBox_TySaapunut#nuorisotoimi | X70: ComboBox_TySaapunut#nuorisotoimen palvelut | Y70: ComboBox_TySaapunut#muu nuorisotoimi
A71: Työllisyyspalvelut | B71: Ohjaamo | C71: =SUMIFS(AS!$W:$W,AS!$AB:$AB,"OK",AS!$AX:$AX,Parkki!$X71,AS!$AH:$AH,Parkki!$X$8,AS!$AW:$AW,$W$8,AS!$K:$K,$W$7,AS!$X:$X,Parkki!$Y$5,AS!$AV:$AV,Parkki!$Y$2,AS!$CY:$CY,$U$6,AS!$CZ:$CZ,$U$5) -> 0 | D71: =SUMIFS(AS!$W:$W,AS!$AB:$AB,"OK",AS!$AX:$AX,Parkki!$X71,AS!$AH:$AH,Parkki!$X$8,AS!$F:$F,Parkki!$X$7,AS!$AW:$AW,$W$8,AS!$K:$K,$W$7,AS!$X:$X,Parkki!$Y$5,AS!$AV:$AV,Parkki!$Y$2,AS!$CY:$CY,$U$6,AS!$CZ:$CZ,$U$5) -> 0 | E71: =IFERROR(C71/$C$90,"-") -> - | M71: =IFERROR(INDEX($AJ$5:$AJ$37,MATCH(SMALL($AK$5:$AK$37,T71),$AK$5:$AK$37,0)),"") | N71: =SUMIFS(AS!$W:$W,AS!$AB:$AB,"OK",AS!$X:$X,Parkki!$Y$5,AS!$AV:$AV,Parkki!$Y$2,AS!$AW:$AW,Parkki!$U71,AS!$K:$K,$Y$1) -> 0 | O71: =SUMIFS(JA!$Z:$Z,JA!$AE:$AE,"OK",JA!$BE:$BE,Parkki!$Y$5,JA!$AI:$AI,Parkki!$Y$2,JA!$X:$X,$U71,JA!$CZ:$CZ,1,JA!$AJ:$AJ,Parkki!$Y$2,JA!$Y:$Y,$Y$1) -> 0 | P71: =SUMIFS(JA!$Z:$Z,JA!$AE:$AE,"OK",JA!$BE:$BE,Parkki!$Y$5,JA!$AI:$AI,Parkki!$Y$2,JA!$X:$X,$U71,JA!$AJ:$AJ,Parkki!$Y$2,JA!$Y:$Y,$Y$1) -> 0 | S71: =IF(M71="",0,1) -> 0 | T71: 25 | U71: =INDEX($AA$5:$AA$37,MATCH(M71,$AB$5:$AB$37,0)) -> ComboBox_EtKuntakoodi_00000001 | X71: ComboBox_TySaapunut#ohjaamo
B72: Työllisyyspalvelut | C72: =SUMIFS(AS!$W:$W,AS!$AB:$AB,"OK",AS!$AX:$AX,Parkki!$X72,AS!$AH:$AH,Parkki!$X$8,AS!$AW:$AW,$W$8,AS!$K:$K,$W$7,AS!$X:$X,Parkki!$Y$5,AS!$AV:$AV,Parkki!$Y$2,AS!$CY:$CY,$U$6,AS!$CZ:$CZ,$U$5)+SUMIFS(AS!$W:$W,AS!$AB:$AB,"OK",AS!$AX:$AX,Parkki!$W72,AS!$AH:$AH,Parkki!$X$8,AS!$AW:$AW,$W$8,AS!$K:$K,$W$7,AS!$X:$X,Parkki!$Y$5,AS!$AV:$AV,Parkki!$Y$2,AS!$CY:$CY,$U$6,AS!$CZ:$CZ,$U$5) -> 0 | D72: =SUMIFS(AS!$W:$W,AS!$AB:$AB,"OK",AS!$AX:$AX,Parkki!$X72,AS!$AH:$AH,Parkki!$X$8,AS!$F:$F,Parkki!$X$7,AS!$AW:$AW,$W$8,AS!$K:$K,$W$7,AS!$X:$X,Parkki!$Y$5,AS!$AV:$AV,Parkki!$Y$2,AS!$CY:$CY,$U$6,AS!$CZ:$CZ,$U$5)+SUMIFS(AS!$W:$W,AS!$AB:$AB,"OK",AS!$AX:$AX,Parkki!$W72,AS!$AH:$AH,Parkki!$X$8,AS!$F:$F,Parkki!$X$7,AS!$AW:$AW,$W$8,AS!$K:$K,$W$7,AS!$X:$X,Parkki!$Y$5,AS!$AV:$AV,Parkki!$Y$2,AS!$CY:$CY,$U$6,AS!$CZ:$CZ,$U$5) -> 0 | E72: =IFERROR(C72/$C$90,"-") -> - | M72: =IFERROR(INDEX($AJ$5:$AJ$37,MATCH(SMALL($AK$5:$AK$37,T72),$AK$5:$AK$37,0)),"") | N72: =SUMIFS(AS!$W:$W,AS!$AB:$AB,"OK",AS!$X:$X,Parkki!$Y$5,AS!$AV:$AV,Parkki!$Y$2,AS!$AW:$AW,Parkki!$U72,AS!$K:$K,$Y$1) -> 0 | O72: =SUMIFS(JA!$Z:$Z,JA!$AE:$AE,"OK",JA!$BE:$BE,Parkki!$Y$5,JA!$AI:$AI,Parkki!$Y$2,JA!$X:$X,$U72,JA!$CZ:$CZ,1,JA!$AJ:$AJ,Parkki!$Y$2,JA!$Y:$Y,$Y$1) -> 0 | P72: =SUMIFS(JA!$Z:$Z,JA!$AE:$AE,"OK",JA!$BE:$BE,Parkki!$Y$5,JA!$AI:$AI,Parkki!$Y$2,JA!$X:$X,$U72,JA!$AJ:$AJ,Parkki!$Y$2,JA!$Y:$Y,$Y$1) -> 0 | S72: =IF(M72="",0,1) -> 0 | T72: 26 | U72: =INDEX($AA$5:$AA$37,MATCH(M72,$AB$5:$AB$37,0)) -> ComboBox_EtKuntakoodi_00000001 | V72: ComboBox_TySaapunut#työvoiman palvelukeskus | W72: ComboBox_TySaapunut#kunnan työllisyyspalvelut | X72: ComboBox_TySaapunut#työllisyyspalvelut
B73: TYM-yhteistoimintamalli (ent. TYP) | C73: =SUMIFS(AS!$W:$W,AS!$AB:$AB,"OK",AS!$AX:$AX,Parkki!$X73,AS!$AH:$AH,Parkki!$X$8,AS!$AW:$AW,$W$8,AS!$K:$K,$W$7,AS!$X:$X,Parkki!$Y$5,AS!$AV:$AV,Parkki!$Y$2,AS!$CY:$CY,$U$6,AS!$CZ:$CZ,$U$5)+SUMIFS(AS!$W:$W,AS!$AB:$AB,"OK",AS!$AX:$AX,Parkki!$W73,AS!$AH:$AH,Parkki!$X$8,AS!$AW:$AW,$W$8,AS!$K:$K,$W$7,AS!$X:$X,Parkki!$Y$5,AS!$AV:$AV,Parkki!$Y$2,AS!$CY:$CY,$U$6,AS!$CZ:$CZ,$U$5) -> 0 | D73: =SUMIFS(AS!$W:$W,AS!$AB:$AB,"OK",AS!$AX:$AX,Parkki!$X73,AS!$AH:$AH,Parkki!$X$8,AS!$F:$F,Parkki!$X$7,AS!$AW:$AW,$W$8,AS!$K:$K,$W$7,AS!$X:$X,Parkki!$Y$5,AS!$AV:$AV,Parkki!$Y$2,AS!$CY:$CY,$U$6,AS!$CZ:$CZ,$U$5)+SUMIFS(AS!$W:$W,AS!$AB:$AB,"OK",AS!$AX:$AX,Parkki!$W73,AS!$AH:$AH,Parkki!$X$8,AS!$F:$F,Parkki!$X$7,AS!$AW:$AW,$W$8,AS!$K:$K,$W$7,AS!$X:$X,Parkki!$Y$5,AS!$AV:$AV,Parkki!$Y$2,AS!$CY:$CY,$U$6,AS!$CZ:$CZ,$U$5) -> 0 | E73: =IFERROR(C73/$C$90,"-") -> - | M73: =IFERROR(INDEX($AJ$5:$AJ$37,MATCH(SMALL($AK$5:$AK$37,T73),$AK$5:$AK$37,0)),"") | N73: =SUMIFS(AS!$W:$W,AS!$AB:$AB,"OK",AS!$X:$X,Parkki!$Y$5,AS!$AV:$AV,Parkki!$Y$2,AS!$AW:$AW,Parkki!$U73,AS!$K:$K,$Y$1) -> 0 | O73: =SUMIFS(JA!$Z:$Z,JA!$AE:$AE,"OK",JA!$BE:$BE,Parkki!$Y$5,JA!$AI:$AI,Parkki!$Y$2,JA!$X:$X,$U73,JA!$CZ:$CZ,1,JA!$AJ:$AJ,Parkki!$Y$2,JA!$Y:$Y,$Y$1) -> 0 | P73: =SUMIFS(JA!$Z:$Z,JA!$AE:$AE,"OK",JA!$BE:$BE,Parkki!$Y$5,JA!$AI:$AI,Parkki!$Y$2,JA!$X:$X,$U73,JA!$AJ:$AJ,Parkki!$Y$2,JA!$Y:$Y,$Y$1) -> 0 | S73: =IF(M73="",0,1) -> 0 | T73: 27 | U73: =INDEX($AA$5:$AA$37,MATCH(M73,$AB$5:$AB$37,0)) -> ComboBox_EtKuntakoodi_00000001 | W73: ComboBox_TySaapunut#työvoiman palvelukeskus (TYP) | X73: ComboBox_TySaapunut#TYM-yhteistoimintamalli (ent. TYP)
B74: TE-palvelut (ennen vuotta 2025) | C74: =SUMIFS(AS!$W:$W,AS!$AB:$AB,"OK",AS!$AX:$AX,Parkki!$X74,AS!$AH:$AH,Parkki!$X$8,AS!$AW:$AW,$W$8,AS!$K:$K,$W$7,AS!$X:$X,Parkki!$Y$5,AS!$AV:$AV,Parkki!$Y$2,AS!$CY:$CY,$U$6,AS!$CZ:$CZ,$U$5)+SUMIFS(AS!$W:$W,AS!$AB:$AB,"OK",AS!$AX:$AX,Parkki!$W74,AS!$AH:$AH,Parkki!$X$8,AS!$AW:$AW,$W$8,AS!$K:$K,$W$7,AS!$X:$X,Parkki!$Y$5,AS!$AV:$AV,Parkki!$Y$2,AS!$CY:$CY,$U$6,AS!$CZ:$CZ,$U$5) -> 0 | D74: =SUMIFS(AS!$W:$W,AS!$AB:$AB,"OK",AS!$AX:$AX,Parkki!$X74,AS!$AH:$AH,Parkki!$X$8,AS!$F:$F,Parkki!$X$7,AS!$AW:$AW,$W$8,AS!$K:$K,$W$7,AS!$X:$X,Parkki!$Y$5,AS!$AV:$AV,Parkki!$Y$2,AS!$CY:$CY,$U$6,AS!$CZ:$CZ,$U$5)+SUMIFS(AS!$W:$W,AS!$AB:$AB,"OK",AS!$AX:$AX,Parkki!$W74,AS!$AH:$AH,Parkki!$X$8,AS!$F:$F,Parkki!$X$7,AS!$AW:$AW,$W$8,AS!$K:$K,$W$7,AS!$X:$X,Parkki!$Y$5,AS!$AV:$AV,Parkki!$Y$2,AS!$CY:$CY,$U$6,AS!$CZ:$CZ,$U$5) -> 0 | E74: =IFERROR(C74/$C$90,"-") -> - | M74: =IFERROR(INDEX($AJ$5:$AJ$37,MATCH(SMALL($AK$5:$AK$37,T74),$AK$5:$AK$37,0)),"") | N74: =SUMIFS(AS!$W:$W,AS!$AB:$AB,"OK",AS!$X:$X,Parkki!$Y$5,AS!$AV:$AV,Parkki!$Y$2,AS!$AW:$AW,Parkki!$U74,AS!$K:$K,$Y$1) -> 0 | O74: =SUMIFS(JA!$Z:$Z,JA!$AE:$AE,"OK",JA!$BE:$BE,Parkki!$Y$5,JA!$AI:$AI,Parkki!$Y$2,JA!$X:$X,$U74,JA!$CZ:$CZ,1,JA!$AJ:$AJ,Parkki!$Y$2,JA!$Y:$Y,$Y$1) -> 0 | P74: =SUMIFS(JA!$Z:$Z,JA!$AE:$AE,"OK",JA!$BE:$BE,Parkki!$Y$5,JA!$AI:$AI,Parkki!$Y$2,JA!$X:$X,$U74,JA!$AJ:$AJ,Parkki!$Y$2,JA!$Y:$Y,$Y$1) -> 0 | S74: =IF(M74="",0,1) -> 0 | T74: 28 | U74: =INDEX($AA$5:$AA$37,MATCH(M74,$AB$5:$AB$37,0)) -> ComboBox_EtKuntakoodi_00000001 | W74: ComboBox_TySaapunut#TE-toimisto | X74: ComboBox_TySaapunut#TE-palvelut
B75: Työllisyyden kuntakokeilu (ennen vuotta 2025) | C75: =SUMIFS(AS!$W:$W,AS!$AB:$AB,"OK",AS!$AX:$AX,Parkki!$X75,AS!$AH:$AH,Parkki!$X$8,AS!$AW:$AW,$W$8,AS!$K:$K,$W$7,AS!$X:$X,Parkki!$Y$5,AS!$AV:$AV,Parkki!$Y$2,AS!$CY:$CY,$U$6,AS!$CZ:$CZ,$U$5) -> 0 | D75: =SUMIFS(AS!$W:$W,AS!$AB:$AB,"OK",AS!$AX:$AX,Parkki!$X75,AS!$AH:$AH,Parkki!$X$8,AS!$F:$F,Parkki!$X$7,AS!$AW:$AW,$W$8,AS!$K:$K,$W$7,AS!$X:$X,Parkki!$Y$5,AS!$AV:$AV,Parkki!$Y$2,AS!$CY:$CY,$U$6,AS!$CZ:$CZ,$U$5) -> 0 | E75: =IFERROR(C75/$C$90,"-") -> - | M75: =IFERROR(INDEX($AJ$5:$AJ$37,MATCH(SMALL($AK$5:$AK$37,T75),$AK$5:$AK$37,0)),"") | N75: =SUMIFS(AS!$W:$W,AS!$AB:$AB,"OK",AS!$X:$X,Parkki!$Y$5,AS!$AV:$AV,Parkki!$Y$2,AS!$AW:$AW,Parkki!$U75,AS!$K:$K,$Y$1) -> 0 | O75: =SUMIFS(JA!$Z:$Z,JA!$AE:$AE,"OK",JA!$BE:$BE,Parkki!$Y$5,JA!$AI:$AI,Parkki!$Y$2,JA!$X:$X,$U75,JA!$CZ:$CZ,1,JA!$AJ:$AJ,Parkki!$Y$2,JA!$Y:$Y,$Y$1) -> 0 | P75: =SUMIFS(JA!$Z:$Z,JA!$AE:$AE,"OK",JA!$BE:$BE,Parkki!$Y$5,JA!$AI:$AI,Parkki!$Y$2,JA!$X:$X,$U75,JA!$AJ:$AJ,Parkki!$Y$2,JA!$Y:$Y,$Y$1) -> 0 | S75: =IF(M75="",0,1) -> 0 | T75: 29 | U75: =INDEX($AA$5:$AA$37,MATCH(M75,$AB$5:$AB$37,0)) -> ComboBox_EtKuntakoodi_00000001 | X75: ComboBox_TySaapunut#työllisyyden kuntakokeilu
A76: Hyvinvointialueen palvelut | B76: Sosiaalipalvelut | C76: =SUMIFS(AS!$W:$W,AS!$AB:$AB,"OK",AS!$AX:$AX,Parkki!$X76,AS!$AH:$AH,Parkki!$X$8,AS!$AW:$AW,$W$8,AS!$K:$K,$W$7,AS!$X:$X,Parkki!$Y$5,AS!$AV:$AV,Parkki!$Y$2,AS!$CY:$CY,$U$6,AS!$CZ:$CZ,$U$5) -> 0 | D76: =SUMIFS(AS!$W:$W,AS!$AB:$AB,"OK",AS!$AX:$AX,Parkki!$X76,AS!$AH:$AH,Parkki!$X$8,AS!$F:$F,Parkki!$X$7,AS!$AW:$AW,$W$8,AS!$K:$K,$W$7,AS!$X:$X,Parkki!$Y$5,AS!$AV:$AV,Parkki!$Y$2,AS!$CY:$CY,$U$6,AS!$CZ:$CZ,$U$5) -> 0 | E76: =IFERROR(C76/$C$90,"-") -> - | M76: =IFERROR(INDEX($AJ$5:$AJ$37,MATCH(SMALL($AK$5:$AK$37,T76),$AK$5:$AK$37,0)),"") | N76: =SUMIFS(AS!$W:$W,AS!$AB:$AB,"OK",AS!$X:$X,Parkki!$Y$5,AS!$AV:$AV,Parkki!$Y$2,AS!$AW:$AW,Parkki!$U76,AS!$K:$K,$Y$1) -> 0 | O76: =SUMIFS(JA!$Z:$Z,JA!$AE:$AE,"OK",JA!$BE:$BE,Parkki!$Y$5,JA!$AI:$AI,Parkki!$Y$2,JA!$X:$X,$U76,JA!$CZ:$CZ,1,JA!$AJ:$AJ,Parkki!$Y$2,JA!$Y:$Y,$Y$1) -> 0 | P76: =SUMIFS(JA!$Z:$Z,JA!$AE:$AE,"OK",JA!$BE:$BE,Parkki!$Y$5,JA!$AI:$AI,Parkki!$Y$2,JA!$X:$X,$U76,JA!$AJ:$AJ,Parkki!$Y$2,JA!$Y:$Y,$Y$1) -> 0 | S76: 0 | T76: 30 | U76: =INDEX($AA$5:$AA$37,MATCH(M76,$AB$5:$AB$37,0)) -> ComboBox_EtKuntakoodi_00000001 | X76: ComboBox_TySaapunut#sosiaalipalvelut
B77: Terveyspalvelut | C77: =SUMIFS(AS!$W:$W,AS!$AB:$AB,"OK",AS!$AX:$AX,Parkki!$X77,AS!$AH:$AH,Parkki!$X$8,AS!$AW:$AW,$W$8,AS!$K:$K,$W$7,AS!$X:$X,Parkki!$Y$5,AS!$AV:$AV,Parkki!$Y$2,AS!$CY:$CY,$U$6,AS!$CZ:$CZ,$U$5) -> 0 | D77: =SUMIFS(AS!$W:$W,AS!$AB:$AB,"OK",AS!$AX:$AX,Parkki!$X77,AS!$AH:$AH,Parkki!$X$8,AS!$F:$F,Parkki!$X$7,AS!$AW:$AW,$W$8,AS!$K:$K,$W$7,AS!$X:$X,Parkki!$Y$5,AS!$AV:$AV,Parkki!$Y$2,AS!$CY:$CY,$U$6,AS!$CZ:$CZ,$U$5) -> 0 | E77: =IFERROR(C77/$C$90,"-") -> - | X77: ComboBox_TySaapunut#terveyspalvelut
B78: Mielenterveyspalvelut | C78: =SUMIFS(AS!$W:$W,AS!$AB:$AB,"OK",AS!$AX:$AX,Parkki!$X78,AS!$AH:$AH,Parkki!$X$8,AS!$AW:$AW,$W$8,AS!$K:$K,$W$7,AS!$X:$X,Parkki!$Y$5,AS!$AV:$AV,Parkki!$Y$2,AS!$CY:$CY,$U$6,AS!$CZ:$CZ,$U$5) -> 0 | D78: =SUMIFS(AS!$W:$W,AS!$AB:$AB,"OK",AS!$AX:$AX,Parkki!$X78,AS!$AH:$AH,Parkki!$X$8,AS!$F:$F,Parkki!$X$7,AS!$AW:$AW,$W$8,AS!$K:$K,$W$7,AS!$X:$X,Parkki!$Y$5,AS!$AV:$AV,Parkki!$Y$2,AS!$CY:$CY,$U$6,AS!$CZ:$CZ,$U$5) -> 0 | E78: =IFERROR(C78/$C$90,"-") -> - | X78: ComboBox_TySaapunut#mielenterveyspalvelu
B79: Sosiaali- ja terveyspalvelut (ennen vuotta 2025) | C79: =SUMIFS(AS!$W:$W,AS!$AB:$AB,"OK",AS!$AX:$AX,Parkki!$X79,AS!$AH:$AH,Parkki!$X$8,AS!$AW:$AW,$W$8,AS!$K:$K,$W$7,AS!$X:$X,Parkki!$Y$5,AS!$AV:$AV,Parkki!$Y$2,AS!$CY:$CY,$U$6,AS!$CZ:$CZ,$U$5)+SUMIFS(AS!$W:$W,AS!$AB:$AB,"OK",AS!$AX:$AX,Parkki!$W79,AS!$AH:$AH,Parkki!$X$8,AS!$AW:$AW,$W$8,AS!$K:$K,$W$7,AS!$X:$X,Parkki!$Y$5,AS!$AV:$AV,Parkki!$Y$2,AS!$CY:$CY,$U$6,AS!$CZ:$CZ,$U$5) -> 0 | D79: =SUMIFS(AS!$W:$W,AS!$AB:$AB,"OK",AS!$AX:$AX,Parkki!$X79,AS!$AH:$AH,Parkki!$X$8,AS!$F:$F,Parkki!$X$7,AS!$AW:$AW,$W$8,AS!$K:$K,$W$7,AS!$X:$X,Parkki!$Y$5,AS!$AV:$AV,Parkki!$Y$2,AS!$CY:$CY,$U$6,AS!$CZ:$CZ,$U$5)+SUMIFS(AS!$W:$W,AS!$AB:$AB,"OK",AS!$AX:$AX,Parkki!$W79,AS!$AH:$AH,Parkki!$X$8,AS!$F:$F,Parkki!$X$7,AS!$AW:$AW,$W$8,AS!$K:$K,$W$7,AS!$X:$X,Parkki!$Y$5,AS!$AV:$AV,Parkki!$Y$2,AS!$CY:$CY,$U$6,AS!$CZ:$CZ,$U$5) -> 0 | E79: =IFERROR(C79/$C$90,"-") -> - | W79: ComboBox_TySaapunut#sosiaali- ja terveystoimi | X79: ComboBox_TySaapunut#sosiaali- ja terveyspalvelut
A80: Muut julkiset palvelut | B80: KELA | C80: =SUMIFS(AS!$W:$W,AS!$AB:$AB,"OK",AS!$AX:$AX,Parkki!$X80,AS!$AH:$AH,Parkki!$X$8,AS!$AW:$AW,$W$8,AS!$K:$K,$W$7,AS!$X:$X,Parkki!$Y$5,AS!$AV:$AV,Parkki!$Y$2,AS!$CY:$CY,$U$6,AS!$CZ:$CZ,$U$5) -> 0 | D80: =SUMIFS(AS!$W:$W,AS!$AB:$AB,"OK",AS!$AX:$AX,Parkki!$X80,AS!$AH:$AH,Parkki!$X$8,AS!$F:$F,Parkki!$X$7,AS!$AW:$AW,$W$8,AS!$K:$K,$W$7,AS!$X:$X,Parkki!$Y$5,AS!$AV:$AV,Parkki!$Y$2,AS!$CY:$CY,$U$6,AS!$CZ:$CZ,$U$5) -> 0 | E80: =IFERROR(C80/$C$90,"-") -> - | X80: ComboBox_TySaapunut#KELA
B81: Työeläkelaitos / vakuutusyhtiö | C81: =SUMIFS(AS!$W:$W,AS!$AB:$AB,"OK",AS!$AX:$AX,Parkki!$X81,AS!$AH:$AH,Parkki!$X$8,AS!$AW:$AW,$W$8,AS!$K:$K,$W$7,AS!$X:$X,Parkki!$Y$5,AS!$AV:$AV,Parkki!$Y$2,AS!$CY:$CY,$U$6,AS!$CZ:$CZ,$U$5) -> 0 | D81: =SUMIFS(AS!$W:$W,AS!$AB:$AB,"OK",AS!$AX:$AX,Parkki!$X81,AS!$AH:$AH,Parkki!$X$8,AS!$F:$F,Parkki!$X$7,AS!$AW:$AW,$W$8,AS!$K:$K,$W$7,AS!$X:$X,Parkki!$Y$5,AS!$AV:$AV,Parkki!$Y$2,AS!$CY:$CY,$U$6,AS!$CZ:$CZ,$U$5) -> 0 | E81: =IFERROR(C81/$C$90,"-") -> - | X81: ComboBox_TySaapunut#työeläkelaitos / vakuutusyhtiö
B82: Kriminaalihuolto | C82: =SUMIFS(AS!$W:$W,AS!$AB:$AB,"OK",AS!$AX:$AX,Parkki!$X82,AS!$AH:$AH,Parkki!$X$8,AS!$AW:$AW,$W$8,AS!$K:$K,$W$7,AS!$X:$X,Parkki!$Y$5,AS!$AV:$AV,Parkki!$Y$2,AS!$CY:$CY,$U$6,AS!$CZ:$CZ,$U$5) -> 0 | D82: =SUMIFS(AS!$W:$W,AS!$AB:$AB,"OK",AS!$AX:$AX,Parkki!$X82,AS!$AH:$AH,Parkki!$X$8,AS!$F:$F,Parkki!$X$7,AS!$AW:$AW,$W$8,AS!$K:$K,$W$7,AS!$X:$X,Parkki!$Y$5,AS!$AV:$AV,Parkki!$Y$2,AS!$CY:$CY,$U$6,AS!$CZ:$CZ,$U$5) -> 0 | E82: =IFERROR(C82/$C$90,"-") -> - | X82: ComboBox_TySaapunut#kriminaalihuolto
B83: Armeija / Aikalisä | C83: =SUMIFS(AS!$W:$W,AS!$AB:$AB,"OK",AS!$AX:$AX,Parkki!$Y83,AS!$AH:$AH,Parkki!$X$8,AS!$AW:$AW,$W$8,AS!$K:$K,$W$7,AS!$X:$X,Parkki!$Y$5,AS!$AV:$AV,Parkki!$Y$2,AS!$CY:$CY,$U$6,AS!$CZ:$CZ,$U$5)+SUMIFS(AS!$W:$W,AS!$AB:$AB,"OK",AS!$AX:$AX,Parkki!$X83,AS!$AH:$AH,Parkki!$X$8,AS!$AW:$AW,$W$8,AS!$K:$K,$W$7,AS!$X:$X,Parkki!$Y$5,AS!$AV:$AV,Parkki!$Y$2,AS!$CY:$CY,$U$6,AS!$CZ:$CZ,$U$5) -> 0 | D83: =SUMIFS(AS!$W:$W,AS!$AB:$AB,"OK",AS!$AX:$AX,Parkki!$Y83,AS!$AH:$AH,Parkki!$X$8,AS!$F:$F,Parkki!$X$7,AS!$AW:$AW,$W$8,AS!$K:$K,$W$7,AS!$X:$X,Parkki!$Y$5,AS!$AV:$AV,Parkki!$Y$2,AS!$CY:$CY,$U$6,AS!$CZ:$CZ,$U$5)+SUMIFS(AS!$W:$W,AS!$AB:$AB,"OK",AS!$AX:$AX,Parkki!$X83,AS!$AH:$AH,Parkki!$X$8,AS!$F:$F,Parkki!$X$7,AS!$AW:$AW,$W$8,AS!$K:$K,$W$7,AS!$X:$X,Parkki!$Y$5,AS!$AV:$AV,Parkki!$Y$2,AS!$CY:$CY,$U$6,AS!$CZ:$CZ,$U$5) -> 0 | E83: =IFERROR(C83/$C$90,"-") -> - | X83: ComboBox_TySaapunut#armeija/ Time out | Y83: ComboBox_TySaapunut#armeija/ Aikalisä
B84: Siviilipalvelu | C84: =SUMIFS(AS!$W:$W,AS!$AB:$AB,"OK",AS!$AX:$AX,Parkki!$X84,AS!$AH:$AH,Parkki!$X$8,AS!$AW:$AW,$W$8,AS!$K:$K,$W$7,AS!$X:$X,Parkki!$Y$5,AS!$AV:$AV,Parkki!$Y$2,AS!$CY:$CY,$U$6,AS!$CZ:$CZ,$U$5) -> 0 | D84: =SUMIFS(AS!$W:$W,AS!$AB:$AB,"OK",AS!$AX:$AX,Parkki!$X84,AS!$AH:$AH,Parkki!$X$8,AS!$F:$F,Parkki!$X$7,AS!$AW:$AW,$W$8,AS!$K:$K,$W$7,AS!$X:$X,Parkki!$Y$5,AS!$AV:$AV,Parkki!$Y$2,AS!$CY:$CY,$U$6,AS!$CZ:$CZ,$U$5) -> 0 | E84: =IFERROR(C84/$C$90,"-") -> - | X84: ComboBox_TySaapunut#siviilipalvelu
A85: Muut | B85: Suoraan työpajalle | C85: =SUMIFS(AS!$W:$W,AS!$AB:$AB,"OK",AS!$AX:$AX,Parkki!$X85,AS!$AH:$AH,Parkki!$X$8,AS!$AW:$AW,$W$8,AS!$K:$K,$W$7,AS!$X:$X,Parkki!$Y$5,AS!$AV:$AV,Parkki!$Y$2,AS!$CY:$CY,$U$6,AS!$CZ:$CZ,$U$5) -> 0 | D85: =SUMIFS(AS!$W:$W,AS!$AB:$AB,"OK",AS!$AX:$AX,Parkki!$X85,AS!$AH:$AH,Parkki!$X$8,AS!$F:$F,Parkki!$X$7,AS!$AW:$AW,$W$8,AS!$K:$K,$W$7,AS!$X:$X,Parkki!$Y$5,AS!$AV:$AV,Parkki!$Y$2,AS!$CY:$CY,$U$6,AS!$CZ:$CZ,$U$5) -> 0 | E85: =IFERROR(C85/$C$90,"-") -> - | X85: ComboBox_TySaapunut#suoraan työpajalle
B86: 3. sektori | C86: =SUMIFS(AS!$W:$W,AS!$AB:$AB,"OK",AS!$AX:$AX,Parkki!$X86,AS!$AH:$AH,Parkki!$X$8,AS!$AW:$AW,$W$8,AS!$K:$K,$W$7,AS!$X:$X,Parkki!$Y$5,AS!$AV:$AV,Parkki!$Y$2,AS!$CY:$CY,$U$6,AS!$CZ:$CZ,$U$5) -> 0 | D86: =SUMIFS(AS!$W:$W,AS!$AB:$AB,"OK",AS!$AX:$AX,Parkki!$X86,AS!$AH:$AH,Parkki!$X$8,AS!$F:$F,Parkki!$X$7,AS!$AW:$AW,$W$8,AS!$K:$K,$W$7,AS!$X:$X,Parkki!$Y$5,AS!$AV:$AV,Parkki!$Y$2,AS!$CY:$CY,$U$6,AS!$CZ:$CZ,$U$5) -> 0 | E86: =IFERROR(C86/$C$90,"-") -> - | X86: ComboBox_TySaapunut#3. sektori
B87: Muu taho | C87: =SUMIFS(AS!$W:$W,AS!$AB:$AB,"OK",AS!$AX:$AX,Parkki!$X87,AS!$AH:$AH,Parkki!$X$8,AS!$AW:$AW,$W$8,AS!$K:$K,$W$7,AS!$X:$X,Parkki!$Y$5,AS!$AV:$AV,Parkki!$Y$2,AS!$CY:$CY,$U$6,AS!$CZ:$CZ,$U$5) -> 0 | D87: =SUMIFS(AS!$W:$W,AS!$AB:$AB,"OK",AS!$AX:$AX,Parkki!$X87,AS!$AH:$AH,Parkki!$X$8,AS!$F:$F,Parkki!$X$7,AS!$AW:$AW,$W$8,AS!$K:$K,$W$7,AS!$X:$X,Parkki!$Y$5,AS!$AV:$AV,Parkki!$Y$2,AS!$CY:$CY,$U$6,AS!$CZ:$CZ,$U$5) -> 0 | E87: =IFERROR(C87/$C$90,"-") -> - | X87: ComboBox_TySaapunut#muu taho
A88: Ei tietoa | B88: Ei tietoa | C88: =SUMIFS(AS!$W:$W,AS!$AB:$AB,"OK",AS!$AX:$AX,Parkki!$X88,AS!$AH:$AH,Parkki!$X$8,AS!$AW:$AW,$W$8,AS!$K:$K,$W$7,AS!$X:$X,Parkki!$Y$5,AS!$AV:$AV,Parkki!$Y$2,AS!$CY:$CY,$U$6,AS!$CZ:$CZ,$U$5) -> 0 | D88: =SUMIFS(AS!$W:$W,AS!$AB:$AB,"OK",AS!$AX:$AX,Parkki!$X88,AS!$AH:$AH,Parkki!$X$8,AS!$F:$F,Parkki!$X$7,AS!$AW:$AW,$W$8,AS!$K:$K,$W$7,AS!$X:$X,Parkki!$Y$5,AS!$AV:$AV,Parkki!$Y$2,AS!$CY:$CY,$U$6,AS!$CZ:$CZ,$U$5) -> 0 | E88: =IFERROR(C88/$C$90,"-") -> - | X88: ComboBox_TySaapunut#ei tietoa
B89: Ei kirjattu | C89: =SUMIFS(AS!$W:$W,AS!$AB:$AB,"OK",AS!$AX:$AX,"",AS!$AH:$AH,Parkki!$X$8,AS!$AW:$AW,$W$8,AS!$K:$K,$W$7,AS!$X:$X,Parkki!$Y$5,AS!$AV:$AV,Parkki!$Y$2,AS!$CY:$CY,$U$6,AS!$CZ:$CZ,$U$5) -> 0 | D89: =SUMIFS(AS!$W:$W,AS!$AB:$AB,"OK",AS!$AX:$AX,"",AS!$AH:$AH,Parkki!$X$8,AS!$F:$F,Parkki!$X$7,AS!$AW:$AW,$W$8,AS!$K:$K,$W$7,AS!$X:$X,Parkki!$Y$5,AS!$AV:$AV,Parkki!$Y$2,AS!$CY:$CY,$U$6,AS!$CZ:$CZ,$U$5) -> 0 | E89: =IFERROR(C89/$C$90,"-") -> - | X89: eri kaav""
A90: NUORET yhteensä | C90: =IFERROR(SUM(C65:C89),"") -> 0 | D90: =IFERROR(SUM(D65:D89),"") -> 0
A92: ="NUORTEN valmentautujien koulutustaustat"&X10&X12 -> NUORTEN valmentautujien koulutustaustat - 01.01.2026-31.12.2026 (Kaikki kunnat - tiedot perustiedoista, Kaikki yksiköt - tiedot perustiedoista, Kaikki asiakkuudet)
A94: Koulutustausta | C94: nuoria | D94: joista naisia
A95: Peruskoulu | B95: Edelleen peruskoulussa | C95: =SUMIFS(AS!$W:$W,AS!$AB:$AB,"OK",AS!$AJ:$AJ,Parkki!$X95,AS!$AH:$AH,Parkki!$X$8,AS!$AW:$AW,$W$8,AS!$K:$K,$W$7,AS!$X:$X,Parkki!$Y$5,AS!$AV:$AV,Parkki!$Y$2,AS!$CY:$CY,$U$6,AS!$CZ:$CZ,$U$5) -> 0 | D95: =SUMIFS(AS!$W:$W,AS!$AB:$AB,"OK",AS!$AJ:$AJ,Parkki!$X95,AS!$AH:$AH,Parkki!$X$8,AS!$F:$F,Parkki!$X$7,AS!$AW:$AW,$W$8,AS!$K:$K,$W$7,AS!$X:$X,Parkki!$Y$5,AS!$AV:$AV,Parkki!$Y$2,AS!$CY:$CY,$U$6,AS!$CZ:$CZ,$U$5) -> 0 | E95: =IFERROR(C95/$C$107,"-") -> - | S95: summa | T95: JA!$Z:$Z; | X95: ComboBox_EtKoulutustausta_alku#edelleen peruskoulussa | AF95: edelleen peruskoulussa
B96: Peruskoulu keskeytynyt | C96: =SUMIFS(AS!$W:$W,AS!$AB:$AB,"OK",AS!$AJ:$AJ,Parkki!$X96,AS!$AH:$AH,Parkki!$X$8,AS!$AW:$AW,$W$8,AS!$K:$K,$W$7,AS!$X:$X,Parkki!$Y$5,AS!$AV:$AV,Parkki!$Y$2,AS!$CY:$CY,$U$6,AS!$CZ:$CZ,$U$5) -> 0 | D96: =SUMIFS(AS!$W:$W,AS!$AB:$AB,"OK",AS!$AJ:$AJ,Parkki!$X96,AS!$AH:$AH,Parkki!$X$8,AS!$F:$F,Parkki!$X$7,AS!$AW:$AW,$W$8,AS!$K:$K,$W$7,AS!$X:$X,Parkki!$Y$5,AS!$AV:$AV,Parkki!$Y$2,AS!$CY:$CY,$U$6,AS!$CZ:$CZ,$U$5) -> 0 | E96: =IFERROR(C96/$C$107,"-") -> - | S96: osuuko henkilö | T96: JA!$AE:$AE;"OK" | X96: ComboBox_EtKoulutustausta_alku#peruskoulu keskeytynyt | AF96: peruskoulu keskeytynyt
B97: Peruskoulu suoritettu | C97: =SUMIFS(AS!$W:$W,AS!$AB:$AB,"OK",AS!$AJ:$AJ,Parkki!$X97,AS!$AH:$AH,Parkki!$X$8,AS!$AW:$AW,$W$8,AS!$K:$K,$W$7,AS!$X:$X,Parkki!$Y$5,AS!$AV:$AV,Parkki!$Y$2,AS!$CY:$CY,$U$6,AS!$CZ:$CZ,$U$5) -> 0 | D97: =SUMIFS(AS!$W:$W,AS!$AB:$AB,"OK",AS!$AJ:$AJ,Parkki!$X97,AS!$AH:$AH,Parkki!$X$8,AS!$F:$F,Parkki!$X$7,AS!$AW:$AW,$W$8,AS!$K:$K,$W$7,AS!$X:$X,Parkki!$Y$5,AS!$AV:$AV,Parkki!$Y$2,AS!$CY:$CY,$U$6,AS!$CZ:$CZ,$U$5) -> 0 | E97: =IFERROR(C97/$C$107,"-") -> - | S97: toimenpide | T97: ;JA!$AT:$AT;Parkki!$X106 | X97: ComboBox_EtKoulutustausta_alku#peruskoulu suoritettu | AF97: peruskoulu suoritettu
A98: Toinen aste | B98: Lukion oppimäärä | C98: =SUMIFS(AS!$W:$W,AS!$AB:$AB,"OK",AS!$AJ:$AJ,Parkki!$X98,AS!$AH:$AH,Parkki!$X$8,AS!$AW:$AW,$W$8,AS!$K:$K,$W$7,AS!$X:$X,Parkki!$Y$5,AS!$AV:$AV,Parkki!$Y$2,AS!$CY:$CY,$U$6,AS!$CZ:$CZ,$U$5) -> 0 | D98: =SUMIFS(AS!$W:$W,AS!$AB:$AB,"OK",AS!$AJ:$AJ,Parkki!$X98,AS!$AH:$AH,Parkki!$X$8,AS!$F:$F,Parkki!$X$7,AS!$AW:$AW,$W$8,AS!$K:$K,$W$7,AS!$X:$X,Parkki!$Y$5,AS!$AV:$AV,Parkki!$Y$2,AS!$CY:$CY,$U$6,AS!$CZ:$CZ,$U$5) -> 0 | E98: =IFERROR(C98/$C$107,"-") -> - | S98: kunta | T98: ;JA!$AX:$AX;Parkki!$Y$6 | X98: ComboBox_EtKoulutustausta_alku#lukion oppimäärä | AF98: lukion oppimäärä
B99: Ylioppilas | C99: =SUMIFS(AS!$W:$W,AS!$AB:$AB,"OK",AS!$AJ:$AJ,Parkki!$X99,AS!$AH:$AH,Parkki!$X$8,AS!$AW:$AW,$W$8,AS!$K:$K,$W$7,AS!$X:$X,Parkki!$Y$5,AS!$AV:$AV,Parkki!$Y$2,AS!$CY:$CY,$U$6,AS!$CZ:$CZ,$U$5) -> 0 | D99: =SUMIFS(AS!$W:$W,AS!$AB:$AB,"OK",AS!$AJ:$AJ,Parkki!$X99,AS!$AH:$AH,Parkki!$X$8,AS!$F:$F,Parkki!$X$7,AS!$AW:$AW,$W$8,AS!$K:$K,$W$7,AS!$X:$X,Parkki!$Y$5,AS!$AV:$AV,Parkki!$Y$2,AS!$CY:$CY,$U$6,AS!$CZ:$CZ,$U$5) -> 0 | E99: =IFERROR(C99/$C$107,"-") -> - | S99: yksikkö perustiedoista | T99: ;JA!$CI:$CI;$W$7; | X99: ComboBox_EtKoulutustausta_alku#ylioppilas | AC99: =AC104+AC105+AC106+AC100+AC101+AC102+AC103 -> 0 | AD99: =AD104+AD105+AD106+AD100+AD101+AD102+AD103 -> 0 | AF99: ylioppilas
B100: 2. asteen ammatillinen tutkinto suoritettu | C100: =SUMIFS(AS!$W:$W,AS!$AB:$AB,"OK",AS!$AJ:$AJ,Parkki!$X100,AS!$AH:$AH,Parkki!$X$8,AS!$AW:$AW,$W$8,AS!$K:$K,$W$7,AS!$X:$X,Parkki!$Y$5,AS!$AV:$AV,Parkki!$Y$2,AS!$CY:$CY,$U$6,AS!$CZ:$CZ,$U$5) -> 0 | D100: =SUMIFS(AS!$W:$W,AS!$AB:$AB,"OK",AS!$AJ:$AJ,Parkki!$X100,AS!$AH:$AH,Parkki!$X$8,AS!$F:$F,Parkki!$X$7,AS!$AW:$AW,$W$8,AS!$K:$K,$W$7,AS!$X:$X,Parkki!$Y$5,AS!$AV:$AV,Parkki!$Y$2,AS!$CY:$CY,$U$6,AS!$CZ:$CZ,$U$5) -> 0 | E100: =IFERROR(C100/$C$107,"-") -> - | S100: uudet henkilöt (ei aika) | T100: JA!$BE:$BE;Parkki!$Y$5 | X100: ComboBox_EtKoulutustausta_alku#2. asteen ammatillinen tutkinto | AC100: =SUMIFS(JA!$Z:$Z,JA!$AE:$AE,"OK",JA!$AT:$AT,Parkki!$AE100,JA!$X:$X,Parkki!$Y$6,JA!$CI:$CI,$W$7,JA!$BE:$BE,Parkki!$Y$5,JA!$AI:$AI,Parkki!$Y$4,JA!CW:CW,1,JA!$Y:$Y,Parkki!$W$6,JA!$AJ:$AJ,Parkki!$Y$2,JA!$X:$X,Parkki!$W$5) -> 0 | AD100: =SUMIFS(JA!$Z:$Z,JA!$AE:$AE,"OK",JA!$AT:$AT,Parkki!$AE100,JA!$AU:$AU,Parkki!$X$8,JA!$X:$X,Parkki!$Y$6,JA!$CI:$CI,$W$7,JA!$BE:$BE,Parkki!$Y$5,JA!$AI:$AI,Parkki!$Y$4,JA!CW:CW,1,JA!$Y:$Y,Parkki!$W$6,JA!$AJ:$AJ,Parkki!$Y$2,JA!$X:$X,Parkki!$W$5) -> 0 | AE100: ComboBox_TyToimenpide#vajaakuntoisten ammatillisessa koulutuksessa | AF100: 2. asteen ammatillinen tutkinto
A101: Korkeakoulu | B101: Ammattikorkeakoulututkinto | C101: =SUMIFS(AS!$W:$W,AS!$AB:$AB,"OK",AS!$AJ:$AJ,Parkki!$X101,AS!$AH:$AH,Parkki!$X$8,AS!$AW:$AW,$W$8,AS!$K:$K,$W$7,AS!$X:$X,Parkki!$Y$5,AS!$AV:$AV,Parkki!$Y$2,AS!$CY:$CY,$U$6,AS!$CZ:$CZ,$U$5) -> 0 | D101: =SUMIFS(AS!$W:$W,AS!$AB:$AB,"OK",AS!$AJ:$AJ,Parkki!$X101,AS!$AH:$AH,Parkki!$X$8,AS!$F:$F,Parkki!$X$7,AS!$AW:$AW,$W$8,AS!$K:$K,$W$7,AS!$X:$X,Parkki!$Y$5,AS!$AV:$AV,Parkki!$Y$2,AS!$CY:$CY,$U$6,AS!$CZ:$CZ,$U$5) -> 0 | E101: =IFERROR(C101/$C$107,"-") -> - | S101: uusi jakso | T101: ;JA!$AI:$AI;Parkki!$Y$4; | X101: ComboBox_EtKoulutustausta_alku#ammattikorkeakoulututkinto | AC101: =SUMIFS(JA!$Z:$Z,JA!$AE:$AE,"OK",JA!$AT:$AT,Parkki!$AE101,JA!$X:$X,Parkki!$Y$6,JA!$CI:$CI,$W$7,JA!$BE:$BE,Parkki!$Y$5,JA!$AI:$AI,Parkki!$Y$4,JA!CW:CW,1,JA!$Y:$Y,Parkki!$W$6,JA!$AJ:$AJ,Parkki!$Y$2,JA!$X:$X,Parkki!$W$5) -> 0 | AD101: =SUMIFS(JA!$Z:$Z,JA!$AE:$AE,"OK",JA!$AT:$AT,Parkki!$AE101,JA!$AU:$AU,Parkki!$X$8,JA!$X:$X,Parkki!$Y$6,JA!$CI:$CI,$W$7,JA!$BE:$BE,Parkki!$Y$5,JA!$AI:$AI,Parkki!$Y$4,JA!CW:CW,1,JA!$Y:$Y,Parkki!$W$6,JA!$AJ:$AJ,Parkki!$Y$2,JA!$X:$X,Parkki!$W$5) -> 0 | AE101: ComboBox_TyToimenpide#avomuotoisessa työhönvalmennuksessa | AF101: ammattikorkeakoulututkinto
B102: Yliopistotutkinto | C102: =SUMIFS(AS!$W:$W,AS!$AB:$AB,"OK",AS!$AJ:$AJ,Parkki!$X102,AS!$AH:$AH,Parkki!$X$8,AS!$AW:$AW,$W$8,AS!$K:$K,$W$7,AS!$X:$X,Parkki!$Y$5,AS!$AV:$AV,Parkki!$Y$2,AS!$CY:$CY,$U$6,AS!$CZ:$CZ,$U$5) -> 0 | D102: =SUMIFS(AS!$W:$W,AS!$AB:$AB,"OK",AS!$AJ:$AJ,Parkki!$X102,AS!$AH:$AH,Parkki!$X$8,AS!$F:$F,Parkki!$X$7,AS!$AW:$AW,$W$8,AS!$K:$K,$W$7,AS!$X:$X,Parkki!$Y$5,AS!$AV:$AV,Parkki!$Y$2,AS!$CY:$CY,$U$6,AS!$CZ:$CZ,$U$5) -> 0 | E102: =IFERROR(C102/$C$107,"-") -> - | S102: vain yksi toimenpide | T102: JA!CT:CT;1 | X102: ComboBox_EtKoulutustausta_alku#yliopistotutkinto | AC102: =SUMIFS(JA!$Z:$Z,JA!$AE:$AE,"OK",JA!$AT:$AT,Parkki!$AE102,JA!$X:$X,Parkki!$Y$6,JA!$CI:$CI,$W$7,JA!$BE:$BE,Parkki!$Y$5,JA!$AI:$AI,Parkki!$Y$4,JA!CW:CW,1,JA!$Y:$Y,Parkki!$W$6,JA!$AJ:$AJ,Parkki!$Y$2,JA!$X:$X,Parkki!$W$5) -> 0 | AD102: =SUMIFS(JA!$Z:$Z,JA!$AE:$AE,"OK",JA!$AT:$AT,Parkki!$AE102,JA!$AU:$AU,Parkki!$X$8,JA!$X:$X,Parkki!$Y$6,JA!$CI:$CI,$W$7,JA!$BE:$BE,Parkki!$Y$5,JA!$AI:$AI,Parkki!$Y$4,JA!CW:CW,1,JA!$Y:$Y,Parkki!$W$6,JA!$AJ:$AJ,Parkki!$Y$2,JA!$X:$X,Parkki!$W$5) -> 0 | AE102: ComboBox_TyToimenpide#mielenterveyskuntoutujien työhönvalmennuksessa | AF102: yliopistotutkinto
...

Sheet Henkilöstö
A1: Hakuarvot: | V1: Piilota | W1: Piilota | X1: Piilota | Y1: Piilota | Z1: Piilota | AA1: Piilota | AB1: Piilota | AC1: Piilota | AD1: Piilota | AE1: Piilota
A2: =Asiakastilastot!$A$2 -> 46023 | V2: Kyllä, tarkistettu ja siirretään eteenpäin | W2: Kaikki | X2: * | Y2: Kaikki
A3: =Asiakastilastot!$A$3 -> 46387 | V3: Ei tarkistettu, ei siirretä | W3: Yhteydenottopyyntö | X3: ComboBox_EtStatus#yhteydenottopyyntö | Y3: Uudet
V4: Valitsematta | W4: Kontakti | X4: ComboBox_EtStatus#kontakti
A5: =IF(D22=D36,"","Tarkasta HTV yhteensä. Kysymyksissä 1. ja 2. on oltava sama summa") | G5: Tiedot tarkistettu? | W5: Tavoitettu | X5: ComboBox_EtStatus#tavoitettu
A6: =IF(E22=E36,"","Tarkasta HTV, naisia yhteensä. Kysymyksissä 1. ja 2. on oltava sama summa") | G6: Valitsematta | X6: =IF(A6="","*",INDEX($W$1:W5,MATCH($A$2,$V$1:$V$3,0))) -> * | Y6: =IF(#REF!="","*",INDEX(Z8:Z41,MATCH(#REF!,AA8:AA41,0))) -> #REF!
A7: =IF(F22+F36=F50+B66,"","Tarkasta (HLÖ) henkilömäärä yhteensä. Kysymyksissä 1- 4 on oltava sama summa") | X7: OptionButton_TyHlo_N | Y7: OptionButton_TyHlo_M
A8: =IF(G22+G36/2=G50,"","Tarkasta (HLÖ) henkilömäärä, naisia yhteensä. Kysymyksissä 1- 3 on oltava sama summa") | X8: nuori | Y8: vanha
A9: PAR-järjestelmän organisaatio-lehdellä ilmoitetut henkilöstöluvut: | B9: HTV | D9: HLÖ | X9: OK
B10: yhteensä | C10: joista naisia | D10: yhteensä | E10: joista naisia | X10: =" - "&TEXT($A$2,$X$11)&"-"&TEXT($A$3,$X$11)&"" -> - 01.01.2026-31.12.2026
A11: *tietojen tulisi täsmätä henkilöstö-sivun kanssa | B11: =D22 -> 0 | C11: =E22 -> 0 | D11: =F22 -> 0 | E11: =G22 -> 0 | X11: pp.kk.vvvv
A13: ="1. "&W13&X10 -> 1. Henkilöstön määrä - 01.01.2026-31.12.2026 | W13: Henkilöstön määrä | X13: Henkilöstön koulutustausta ja sukupuoli
A14: Työsuhde | D14: HTV | F14: HLÖ | W14: ComboBox_TyHlo_tyosuhde#vakituinen | X14: ComboBox_TyHlo_koulutus#yliopistotutkinto
D15: yhteensä | E15: joista naisia | F15: yhteensä | G15: joista naisia | V15: ComboBox_TyHlo_tyosuhde#muu määräaikaisuus | W15: ComboBox_TyHlo_tyosuhde#vakituisluonteinen | X15: ComboBox_TyHlo_koulutus#ylempi AMK-tutkinto
A16: Vakituisia | D16: =IFERROR(SUMIFS(Data_Kayttis!$AZ:$AZ,Data_Kayttis!$AX:$AX,Henkilöstö!$W14,Data_Kayttis!$AU:$AU,$X$9),"-") -> 0 | E16: =IFERROR(SUMIFS(Data_Kayttis!$AZ:$AZ,Data_Kayttis!$AX:$AX,Henkilöstö!$W14,Data_Kayttis!$C:$C,$X$7,Data_Kayttis!$AU:$AU,$X$9),"-") -> 0 | F16: =IFERROR(COUNTIFS(Data_Kayttis!$AX:$AX,Henkilöstö!$W14,Data_Kayttis!$AU:$AU,$X$9),"-") -> 0 | G16: =IFERROR(COUNTIFS(Data_Kayttis!$AX:$AX,Henkilöstö!$W14,Data_Kayttis!$C:$C,$X$7,Data_Kayttis!$AU:$AU,$X$9),"-") -> 0 | V16: ComboBox_TyHlo_tyosuhde#projektirahoituksella palkattu määräaikainen | W16: ComboBox_TyHlo_tyosuhde#muulla projektirahoituksella palkattu | X16: ComboBox_TyHlo_koulutus#AMK-tutkinto
A17: Projektirahoituksella palkattu määräaikainen | D17: =IFERROR(SUMIFS(Data_Kayttis!$AZ:$AZ,Data_Kayttis!$AX:$AX,Henkilöstö!$V16,Data_Kayttis!$AU:$AU,$X$9),"-")+IFERROR(SUMIFS(Data_Kayttis!$AZ:$AZ,Data_Kayttis!$AX:$AX,Henkilöstö!$W16,Data_Kayttis!$AU:$AU,$X$9),"-") -> 0 | E17: =IFERROR(SUMIFS(Data_Kayttis!$AZ:$AZ,Data_Kayttis!$AX:$AX,Henkilöstö!$V16,Data_Kayttis!$C:$C,$X$7,Data_Kayttis!$AU:$AU,$X$9),"-")+IFERROR(SUMIFS(Data_Kayttis!$AZ:$AZ,Data_Kayttis!$AX:$AX,Henkilöstö!$W16,Data_Kayttis!$C:$C,$X$7,Data_Kayttis!$AU:$AU,$X$9),"-") -> 0 | F17: =IFERROR(COUNTIFS(Data_Kayttis!$AX:$AX,Henkilöstö!$V16,Data_Kayttis!$AU:$AU,$X$9),"-")+IFERROR(COUNTIFS(Data_Kayttis!$AX:$AX,Henkilöstö!$W16,Data_Kayttis!$AU:$AU,$X$9),"-") -> 0 | G17: =IFERROR(COUNTIFS(Data_Kayttis!$AX:$AX,Henkilöstö!$V16,Data_Kayttis!$C:$C,$X$7,Data_Kayttis!$AU:$AU,$X$9),"-")+IFERROR(COUNTIFS(Data_Kayttis!$AX:$AX,Henkilöstö!$W16,Data_Kayttis!$C:$C,$X$7,Data_Kayttis!$AU:$AU,$X$9),"-") -> 0 | W17: ComboBox_TyHlo_tyosuhde#palkkatuella työllistetty | X17: ComboBox_TyHlo_koulutus#2. asteen tutkinto
A18: Muu määräaikaisuus (aikaisemmin vakituisluonteinen) | D18: =IFERROR(SUMIFS(Data_Kayttis!$AZ:$AZ,Data_Kayttis!$AX:$AX,Henkilöstö!$V15,Data_Kayttis!$AU:$AU,$X$9),"-")+IFERROR(SUMIFS(Data_Kayttis!$AZ:$AZ,Data_Kayttis!$AX:$AX,Henkilöstö!$W15,Data_Kayttis!$AU:$AU,$X$9),"-") -> 0 | E18: =IFERROR(SUMIFS(Data_Kayttis!$AZ:$AZ,Data_Kayttis!$AX:$AX,Henkilöstö!$V15,Data_Kayttis!$C:$C,$X$7,Data_Kayttis!$AU:$AU,$X$9),"-")+IFERROR(SUMIFS(Data_Kayttis!$AZ:$AZ,Data_Kayttis!$AX:$AX,Henkilöstö!$W15,Data_Kayttis!$C:$C,$X$7,Data_Kayttis!$AU:$AU,$X$9),"-") -> 0 | F18: =IFERROR(COUNTIFS(Data_Kayttis!$AX:$AX,Henkilöstö!$V15,Data_Kayttis!$AU:$AU,$X$9),"-")+IFERROR(COUNTIFS(Data_Kayttis!$AX:$AX,Henkilöstö!$W15,Data_Kayttis!$AU:$AU,$X$9),"-") -> 0 | G18: =IFERROR(COUNTIFS(Data_Kayttis!$AX:$AX,Henkilöstö!$V15,Data_Kayttis!$C:$C,$X$7,Data_Kayttis!$AU:$AU,$X$9),"-")+IFERROR(COUNTIFS(Data_Kayttis!$AX:$AX,Henkilöstö!$W15,Data_Kayttis!$C:$C,$X$7,Data_Kayttis!$AU:$AU,$X$9),"-") -> 0 | W18: ComboBox_TyHlo_tyosuhde#muu | X18: ComboBox_TyHlo_koulutus#muu ammattitutkinto
A19: Palkkatuella työllistettyjä | D19: =IFERROR(SUMIFS(Data_Kayttis!$AZ:$AZ,Data_Kayttis!$AX:$AX,Henkilöstö!$W17,Data_Kayttis!$AU:$AU,$X$9),"-") -> 0 | E19: =IFERROR(SUMIFS(Data_Kayttis!$AZ:$AZ,Data_Kayttis!$AX:$AX,Henkilöstö!$W17,Data_Kayttis!$C:$C,$X$7,Data_Kayttis!$AU:$AU,$X$9),"-") -> 0 | F19: =IFERROR(COUNTIFS(Data_Kayttis!$AX:$AX,Henkilöstö!$W17,Data_Kayttis!$AU:$AU,$X$9),"-") -> 0 | G19: =IFERROR(COUNTIFS(Data_Kayttis!$AX:$AX,Henkilöstö!$W17,Data_Kayttis!$C:$C,$X$7,Data_Kayttis!$AU:$AU,$X$9),"-") -> 0 | W19: ComboBox_TyHlo_tyosuhde#ei tietoa | X19: ComboBox_TyHlo_koulutus#ei ammatillista koulutusta
A20: Muu | D20: =IFERROR(SUMIFS(Data_Kayttis!$AZ:$AZ,Data_Kayttis!$AX:$AX,Henkilöstö!$W18,Data_Kayttis!$AU:$AU,$X$9),"-") -> 0 | E20: =IFERROR(SUMIFS(Data_Kayttis!$AZ:$AZ,Data_Kayttis!$AX:$AX,Henkilöstö!$W18,Data_Kayttis!$C:$C,$X$7,Data_Kayttis!$AU:$AU,$X$9),"-") -> 0 | F20: =IFERROR(COUNTIFS(Data_Kayttis!$AX:$AX,Henkilöstö!$W18,Data_Kayttis!$AU:$AU,$X$9),"-") -> 0 | G20: =IFERROR(COUNTIFS(Data_Kayttis!$AX:$AX,Henkilöstö!$W18,Data_Kayttis!$C:$C,$X$7,Data_Kayttis!$AU:$AU,$X$9),"-") -> 0 | X20: ComboBox_TyHlo_koulutus#muu koulutus
A21: Ei tietoa | D21: =IFERROR(SUMIFS(Data_Kayttis!$AZ:$AZ,Data_Kayttis!$AX:$AX,Henkilöstö!$W19,Data_Kayttis!$AU:$AU,$X$9),"-") -> 0 | E21: =IFERROR(SUMIFS(Data_Kayttis!$AZ:$AZ,Data_Kayttis!$AX:$AX,Henkilöstö!$W19,Data_Kayttis!$C:$C,$X$7,Data_Kayttis!$AU:$AU,$X$9),"-") -> 0 | F21: =IFERROR(COUNTIFS(Data_Kayttis!$AX:$AX,Henkilöstö!$W19,Data_Kayttis!$AU:$AU,$X$9),"-") -> 0 | G21: =IFERROR(COUNTIFS(Data_Kayttis!$AX:$AX,Henkilöstö!$W19,Data_Kayttis!$C:$C,$X$7,Data_Kayttis!$AU:$AU,$X$9),"-") -> 0 | X21: ComboBox_TyHlo_koulutus#ei tietoa
A22: Yhteensä | D22: =SUM(D16:D21) -> 0 | E22: =SUM(E16:E21) -> 0 | F22: =SUM(F16:F21) -> 0 | G22: =SUM(G16:G21) -> 0
A24: ="2. "&W26&X10&" (laskurissa pääasiallinen tehtävä)" -> 2. Millaisissa tehtävissä henkilöstö toimi? - 01.01.2026-31.12.2026 (laskurissa pääasiallinen tehtävä)
A25: Työtehtävä | B25: HTV (arvio kohdistuen työhön alle 29-vuotiaiden nuorten kanssa) | D25: HTV | F25: HLÖ | AD25: ComboBox_TyHlo_tyoteht#
B26: yhteensä | C26: joista naisia | D26: yhteensä | E26: joista naisia | F26: yhteensä | G26: joista naisia | W26: Millaisissa tehtävissä henkilöstö toimi? | X26: Henkilöstön koulutustausta ja tehtävä | AD26: ComboBox_TyHlo_tyoteht#työvalmentajana
A27: Työvalmentajina | B27: =IFERROR(SUMIFS(Data_Kayttis!$BE:$BE,Data_Kayttis!$BB:$BB,Henkilöstö!$X27,Data_Kayttis!$AU:$AU,$X$9)+SUMIFS(Data_Kayttis!$AZ:$AZ,Data_Kayttis!$BB:$BB,Henkilöstö!$W27,Data_Kayttis!$AU:$AU,$X$9),"-") -> 0 | C27: =IFERROR(SUMIFS(Data_Kayttis!$BE:$BE,Data_Kayttis!$BB:$BB,Henkilöstö!$X27,Data_Kayttis!$C:$C,$X$7,Data_Kayttis!$AU:$AU,$X$9)+SUMIFS(Data_Kayttis!$AZ:$AZ,Data_Kayttis!$BB:$BB,Henkilöstö!$W27,Data_Kayttis!$C:$C,$X$7,Data_Kayttis!$AU:$AU,$X$9),"-") -> 0 | D27: =IFERROR(SUMIFS(Data_Kayttis!$AZ:$AZ,Data_Kayttis!$BB:$BB,Henkilöstö!$X27,Data_Kayttis!$AU:$AU,$X$9)+SUMIFS(Data_Kayttis!$AZ:$AZ,Data_Kayttis!$BB:$BB,Henkilöstö!$W27,Data_Kayttis!$AU:$AU,$X$9),"-") -> 0 | E27: =IFERROR(SUMIFS(Data_Kayttis!$AZ:$AZ,Data_Kayttis!$BB:$BB,Henkilöstö!$X27,Data_Kayttis!$C:$C,$X$7,Data_Kayttis!$AU:$AU,$X$9)+SUMIFS(Data_Kayttis!$AZ:$AZ,Data_Kayttis!$BB:$BB,Henkilöstö!$W27,Data_Kayttis!$C:$C,$X$7,Data_Kayttis!$AU:$AU,$X$9),"-") -> 0 | F27: =IFERROR(COUNTIFS(Data_Kayttis!$BB:$BB,Henkilöstö!$X27,Data_Kayttis!$AU:$AU,$X$9)+COUNTIFS(Data_Kayttis!$BB:$BB,Henkilöstö!$W27,Data_Kayttis!$AU:$AU,$X$9),"-") -> 0 | G27: =IFERROR(COUNTIFS(Data_Kayttis!$BB:$BB,Henkilöstö!$X27,Data_Kayttis!$C:$C,$X$7,Data_Kayttis!$AU:$AU,$X$9)+COUNTIFS(Data_Kayttis!$BB:$BB,Henkilöstö!$W27,Data_Kayttis!$C:$C,$X$7,Data_Kayttis!$AU:$AU,$X$9),"-") -> 0 | W27: ComboBox_TyHlo_tyoteht#työvalmentajana | X27: ComboBox_TyHlo_tyoteht#työ-/työhönvalmentajana | AD27: ComboBox_TyHlo_tyoteht#työhönvalmentajana
A28: Yksilövalmentajina | B28: =IFERROR(SUMIFS(Data_Kayttis!$BE:$BE,Data_Kayttis!$BB:$BB,Henkilöstö!$W28,Data_Kayttis!$AU:$AU,$X$9),"-") -> 0 | C28: =IFERROR(SUMIFS(Data_Kayttis!$BE:$BE,Data_Kayttis!$BB:$BB,Henkilöstö!$W28,Data_Kayttis!$C:$C,$X$7,Data_Kayttis!$AU:$AU,$X$9),"-") -> 0 | D28: =IFERROR(SUMIFS(Data_Kayttis!$AZ:$AZ,Data_Kayttis!$BB:$BB,Henkilöstö!$W28,Data_Kayttis!$AU:$AU,$X$9),"-") -> 0 | E28: =IFERROR(SUMIFS(Data_Kayttis!$AZ:$AZ,Data_Kayttis!$BB:$BB,Henkilöstö!$W28,Data_Kayttis!$C:$C,$X$7,Data_Kayttis!$AU:$AU,$X$9),"-") -> 0 | F28: =IFERROR(COUNTIFS(Data_Kayttis!$BB:$BB,Henkilöstö!$W28,Data_Kayttis!$AU:$AU,$X$9),"-") -> 0 | G28: =IFERROR(COUNTIFS(Data_Kayttis!$BB:$BB,Henkilöstö!$W28,Data_Kayttis!$C:$C,$X$7,Data_Kayttis!$AU:$AU,$X$9),"-") -> 0 | W28: ComboBox_TyHlo_tyoteht#yksilövalmentajana | AD28: ComboBox_TyHlo_tyoteht#yksilövalmentajana
A29: Työhönvalmentajina | B29: =IFERROR(SUMIFS(Data_Kayttis!$BE:$BE,Data_Kayttis!$BB:$BB,Henkilöstö!$W29,Data_Kayttis!$AU:$AU,$X$9),"-") -> 0 | C29: =IFERROR(SUMIFS(Data_Kayttis!$BE:$BE,Data_Kayttis!$BB:$BB,Henkilöstö!$W29,Data_Kayttis!$C:$C,$X$7,Data_Kayttis!$AU:$AU,$X$9),"-") -> 0 | D29: =IFERROR(SUMIFS(Data_Kayttis!$AZ:$AZ,Data_Kayttis!$BB:$BB,Henkilöstö!$W29,Data_Kayttis!$AU:$AU,$X$9),"-") -> 0 | E29: =IFERROR(SUMIFS(Data_Kayttis!$AZ:$AZ,Data_Kayttis!$BB:$BB,Henkilöstö!$W29,Data_Kayttis!$C:$C,$X$7,Data_Kayttis!$AU:$AU,$X$9),"-") -> 0 | F29: =IFERROR(COUNTIFS(Data_Kayttis!$BB:$BB,Henkilöstö!$W29,Data_Kayttis!$AU:$AU,$X$9),"-") -> 0 | G29: =IFERROR(COUNTIFS(Data_Kayttis!$BB:$BB,Henkilöstö!$W29,Data_Kayttis!$C:$C,$X$7,Data_Kayttis!$AU:$AU,$X$9),"-") -> 0 | W29: ComboBox_TyHlo_tyoteht#työhönvalmentajana | AD29: ComboBox_TyHlo_tyoteht#etsivän nuorisotyöntekijänä
A30: Etsivän nuorisotyötekijöinä | B30: =IFERROR(SUMIFS(Data_Kayttis!$BE:$BE,Data_Kayttis!$BB:$BB,Henkilöstö!$W30,Data_Kayttis!$AU:$AU,$X$9),"-") -> 0 | C30: =IFERROR(SUMIFS(Data_Kayttis!$BE:$BE,Data_Kayttis!$BB:$BB,Henkilöstö!$W30,Data_Kayttis!$C:$C,$X$7,Data_Kayttis!$AU:$AU,$X$9),"-") -> 0 | D30: =IFERROR(SUMIFS(Data_Kayttis!$AZ:$AZ,Data_Kayttis!$BB:$BB,Henkilöstö!$W30,Data_Kayttis!$AU:$AU,$X$9),"-") -> 0 | E30: =IFERROR(SUMIFS(Data_Kayttis!$AZ:$AZ,Data_Kayttis!$BB:$BB,Henkilöstö!$W30,Data_Kayttis!$C:$C,$X$7,Data_Kayttis!$AU:$AU,$X$9),"-") -> 0 | F30: =IFERROR(COUNTIFS(Data_Kayttis!$BB:$BB,Henkilöstö!$W30,Data_Kayttis!$AU:$AU,$X$9),"-") -> 0 | G30: =IFERROR(COUNTIFS(Data_Kayttis!$BB:$BB,Henkilöstö!$W30,Data_Kayttis!$C:$C,$X$7,Data_Kayttis!$AU:$AU,$X$9),"-") -> 0 | W30: ComboBox_TyHlo_tyoteht#etsivän nuorisotyöntekijänä | AD30: ComboBox_TyHlo_tyoteht#johtotehtävissä
A31: Johtotehtävissä | B31: =IFERROR(SUMIFS(Data_Kayttis!$BE:$BE,Data_Kayttis!$BB:$BB,Henkilöstö!$W31,Data_Kayttis!$AU:$AU,$X$9),"-") -> 0 | C31: =IFERROR(SUMIFS(Data_Kayttis!$BE:$BE,Data_Kayttis!$BB:$BB,Henkilöstö!$W31,Data_Kayttis!$C:$C,$X$7,Data_Kayttis!$AU:$AU,$X$9),"-") -> 0 | D31: =IFERROR(SUMIFS(Data_Kayttis!$AZ:$AZ,Data_Kayttis!$BB:$BB,Henkilöstö!$W31,Data_Kayttis!$AU:$AU,$X$9),"-") -> 0 | E31: =IFERROR(SUMIFS(Data_Kayttis!$AZ:$AZ,Data_Kayttis!$BB:$BB,Henkilöstö!$W31,Data_Kayttis!$C:$C,$X$7,Data_Kayttis!$AU:$AU,$X$9),"-") -> 0 | F31: =IFERROR(COUNTIFS(Data_Kayttis!$BB:$BB,Henkilöstö!$W31,Data_Kayttis!$AU:$AU,$X$9),"-") -> 0 | G31: =IFERROR(COUNTIFS(Data_Kayttis!$BB:$BB,Henkilöstö!$W31,Data_Kayttis!$C:$C,$X$7,Data_Kayttis!$AU:$AU,$X$9),"-") -> 0 | W31: ComboBox_TyHlo_tyoteht#johtotehtävissä | AD31: ComboBox_TyHlo_tyoteht#kehittämis- ja suunnittelutehtävissä
A32: Kehittämis- ja suunnittelutehtävissä | B32: =IFERROR(SUMIFS(Data_Kayttis!$BE:$BE,Data_Kayttis!$BB:$BB,Henkilöstö!$W32,Data_Kayttis!$AU:$AU,$X$9),"-") -> 0 | C32: =IFERROR(SUMIFS(Data_Kayttis!$BE:$BE,Data_Kayttis!$BB:$BB,Henkilöstö!$W32,Data_Kayttis!$C:$C,$X$7,Data_Kayttis!$AU:$AU,$X$9),"-") -> 0 | D32: =IFERROR(SUMIFS(Data_Kayttis!$AZ:$AZ,Data_Kayttis!$BB:$BB,Henkilöstö!$W32,Data_Kayttis!$AU:$AU,$X$9),"-") -> 0 | E32: =IFERROR(SUMIFS(Data_Kayttis!$AZ:$AZ,Data_Kayttis!$BB:$BB,Henkilöstö!$W32,Data_Kayttis!$C:$C,$X$7,Data_Kayttis!$AU:$AU,$X$9),"-") -> 0 | F32: =IFERROR(COUNTIFS(Data_Kayttis!$BB:$BB,Henkilöstö!$W32,Data_Kayttis!$AU:$AU,$X$9),"-") -> 0 | G32: =IFERROR(COUNTIFS(Data_Kayttis!$BB:$BB,Henkilöstö!$W32,Data_Kayttis!$C:$C,$X$7,Data_Kayttis!$AU:$AU,$X$9),"-") -> 0 | W32: ComboBox_TyHlo_tyoteht#kehittämis- ja suunnittelutehtävissä | AD32: ComboBox_TyHlo_tyoteht#muissa hallinnon työtehtävissä
A33: Muissa hallinnon työtehtävissä | B33: =IFERROR(SUMIFS(Data_Kayttis!$BE:$BE,Data_Kayttis!$BB:$BB,Henkilöstö!$W33,Data_Kayttis!$AU:$AU,$X$9),"-") -> 0 | C33: =IFERROR(SUMIFS(Data_Kayttis!$BE:$BE,Data_Kayttis!$BB:$BB,Henkilöstö!$W33,Data_Kayttis!$C:$C,$X$7,Data_Kayttis!$AU:$AU,$X$9),"-") -> 0 | D33: =IFERROR(SUMIFS(Data_Kayttis!$AZ:$AZ,Data_Kayttis!$BB:$BB,Henkilöstö!$W33,Data_Kayttis!$AU:$AU,$X$9),"-") -> 0 | E33: =IFERROR(SUMIFS(Data_Kayttis!$AZ:$AZ,Data_Kayttis!$BB:$BB,Henkilöstö!$W33,Data_Kayttis!$C:$C,$X$7,Data_Kayttis!$AU:$AU,$X$9),"-") -> 0 | F33: =IFERROR(COUNTIFS(Data_Kayttis!$BB:$BB,Henkilöstö!$W33,Data_Kayttis!$AU:$AU,$X$9),"-") -> 0 | G33: =IFERROR(COUNTIFS(Data_Kayttis!$BB:$BB,Henkilöstö!$W33,Data_Kayttis!$C:$C,$X$7,Data_Kayttis!$AU:$AU,$X$9),"-") -> 0 | W33: ComboBox_TyHlo_tyoteht#muissa hallinnon työtehtävissä | AD33: ComboBox_TyHlo_tyoteht#muissa tehtävissä
A34: Muissa tehtävissä | B34: =IFERROR(SUMIFS(Data_Kayttis!$BE:$BE,Data_Kayttis!$BB:$BB,Henkilöstö!$W34,Data_Kayttis!$AU:$AU,$X$9),"-") -> 0 | C34: =IFERROR(SUMIFS(Data_Kayttis!$BE:$BE,Data_Kayttis!$BB:$BB,Henkilöstö!$W34,Data_Kayttis!$C:$C,$X$7,Data_Kayttis!$AU:$AU,$X$9),"-") -> 0 | D34: =IFERROR(SUMIFS(Data_Kayttis!$AZ:$AZ,Data_Kayttis!$BB:$BB,Henkilöstö!$W34,Data_Kayttis!$AU:$AU,$X$9),"-") -> 0 | E34: =IFERROR(SUMIFS(Data_Kayttis!$AZ:$AZ,Data_Kayttis!$BB:$BB,Henkilöstö!$W34,Data_Kayttis!$C:$C,$X$7,Data_Kayttis!$AU:$AU,$X$9),"-") -> 0 | F34: =IFERROR(COUNTIFS(Data_Kayttis!$BB:$BB,Henkilöstö!$W34,Data_Kayttis!$AU:$AU,$X$9),"-") -> 0 | G34: =IFERROR(COUNTIFS(Data_Kayttis!$BB:$BB,Henkilöstö!$W34,Data_Kayttis!$C:$C,$X$7,Data_Kayttis!$AU:$AU,$X$9),"-") -> 0 | W34: ComboBox_TyHlo_tyoteht#muissa tehtävissä | AD34: ComboBox_TyHlo_tyoteht#ei tietoa
A35: Ei tietoa | B35: =IFERROR(SUMIFS(Data_Kayttis!$BE:$BE,Data_Kayttis!$BB:$BB,Henkilöstö!$W35,Data_Kayttis!$AU:$AU,$X$9),"-") -> 0 | C35: =IFERROR(SUMIFS(Data_Kayttis!$BE:$BE,Data_Kayttis!$BB:$BB,Henkilöstö!$W35,Data_Kayttis!$C:$C,$X$7,Data_Kayttis!$AU:$AU,$X$9),"-") -> 0 | D35: =IFERROR(SUMIFS(Data_Kayttis!$AZ:$AZ,Data_Kayttis!$BB:$BB,Henkilöstö!$W35,Data_Kayttis!$AU:$AU,$X$9),"-") -> 0 | E35: =IFERROR(SUMIFS(Data_Kayttis!$AZ:$AZ,Data_Kayttis!$BB:$BB,Henkilöstö!$W35,Data_Kayttis!$C:$C,$X$7,Data_Kayttis!$AU:$AU,$X$9),"-") -> 0 | F35: =IFERROR(COUNTIFS(Data_Kayttis!$BB:$BB,Henkilöstö!$W35,Data_Kayttis!$AU:$AU,$X$9),"-") -> 0 | G35: =IFERROR(COUNTIFS(Data_Kayttis!$BB:$BB,Henkilöstö!$W35,Data_Kayttis!$C:$C,$X$7,Data_Kayttis!$AU:$AU,$X$9),"-") -> 0 | W35: ComboBox_TyHlo_tyoteht#ei tietoa
A36: Yhteensä | B36: =SUM(B27:B35) -> 0 | C36: =SUM(C27:C35) -> 0 | D36: =SUM(D27:D35) -> 0 | E36: =SUM(E27:E35) -> 0 | F36: =SUM(F27:F35) -> 0 | G36: =SUM(G27:G35) -> 0
A39: ="3. "&X13&X10 -> 3. Henkilöstön koulutustausta ja sukupuoli - 01.01.2026-31.12.2026
A40: Koulutus | F40: HLÖ
F41: yhteensä | G41: joista naisia | W41: Henkilöstön kielitaito | X41: Etsivien ammattinimike
A42: Yliopisto | F42: =COUNTIFS(Data_Kayttis!$BA:$BA,Henkilöstö!$X14,Data_Kayttis!$AU:$AU,$X$9) -> 0 | G42: =COUNTIFS(Data_Kayttis!$BA:$BA,Henkilöstö!$X14,Data_Kayttis!$C:$C,$X$7,Data_Kayttis!$AU:$AU,$X$9) -> 0 | X42: ComboBox_TyHlo_tutkinto#kuntoutuksen ohjaaja
A43: Ylempi ammattikorkeakoulu | F43: =COUNTIFS(Data_Kayttis!$BA:$BA,Henkilöstö!$X15,Data_Kayttis!$AU:$AU,$X$9) -> 0 | G43: =COUNTIFS(Data_Kayttis!$BA:$BA,Henkilöstö!$X15,Data_Kayttis!$C:$C,$X$7,Data_Kayttis!$AU:$AU,$X$9) -> 0 | X43: ComboBox_TyHlo_tutkinto#lasten ja nuorten erityisohjaaja
A44: Ammattikorkeakoulu | F44: =COUNTIFS(Data_Kayttis!$BA:$BA,Henkilöstö!$X16,Data_Kayttis!$AU:$AU,$X$9) -> 0 | G44: =COUNTIFS(Data_Kayttis!$BA:$BA,Henkilöstö!$X16,Data_Kayttis!$C:$C,$X$7,Data_Kayttis!$AU:$AU,$X$9) -> 0 | X44: ComboBox_TyHlo_tutkinto#liikunnanohjaaja
A45: 2. asteen tutkinto | F45: =COUNTIFS(Data_Kayttis!$BA:$BA,Henkilöstö!$X17,Data_Kayttis!$AU:$AU,$X$9) -> 0 | G45: =COUNTIFS(Data_Kayttis!$BA:$BA,Henkilöstö!$X17,Data_Kayttis!$C:$C,$X$7,Data_Kayttis!$AU:$AU,$X$9) -> 0 | X45: ComboBox_TyHlo_tutkinto#lähihoitaja
A46: Muu ammattitutkinto | F46: =COUNTIFS(Data_Kayttis!$BA:$BA,Henkilöstö!$X18,Data_Kayttis!$AU:$AU,$X$9) -> 0 | G46: =COUNTIFS(Data_Kayttis!$BA:$BA,Henkilöstö!$X18,Data_Kayttis!$C:$C,$X$7,Data_Kayttis!$AU:$AU,$X$9) -> 0 | X46: ComboBox_TyHlo_tutkinto#nuoriso- ja vapaa-ajan ohjaaja
A47: Ei ammattillista tutkintoa | F47: =COUNTIFS(Data_Kayttis!$BA:$BA,Henkilöstö!$X19,Data_Kayttis!$AU:$AU,$X$9) -> 0 | G47: =COUNTIFS(Data_Kayttis!$BA:$BA,Henkilöstö!$X19,Data_Kayttis!$C:$C,$X$7,Data_Kayttis!$AU:$AU,$X$9) -> 0 | X47: ComboBox_TyHlo_tutkinto#nuorisosihteeri
A48: Muu | F48: =COUNTIFS(Data_Kayttis!$BA:$BA,Henkilöstö!$X20,Data_Kayttis!$AU:$AU,$X$9) -> 0 | G48: =COUNTIFS(Data_Kayttis!$BA:$BA,Henkilöstö!$X20,Data_Kayttis!$C:$C,$X$7,Data_Kayttis!$AU:$AU,$X$9) -> 0 | X48: ComboBox_TyHlo_tutkinto#sairaanhoitaja
A49: Ei tietoa | F49: =COUNTIFS(Data_Kayttis!$BA:$BA,Henkilöstö!$X21,Data_Kayttis!$AU:$AU,$X$9) -> 0 | G49: =COUNTIFS(Data_Kayttis!$BA:$BA,Henkilöstö!$X21,Data_Kayttis!$C:$C,$X$7,Data_Kayttis!$AU:$AU,$X$9) -> 0 | X49: ComboBox_TyHlo_tutkinto#sosionomi
A50: Yhteensä (henkilömäärä): | F50: =SUM(F42:F49) -> 0 | G50: =SUM(G42:G49) -> 0 | X50: ComboBox_TyHlo_tutkinto#yhteisöpedagogi
X51: ComboBox_TyHlo_tutkinto#muu
X52: ComboBox_TyHlo_tutkinto#ei tietoa
A54: ="4. "&X26&X10 &" (laskurissa pääasiallinen tehtävä)" -> 4. Henkilöstön koulutustausta ja tehtävä - 01.01.2026-31.12.2026 (laskurissa pääasiallinen tehtävä)
A55: Työntehtävä | B55: HLÖ | W55: =W41&X10 -> Henkilöstön kielitaito - 01.01.2026-31.12.2026
A56: Työntehtävä | B56: Yhteensä | C56: Yliopisto | D56: Ylempi Ammatti- korkeakoulu | E56: Ammatti-korkeakoulu | F56: 2. asteen tutkinto | G56: Muu ammattitutkinto | H56: Ei ammattillista tutkintoa | I56: Muu, erittele alla | J56: Ei tietoa | W56: Kieli | X56: yhteensä | Y56: % | Z56: joista naisia | AA56: %
A57: Työvalmentajat | B57: =SUM(C57:J57) -> 0 | C57: =COUNTIFS(Data_Kayttis!$BB:$BB,Henkilöstö!$X27,Data_Kayttis!$BA:$BA,Henkilöstö!$X$14,Data_Kayttis!$AU:$AU,$X$9)+COUNTIFS(Data_Kayttis!$BB:$BB,Henkilöstö!$W27,Data_Kayttis!$BA:$BA,Henkilöstö!$X$14,Data_Kayttis!$AU:$AU,$X$9) -> 0 | D57: =COUNTIFS(Data_Kayttis!$BB:$BB,Henkilöstö!$X27,Data_Kayttis!$BA:$BA,Henkilöstö!$X$15,Data_Kayttis!$AU:$AU,$X$9)+COUNTIFS(Data_Kayttis!$BB:$BB,Henkilöstö!$W27,Data_Kayttis!$BA:$BA,Henkilöstö!$X$15,Data_Kayttis!$AU:$AU,$X$9) -> 0 | E57: =COUNTIFS(Data_Kayttis!$BB:$BB,Henkilöstö!$X27,Data_Kayttis!$BA:$BA,Henkilöstö!$X$16,Data_Kayttis!$AU:$AU,$X$9)+COUNTIFS(Data_Kayttis!$BB:$BB,Henkilöstö!$W27,Data_Kayttis!$BA:$BA,Henkilöstö!$X$16,Data_Kayttis!$AU:$AU,$X$9) -> 0 | F57: =COUNTIFS(Data_Kayttis!$BB:$BB,Henkilöstö!$X27,Data_Kayttis!$BA:$BA,Henkilöstö!$X$17,Data_Kayttis!$AU:$AU,$X$9)+COUNTIFS(Data_Kayttis!$BB:$BB,Henkilöstö!$W27,Data_Kayttis!$BA:$BA,Henkilöstö!$X$17,Data_Kayttis!$AU:$AU,$X$9) -> 0 | G57: =COUNTIFS(Data_Kayttis!$BB:$BB,Henkilöstö!$X27,Data_Kayttis!$BA:$BA,Henkilöstö!$X$18,Data_Kayttis!$AU:$AU,$X$9)+COUNTIFS(Data_Kayttis!$BB:$BB,Henkilöstö!$W27,Data_Kayttis!$BA:$BA,Henkilöstö!$X$18,Data_Kayttis!$AU:$AU,$X$9) -> 0 | H57: =COUNTIFS(Data_Kayttis!$BB:$BB,Henkilöstö!$X27,Data_Kayttis!$BA:$BA,Henkilöstö!$X$19,Data_Kayttis!$AU:$AU,$X$9)+COUNTIFS(Data_Kayttis!$BB:$BB,Henkilöstö!$W27,Data_Kayttis!$BA:$BA,Henkilöstö!$X$19,Data_Kayttis!$AU:$AU,$X$9) -> 0 | I57: =COUNTIFS(Data_Kayttis!$BB:$BB,Henkilöstö!$X27,Data_Kayttis!$BA:$BA,Henkilöstö!$X$20,Data_Kayttis!$AU:$AU,$X$9)+COUNTIFS(Data_Kayttis!$BB:$BB,Henkilöstö!$W27,Data_Kayttis!$BA:$BA,Henkilöstö!$X$20,Data_Kayttis!$AU:$AU,$X$9) -> 0 | J57: =COUNTIFS(Data_Kayttis!$BB:$BB,Henkilöstö!$X27,Data_Kayttis!$BA:$BA,Henkilöstö!$X$21,Data_Kayttis!$AU:$AU,$X$9)+COUNTIFS(Data_Kayttis!$BB:$BB,Henkilöstö!$W27,Data_Kayttis!$BA:$BA,Henkilöstö!$X$21,Data_Kayttis!$AU:$AU,$X$9) -> 0 | W57: Suomi | X57: =SUMIFS(Data_Kayttis!$AT:$AT,Data_Kayttis!I:I,TRUE,Data_Kayttis!$AU:$AU,$X$9) -> 0 | Y57: =IFERROR(X57/$F$36,"-") -> - | Z57: =SUMIFS(Data_Kayttis!$AT:$AT,Data_Kayttis!I:I,TRUE,Data_Kayttis!$C:$C,$X$7,Data_Kayttis!$AU:$AU,$X$9) -> 0 | AA57: =IFERROR(Z57/$G$36,"-") -> -
A58: Yksilövalmentajat | B58: =SUM(C58:J58) -> 0 | C58: =COUNTIFS(Data_Kayttis!$BB:$BB,Henkilöstö!$W28,Data_Kayttis!$BA:$BA,Henkilöstö!$X$14,Data_Kayttis!$AU:$AU,$X$9) -> 0 | D58: =COUNTIFS(Data_Kayttis!$BB:$BB,Henkilöstö!$W28,Data_Kayttis!$BA:$BA,Henkilöstö!$X$15,Data_Kayttis!$AU:$AU,$X$9) -> 0 | E58: =COUNTIFS(Data_Kayttis!$BB:$BB,Henkilöstö!$W28,Data_Kayttis!$BA:$BA,Henkilöstö!$X$16,Data_Kayttis!$AU:$AU,$X$9) -> 0 | F58: =COUNTIFS(Data_Kayttis!$BB:$BB,Henkilöstö!$W28,Data_Kayttis!$BA:$BA,Henkilöstö!$X$17,Data_Kayttis!$AU:$AU,$X$9) -> 0 | G58: =COUNTIFS(Data_Kayttis!$BB:$BB,Henkilöstö!$W28,Data_Kayttis!$BA:$BA,Henkilöstö!$X$18,Data_Kayttis!$AU:$AU,$X$9) -> 0 | H58: =COUNTIFS(Data_Kayttis!$BB:$BB,Henkilöstö!$W28,Data_Kayttis!$BA:$BA,Henkilöstö!$X$19,Data_Kayttis!$AU:$AU,$X$9) -> 0 | I58: =COUNTIFS(Data_Kayttis!$BB:$BB,Henkilöstö!$W28,Data_Kayttis!$BA:$BA,Henkilöstö!$X$20,Data_Kayttis!$AU:$AU,$X$9) -> 0 | J58: =COUNTIFS(Data_Kayttis!$BB:$BB,Henkilöstö!$W28,Data_Kayttis!$BA:$BA,Henkilöstö!$X$21,Data_Kayttis!$AU:$AU,$X$9) -> 0 | W58: Ruotsi | X58: =SUMIFS(Data_Kayttis!$AT:$AT,Data_Kayttis!J:J,TRUE,Data_Kayttis!$AU:$AU,$X$9) -> 0 | Y58: =IFERROR(X58/$F$36,"-") -> - | Z58: =SUMIFS(Data_Kayttis!$AT:$AT,Data_Kayttis!J:J,TRUE,Data_Kayttis!$C:$C,$X$7,Data_Kayttis!$AU:$AU,$X$9) -> 0 | AA58: =IFERROR(Z58/$G$36,"-") -> -
A59: Työhönvalmentajat | B59: =SUM(C59:J59) -> 0 | C59: =COUNTIFS(Data_Kayttis!$BB:$BB,Henkilöstö!$W29,Data_Kayttis!$BA:$BA,Henkilöstö!$X$14,Data_Kayttis!$AU:$AU,$X$9) -> 0 | D59: =COUNTIFS(Data_Kayttis!$BB:$BB,Henkilöstö!$W29,Data_Kayttis!$BA:$BA,Henkilöstö!$X$15,Data_Kayttis!$AU:$AU,$X$9) -> 0 | E59: =COUNTIFS(Data_Kayttis!$BB:$BB,Henkilöstö!$W29,Data_Kayttis!$BA:$BA,Henkilöstö!$X$16,Data_Kayttis!$AU:$AU,$X$9) -> 0 | F59: =COUNTIFS(Data_Kayttis!$BB:$BB,Henkilöstö!$W29,Data_Kayttis!$BA:$BA,Henkilöstö!$X$17,Data_Kayttis!$AU:$AU,$X$9) -> 0 | G59: =COUNTIFS(Data_Kayttis!$BB:$BB,Henkilöstö!$W29,Data_Kayttis!$BA:$BA,Henkilöstö!$X$18,Data_Kayttis!$AU:$AU,$X$9) -> 0 | H59: =COUNTIFS(Data_Kayttis!$BB:$BB,Henkilöstö!$W29,Data_Kayttis!$BA:$BA,Henkilöstö!$X$19,Data_Kayttis!$AU:$AU,$X$9) -> 0 | I59: =COUNTIFS(Data_Kayttis!$BB:$BB,Henkilöstö!$W29,Data_Kayttis!$BA:$BA,Henkilöstö!$X$20,Data_Kayttis!$AU:$AU,$X$9) -> 0 | J59: =COUNTIFS(Data_Kayttis!$BB:$BB,Henkilöstö!$W29,Data_Kayttis!$BA:$BA,Henkilöstö!$X$21,Data_Kayttis!$AU:$AU,$X$9) -> 0 | W59: Saame | X59: =SUMIFS(Data_Kayttis!$AT:$AT,Data_Kayttis!Q:Q,TRUE,Data_Kayttis!$AU:$AU,$X$9) -> 0 | Y59: =IFERROR(X59/$F$36,"-") -> - | Z59: =SUMIFS(Data_Kayttis!$AT:$AT,Data_Kayttis!Q:Q,TRUE,Data_Kayttis!$C:$C,$X$7,Data_Kayttis!$AU:$AU,$X$9) -> 0 | AA59: =IFERROR(Z59/$G$36,"-") -> -
A60: Etsivä nuorisotyö | B60: =SUM(C60:J60) -> 0 | C60: =COUNTIFS(Data_Kayttis!$BB:$BB,Henkilöstö!$W30,Data_Kayttis!$BA:$BA,Henkilöstö!$X$14,Data_Kayttis!$AU:$AU,$X$9) -> 0 | D60: =COUNTIFS(Data_Kayttis!$BB:$BB,Henkilöstö!$W30,Data_Kayttis!$BA:$BA,Henkilöstö!$X$15,Data_Kayttis!$AU:$AU,$X$9) -> 0 | E60: =COUNTIFS(Data_Kayttis!$BB:$BB,Henkilöstö!$W30,Data_Kayttis!$BA:$BA,Henkilöstö!$X$16,Data_Kayttis!$AU:$AU,$X$9) -> 0 | F60: =COUNTIFS(Data_Kayttis!$BB:$BB,Henkilöstö!$W30,Data_Kayttis!$BA:$BA,Henkilöstö!$X$17,Data_Kayttis!$AU:$AU,$X$9) -> 0 | G60: =COUNTIFS(Data_Kayttis!$BB:$BB,Henkilöstö!$W30,Data_Kayttis!$BA:$BA,Henkilöstö!$X$18,Data_Kayttis!$AU:$AU,$X$9) -> 0 | H60: =COUNTIFS(Data_Kayttis!$BB:$BB,Henkilöstö!$W30,Data_Kayttis!$BA:$BA,Henkilöstö!$X$19,Data_Kayttis!$AU:$AU,$X$9) -> 0 | I60: =COUNTIFS(Data_Kayttis!$BB:$BB,Henkilöstö!$W30,Data_Kayttis!$BA:$BA,Henkilöstö!$X$20,Data_Kayttis!$AU:$AU,$X$9) -> 0 | J60: =COUNTIFS(Data_Kayttis!$BB:$BB,Henkilöstö!$W30,Data_Kayttis!$BA:$BA,Henkilöstö!$X$21,Data_Kayttis!$AU:$AU,$X$9) -> 0 | W60: Englanti | X60: =SUMIFS(Data_Kayttis!$AT:$AT,Data_Kayttis!K:K,TRUE,Data_Kayttis!$AU:$AU,$X$9) -> 0 | Y60: =IFERROR(X60/$F$36,"-") -> - | Z60: =SUMIFS(Data_Kayttis!$AT:$AT,Data_Kayttis!K:K,TRUE,Data_Kayttis!$C:$C,$X$7,Data_Kayttis!$AU:$AU,$X$9) -> 0 | AA60: =IFERROR(Z60/$G$36,"-") -> -
A61: Johto | B61: =SUM(C61:J61) -> 0 | C61: =COUNTIFS(Data_Kayttis!$BB:$BB,Henkilöstö!$W31,Data_Kayttis!$BA:$BA,Henkilöstö!$X$14,Data_Kayttis!$AU:$AU,$X$9) -> 0 | D61: =COUNTIFS(Data_Kayttis!$BB:$BB,Henkilöstö!$W31,Data_Kayttis!$BA:$BA,Henkilöstö!$X$15,Data_Kayttis!$AU:$AU,$X$9) -> 0 | E61: =COUNTIFS(Data_Kayttis!$BB:$BB,Henkilöstö!$W31,Data_Kayttis!$BA:$BA,Henkilöstö!$X$16,Data_Kayttis!$AU:$AU,$X$9) -> 0 | F61: =COUNTIFS(Data_Kayttis!$BB:$BB,Henkilöstö!$W31,Data_Kayttis!$BA:$BA,Henkilöstö!$X$17,Data_Kayttis!$AU:$AU,$X$9) -> 0 | G61: =COUNTIFS(Data_Kayttis!$BB:$BB,Henkilöstö!$W31,Data_Kayttis!$BA:$BA,Henkilöstö!$X$18,Data_Kayttis!$AU:$AU,$X$9) -> 0 | H61: =COUNTIFS(Data_Kayttis!$BB:$BB,Henkilöstö!$W31,Data_Kayttis!$BA:$BA,Henkilöstö!$X$19,Data_Kayttis!$AU:$AU,$X$9) -> 0 | I61: =COUNTIFS(Data_Kayttis!$BB:$BB,Henkilöstö!$W31,Data_Kayttis!$BA:$BA,Henkilöstö!$X$20,Data_Kayttis!$AU:$AU,$X$9) -> 0 | J61: =COUNTIFS(Data_Kayttis!$BB:$BB,Henkilöstö!$W31,Data_Kayttis!$BA:$BA,Henkilöstö!$X$21,Data_Kayttis!$AU:$AU,$X$9) -> 0 | W61: Saksa | X61: =SUMIFS(Data_Kayttis!$AT:$AT,Data_Kayttis!L:L,TRUE,Data_Kayttis!$AU:$AU,$X$9) -> 0 | Y61: =IFERROR(X61/$F$36,"-") -> - | Z61: =SUMIFS(Data_Kayttis!$AT:$AT,Data_Kayttis!L:L,TRUE,Data_Kayttis!$C:$C,$X$7,Data_Kayttis!$AU:$AU,$X$9) -> 0 | AA61: =IFERROR(Z61/$G$36,"-") -> -
A62: Kehittäminen ja suunnittelu | B62: =SUM(C62:J62) -> 0 | C62: =COUNTIFS(Data_Kayttis!$BB:$BB,Henkilöstö!$W32,Data_Kayttis!$BA:$BA,Henkilöstö!$X$14,Data_Kayttis!$AU:$AU,$X$9) -> 0 | D62: =COUNTIFS(Data_Kayttis!$BB:$BB,Henkilöstö!$W32,Data_Kayttis!$BA:$BA,Henkilöstö!$X$15,Data_Kayttis!$AU:$AU,$X$9) -> 0 | E62: =COUNTIFS(Data_Kayttis!$BB:$BB,Henkilöstö!$W32,Data_Kayttis!$BA:$BA,Henkilöstö!$X$16,Data_Kayttis!$AU:$AU,$X$9) -> 0 | F62: =COUNTIFS(Data_Kayttis!$BB:$BB,Henkilöstö!$W32,Data_Kayttis!$BA:$BA,Henkilöstö!$X$17,Data_Kayttis!$AU:$AU,$X$9) -> 0 | G62: =COUNTIFS(Data_Kayttis!$BB:$BB,Henkilöstö!$W32,Data_Kayttis!$BA:$BA,Henkilöstö!$X$18,Data_Kayttis!$AU:$AU,$X$9) -> 0 | H62: =COUNTIFS(Data_Kayttis!$BB:$BB,Henkilöstö!$W32,Data_Kayttis!$BA:$BA,Henkilöstö!$X$19,Data_Kayttis!$AU:$AU,$X$9) -> 0 | I62: =COUNTIFS(Data_Kayttis!$BB:$BB,Henkilöstö!$W32,Data_Kayttis!$BA:$BA,Henkilöstö!$X$20,Data_Kayttis!$AU:$AU,$X$9) -> 0 | J62: =COUNTIFS(Data_Kayttis!$BB:$BB,Henkilöstö!$W32,Data_Kayttis!$BA:$BA,Henkilöstö!$X$21,Data_Kayttis!$AU:$AU,$X$9) -> 0 | W62: Ranska | X62: =SUMIFS(Data_Kayttis!$AT:$AT,Data_Kayttis!M:M,TRUE,Data_Kayttis!$AU:$AU,$X$9) -> 0 | Y62: =IFERROR(X62/$F$36,"-") -> - | Z62: =SUMIFS(Data_Kayttis!$AT:$AT,Data_Kayttis!M:M,TRUE,Data_Kayttis!$C:$C,$X$7,Data_Kayttis!$AU:$AU,$X$9) -> 0 | AA62: =IFERROR(Z62/$G$36,"-") -> -
A63: Muu hallinto | B63: =SUM(C63:J63) -> 0 | C63: =COUNTIFS(Data_Kayttis!$BB:$BB,Henkilöstö!$W33,Data_Kayttis!$BA:$BA,Henkilöstö!$X$14,Data_Kayttis!$AU:$AU,$X$9) -> 0 | D63: =COUNTIFS(Data_Kayttis!$BB:$BB,Henkilöstö!$W33,Data_Kayttis!$BA:$BA,Henkilöstö!$X$15,Data_Kayttis!$AU:$AU,$X$9) -> 0 | E63: =COUNTIFS(Data_Kayttis!$BB:$BB,Henkilöstö!$W33,Data_Kayttis!$BA:$BA,Henkilöstö!$X$16,Data_Kayttis!$AU:$AU,$X$9) -> 0 | F63: =COUNTIFS(Data_Kayttis!$BB:$BB,Henkilöstö!$W33,Data_Kayttis!$BA:$BA,Henkilöstö!$X$17,Data_Kayttis!$AU:$AU,$X$9) -> 0 | G63: =COUNTIFS(Data_Kayttis!$BB:$BB,Henkilöstö!$W33,Data_Kayttis!$BA:$BA,Henkilöstö!$X$18,Data_Kayttis!$AU:$AU,$X$9) -> 0 | H63: =COUNTIFS(Data_Kayttis!$BB:$BB,Henkilöstö!$W33,Data_Kayttis!$BA:$BA,Henkilöstö!$X$19,Data_Kayttis!$AU:$AU,$X$9) -> 0 | I63: =COUNTIFS(Data_Kayttis!$BB:$BB,Henkilöstö!$W33,Data_Kayttis!$BA:$BA,Henkilöstö!$X$20,Data_Kayttis!$AU:$AU,$X$9) -> 0 | J63: =COUNTIFS(Data_Kayttis!$BB:$BB,Henkilöstö!$W33,Data_Kayttis!$BA:$BA,Henkilöstö!$X$21,Data_Kayttis!$AU:$AU,$X$9) -> 0 | W63: Eesti | X63: =SUMIFS(Data_Kayttis!$AT:$AT,Data_Kayttis!N:N,TRUE,Data_Kayttis!$AU:$AU,$X$9) -> 0 | Y63: =IFERROR(X63/$F$36,"-") -> - | Z63: =SUMIFS(Data_Kayttis!$AT:$AT,Data_Kayttis!N:N,TRUE,Data_Kayttis!$C:$C,$X$7,Data_Kayttis!$AU:$AU,$X$9) -> 0 | AA63: =IFERROR(Z63/$G$36,"-") -> -
A64: Muu | B64: =SUM(C64:J64) -> 0 | C64: =COUNTIFS(Data_Kayttis!$BB:$BB,Henkilöstö!$W34,Data_Kayttis!$BA:$BA,Henkilöstö!$X$14,Data_Kayttis!$AU:$AU,$X$9) -> 0 | D64: =COUNTIFS(Data_Kayttis!$BB:$BB,Henkilöstö!$W34,Data_Kayttis!$BA:$BA,Henkilöstö!$X$15,Data_Kayttis!$AU:$AU,$X$9) -> 0 | E64: =COUNTIFS(Data_Kayttis!$BB:$BB,Henkilöstö!$W34,Data_Kayttis!$BA:$BA,Henkilöstö!$X$16,Data_Kayttis!$AU:$AU,$X$9) -> 0 | F64: =COUNTIFS(Data_Kayttis!$BB:$BB,Henkilöstö!$W34,Data_Kayttis!$BA:$BA,Henkilöstö!$X$17,Data_Kayttis!$AU:$AU,$X$9) -> 0 | G64: =COUNTIFS(Data_Kayttis!$BB:$BB,Henkilöstö!$W34,Data_Kayttis!$BA:$BA,Henkilöstö!$X$18,Data_Kayttis!$AU:$AU,$X$9) -> 0 | H64: =COUNTIFS(Data_Kayttis!$BB:$BB,Henkilöstö!$W34,Data_Kayttis!$BA:$BA,Henkilöstö!$X$19,Data_Kayttis!$AU:$AU,$X$9) -> 0 | I64: =COUNTIFS(Data_Kayttis!$BB:$BB,Henkilöstö!$W34,Data_Kayttis!$BA:$BA,Henkilöstö!$X$20,Data_Kayttis!$AU:$AU,$X$9) -> 0 | J64: =COUNTIFS(Data_Kayttis!$BB:$BB,Henkilöstö!$W34,Data_Kayttis!$BA:$BA,Henkilöstö!$X$21,Data_Kayttis!$AU:$AU,$X$9) -> 0 | W64: Venäjä | X64: =SUMIFS(Data_Kayttis!$AT:$AT,Data_Kayttis!O:O,TRUE,Data_Kayttis!$AU:$AU,$X$9) -> 0 | Y64: =IFERROR(X64/$F$36,"-") -> - | Z64: =SUMIFS(Data_Kayttis!$AT:$AT,Data_Kayttis!O:O,TRUE,Data_Kayttis!$C:$C,$X$7,Data_Kayttis!$AU:$AU,$X$9) -> 0 | AA64: =IFERROR(Z64/$G$36,"-") -> -
A65: Ei tietoa | B65: =SUM(C65:J65) -> 0 | C65: =COUNTIFS(Data_Kayttis!$BB:$BB,Henkilöstö!$W35,Data_Kayttis!$BA:$BA,Henkilöstö!$X$14,Data_Kayttis!$AU:$AU,$X$9) -> 0 | D65: =COUNTIFS(Data_Kayttis!$BB:$BB,Henkilöstö!$W35,Data_Kayttis!$BA:$BA,Henkilöstö!$X$15,Data_Kayttis!$AU:$AU,$X$9) -> 0 | E65: =COUNTIFS(Data_Kayttis!$BB:$BB,Henkilöstö!$W35,Data_Kayttis!$BA:$BA,Henkilöstö!$X$16,Data_Kayttis!$AU:$AU,$X$9) -> 0 | F65: =COUNTIFS(Data_Kayttis!$BB:$BB,Henkilöstö!$W35,Data_Kayttis!$BA:$BA,Henkilöstö!$X$17,Data_Kayttis!$AU:$AU,$X$9) -> 0 | G65: =COUNTIFS(Data_Kayttis!$BB:$BB,Henkilöstö!$W35,Data_Kayttis!$BA:$BA,Henkilöstö!$X$18,Data_Kayttis!$AU:$AU,$X$9) -> 0 | H65: =COUNTIFS(Data_Kayttis!$BB:$BB,Henkilöstö!$W35,Data_Kayttis!$BA:$BA,Henkilöstö!$X$19,Data_Kayttis!$AU:$AU,$X$9) -> 0 | I65: =COUNTIFS(Data_Kayttis!$BB:$BB,Henkilöstö!$W35,Data_Kayttis!$BA:$BA,Henkilöstö!$X$20,Data_Kayttis!$AU:$AU,$X$9) -> 0 | J65: =COUNTIFS(Data_Kayttis!$BB:$BB,Henkilöstö!$W35,Data_Kayttis!$BA:$BA,Henkilöstö!$X$21,Data_Kayttis!$AU:$AU,$X$9) -> 0 | W65: Somali | X65: =SUMIFS(Data_Kayttis!$AT:$AT,Data_Kayttis!P:P,TRUE,Data_Kayttis!$AU:$AU,$X$9) -> 0 | Y65: =IFERROR(X65/$F$36,"-") -> - | Z65: =SUMIFS(Data_Kayttis!$AT:$AT,Data_Kayttis!P:P,TRUE,Data_Kayttis!$C:$C,$X$7,Data_Kayttis!$AU:$AU,$X$9) -> 0 | AA65: =IFERROR(Z65/$G$36,"-") -> -
A66: Yhteensä (henkilömäärä): | B66: =SUM(C66:J66) -> 0 | C66: =SUM(C57:C65) -> 0 | D66: =SUM(D57:D65) -> 0 | E66: =SUM(E57:E65) -> 0 | F66: =SUM(F57:F65) -> 0 | G66: =SUM(G57:G65) -> 0 | H66: =SUM(H57:H65) -> 0 | I66: =SUM(I57:I65) -> 0 | J66: =SUM(J57:J65) -> 0 | W66: Muu | X66: =SUMIFS(Data_Kayttis!$AT:$AT,Data_Kayttis!R:R,TRUE,Data_Kayttis!$AU:$AU,$X$9) -> 0 | Y66: =IFERROR(X66/$F$36,"-") -> - | Z66: =SUMIFS(Data_Kayttis!$AT:$AT,Data_Kayttis!R:R,TRUE,Data_Kayttis!$C:$C,$X$7,Data_Kayttis!$AU:$AU,$X$9) -> 0 | AA66: =IFERROR(Z66/$G$36,"-") -> -
W69: =X41&X10 -> Etsivien ammattinimike - 01.01.2026-31.12.2026
A70: Sivun alkuun | W70: Tutkinto | X70: yhteensä | Y70: joista naisia
W71: kuntoutuksen ohjaaja | X71: =SUMIFS(Data_Kayttis!$AT:$AT,Data_Kayttis!$BC:$BC,Henkilöstö!$X42,Data_Kayttis!$BB:$BB,Henkilöstö!$W$30,Data_Kayttis!$AU:$AU,$X$9) -> 0 | Y71: =SUMIFS(Data_Kayttis!$AT:$AT,Data_Kayttis!$BC:$BC,Henkilöstö!$X42,Data_Kayttis!$C:$C,$X$7,Data_Kayttis!$BB:$BB,Henkilöstö!$W$30,Data_Kayttis!$AU:$AU,$X$9) -> 0
W72: lasten ja nuorten erityisohjaaja | X72: =SUMIFS(Data_Kayttis!$AT:$AT,Data_Kayttis!$BC:$BC,Henkilöstö!$X43,Data_Kayttis!$BB:$BB,Henkilöstö!$W$30,Data_Kayttis!$AU:$AU,$X$9) -> 0 | Y72: =SUMIFS(Data_Kayttis!$AT:$AT,Data_Kayttis!$BC:$BC,Henkilöstö!$X43,Data_Kayttis!$C:$C,$X$7,Data_Kayttis!$BB:$BB,Henkilöstö!$W$30,Data_Kayttis!$AU:$AU,$X$9) -> 0
W73: liikunnanohjaaja | X73: =SUMIFS(Data_Kayttis!$AT:$AT,Data_Kayttis!$BC:$BC,Henkilöstö!$X44,Data_Kayttis!$BB:$BB,Henkilöstö!$W$30,Data_Kayttis!$AU:$AU,$X$9) -> 0 | Y73: =SUMIFS(Data_Kayttis!$AT:$AT,Data_Kayttis!$BC:$BC,Henkilöstö!$X44,Data_Kayttis!$C:$C,$X$7,Data_Kayttis!$BB:$BB,Henkilöstö!$W$30,Data_Kayttis!$AU:$AU,$X$9) -> 0
W74: lähihoitaja | X74: =SUMIFS(Data_Kayttis!$AT:$AT,Data_Kayttis!$BC:$BC,Henkilöstö!$X45,Data_Kayttis!$BB:$BB,Henkilöstö!$W$30,Data_Kayttis!$AU:$AU,$X$9) -> 0 | Y74: =SUMIFS(Data_Kayttis!$AT:$AT,Data_Kayttis!$BC:$BC,Henkilöstö!$X45,Data_Kayttis!$C:$C,$X$7,Data_Kayttis!$BB:$BB,Henkilöstö!$W$30,Data_Kayttis!$AU:$AU,$X$9) -> 0
W75: nuoriso- ja vapaa-ajan ohjaaja | X75: =SUMIFS(Data_Kayttis!$AT:$AT,Data_Kayttis!$BC:$BC,Henkilöstö!$X46,Data_Kayttis!$BB:$BB,Henkilöstö!$W$30,Data_Kayttis!$AU:$AU,$X$9) -> 0 | Y75: =SUMIFS(Data_Kayttis!$AT:$AT,Data_Kayttis!$BC:$BC,Henkilöstö!$X46,Data_Kayttis!$C:$C,$X$7,Data_Kayttis!$BB:$BB,Henkilöstö!$W$30,Data_Kayttis!$AU:$AU,$X$9) -> 0
W76: nuorisosihteeri | X76: =SUMIFS(Data_Kayttis!$AT:$AT,Data_Kayttis!$BC:$BC,Henkilöstö!$X47,Data_Kayttis!$BB:$BB,Henkilöstö!$W$30,Data_Kayttis!$AU:$AU,$X$9) -> 0 | Y76: =SUMIFS(Data_Kayttis!$AT:$AT,Data_Kayttis!$BC:$BC,Henkilöstö!$X47,Data_Kayttis!$C:$C,$X$7,Data_Kayttis!$BB:$BB,Henkilöstö!$W$30,Data_Kayttis!$AU:$AU,$X$9) -> 0
W77: sairaanhoitaja | X77: =SUMIFS(Data_Kayttis!$AT:$AT,Data_Kayttis!$BC:$BC,Henkilöstö!$X48,Data_Kayttis!$BB:$BB,Henkilöstö!$W$30,Data_Kayttis!$AU:$AU,$X$9) -> 0 | Y77: =SUMIFS(Data_Kayttis!$AT:$AT,Data_Kayttis!$BC:$BC,Henkilöstö!$X48,Data_Kayttis!$C:$C,$X$7,Data_Kayttis!$BB:$BB,Henkilöstö!$W$30,Data_Kayttis!$AU:$AU,$X$9) -> 0
W78: sosionomi | X78: =SUMIFS(Data_Kayttis!$AT:$AT,Data_Kayttis!$BC:$BC,Henkilöstö!$X49,Data_Kayttis!$BB:$BB,Henkilöstö!$W$30,Data_Kayttis!$AU:$AU,$X$9) -> 0 | Y78: =SUMIFS(Data_Kayttis!$AT:$AT,Data_Kayttis!$BC:$BC,Henkilöstö!$X49,Data_Kayttis!$C:$C,$X$7,Data_Kayttis!$BB:$BB,Henkilöstö!$W$30,Data_Kayttis!$AU:$AU,$X$9) -> 0
W79: yhteisöpedagogi | X79: =SUMIFS(Data_Kayttis!$AT:$AT,Data_Kayttis!$BC:$BC,Henkilöstö!$X50,Data_Kayttis!$BB:$BB,Henkilöstö!$W$30,Data_Kayttis!$AU:$AU,$X$9) -> 0 | Y79: =SUMIFS(Data_Kayttis!$AT:$AT,Data_Kayttis!$BC:$BC,Henkilöstö!$X50,Data_Kayttis!$C:$C,$X$7,Data_Kayttis!$BB:$BB,Henkilöstö!$W$30,Data_Kayttis!$AU:$AU,$X$9) -> 0
W80: muu | X80: =SUMIFS(Data_Kayttis!$AT:$AT,Data_Kayttis!$BC:$BC,Henkilöstö!$X51,Data_Kayttis!$BB:$BB,Henkilöstö!$W$30,Data_Kayttis!$AU:$AU,$X$9) -> 0 | Y80: =SUMIFS(Data_Kayttis!$AT:$AT,Data_Kayttis!$BC:$BC,Henkilöstö!$X51,Data_Kayttis!$C:$C,$X$7,Data_Kayttis!$BB:$BB,Henkilöstö!$W$30,Data_Kayttis!$AU:$AU,$X$9) -> 0
W81: ei tietoa | X81: =SUMIFS(Data_Kayttis!$AT:$AT,Data_Kayttis!$BC:$BC,Henkilöstö!$X52,Data_Kayttis!$BB:$BB,Henkilöstö!$W$30,Data_Kayttis!$AU:$AU,$X$9) -> 0 | Y81: =SUMIFS(Data_Kayttis!$AT:$AT,Data_Kayttis!$BC:$BC,Henkilöstö!$X52,Data_Kayttis!$C:$C,$X$7,Data_Kayttis!$BB:$BB,Henkilöstö!$W$30,Data_Kayttis!$AU:$AU,$X$9) -> 0
W82: Yhteensä | X82: =SUM(X71:X81) -> 0 | Y82: =SUM(Y71:Y81) -> 0

Sheet HTV-laskuri
A1: Voit tarkistaa yhden työntekijän henkilötyövuodet HTV-laskurilla
A2: Tällä laskurilla lasketaan yhden työntekijän henkilövuodet yhden vuoden aikana
A4: HTV-laskuri | J4: Esimerkki
A5: Nimi | B5: Työ alkanut (1 vuoden aikana) | C5: Työ loppunut (1 vuoden aikana) | D5: Päiviä | E5: Laskettu htv | F5: Työaika-prosentti | G5: HTV | J5: Nimi | K5: Työ alkanut (1 vuoden aikana) | L5: Työ loppunut (1 vuoden aikana) | M5: Päiviä | N5: Laskettu htv | O5: Työaika-prosentti | P5: HTV
D6: =_xlfn.DAYS(C6,B6) -> 0 | E6: =D6/365 -> 0 | G6: =ROUND(E6*F6,2) -> 0 | J6: Essi Esimerkki | K6: 46023 | L6: 46172 | M6: =_xlfn.DAYS(L6,K6) -> 149 | N6: =M6/365 -> 0.40821918 | O6: 1 | P6: =ROUND(N6*O6,2) -> 0.41
D7: =_xlfn.DAYS(C7,B7) -> 0 | E7: =D7/365 -> 0 | G7: =ROUND(E7*F7,2) -> 0 | K7: 46220 | L7: 46283 | M7: =_xlfn.DAYS(L7,K7) -> 63 | N7: =M7/365 -> 0.17260274 | O7: 0.75 | P7: =ROUND(N7*O7,2) -> 0.13
D8: =_xlfn.DAYS(C8,B8) -> 0 | E8: =D8/365 -> 0 | G8: =ROUND(E8*F8,2) -> 0 | K8: 46356 | L8: 46387 | M8: =_xlfn.DAYS(L8,K8) -> 31 | N8: =M8/365 -> 0.084931507 | O8: 1 | P8: =ROUND(N8*O8,2) -> 0.08
D9: =_xlfn.DAYS(C9,B9) -> 0 | E9: =D9/365 -> 0 | G9: =ROUND(E9*F9,2) -> 0 | M9: =_xlfn.DAYS(L9,K9) -> 0 | N9: =M9/365 -> 0 | P9: =ROUND(N9*O9,2) -> 0
D10: =_xlfn.DAYS(C10,B10) -> 0 | E10: =D10/365 -> 0 | G10: =ROUND(E10*F10,2) -> 0 | M10: =_xlfn.DAYS(L10,K10) -> 0 | N10: =M10/365 -> 0 | P10: =ROUND(N10*O10,2) -> 0
D11: =_xlfn.DAYS(C11,B11) -> 0 | E11: =D11/365 -> 0 | G11: =ROUND(E11*F11,2) -> 0 | M11: =_xlfn.DAYS(L11,K11) -> 0 | N11: =M11/365 -> 0 | P11: =ROUND(N11*O11,2) -> 0
A12: Summa | G12: =SUBTOTAL(109,Taulukko133[HTV]) -> 0 | J12: Summa | P12: =SUBTOTAL(109,Taulukko13[HTV]) -> 0.62
A14: OHJE: Merkitse halutessasi työntekijän nimi. Merkitse yhdelle riville aikaväli, jolloin työntekijä on ollut töissä ja määritä kyseiselle ajalle työaikaprosentti. Ota laskurissa huomioon yli 10 päivän yhtämittaiset työsuhteenkatkot. Voit tehdä aina uuden rivin työsuhteenkatkon jälkeen toteutuneelle työsuhdejaksolle. Laskuriin merkitään työajat vain yhden vuoden ajalta, jolloin 100% työsuhde koko vuodelta on 1HTV. Työsuhteenkatkot tai pienempi kuin 100 % työaika vähentävät henkilötyövuosia. Laskuri laskee toteutuneet palvelussuhdepäivät ja HTV:n työntekijälle merkittyjen työaikarivien perusteella.
A16: Ohjevideon löydät osoitteesta:
A17: https://www.youtube.com/watch?v=3sJG_xIwlWU

Sheet Trendit
A1: Hakuarvot: | W1: Piilota | X1: Piilota | Y1: =IF(A5="","*",INDEX(AE5:AE54,MATCH(A5,AD5:AD54,0))) -> * | Z1: Piilota | AA1: Piilota | AB1: Piilota | AC1: Piilota | AD1: Piilota | AE1: Piilota
A2: =Asiakastilastot!$A$2 -> 46023 | B2: > Hakuaika, aloitus | W2: =TEXT($A$2,"vvvv") -> 2026 | X2: Kaikki | Y2: =IF(A6=X3,"OK","*") -> OK | Z2: KAIKKI: | AA2: hakuarvo | AB2: ComboBox_EtKun | AC2: hakuarvo | AD2: ComboBox_TyOma
A3: =Asiakastilastot!$A$3 -> 46387 | B3: > Hakuaika, päätös | W3: =TEXT($A$3,"kk") -> 12 | X3: Uudet | Z3: UUDET: | AA3: montako | AB3: =INDEX(Data_Omakoodi!K:K,MATCH($AB$2,Data_Omakoodi!$I:$I,0)) -> #N/A | AC3: montako | AD3: =INDEX(Data_Omakoodi!K:K,MATCH($AD$2,Data_Omakoodi!$I:$I,0)) -> #N/A
A4: Kaikki kunnat | B4: > Kunta | X4: Uudet (ei vanhoja jaksoja) | Y4: ok | AA4: 1. rivi | AB4: =IFERROR(MATCH($AB$2,Data_Omakoodi!$I:$I,0),"") | AC4: 1. rivi | AD4: =IFERROR(MATCH($AB$2,Data_Omakoodi!$I:$I,0),"")
A5: Kaikki yksiköt | B5: > Yksikkö | Y5: =IF(A6="","*",IF(A6=X2,"*",IF(A6=X4,X9,"*"))) -> * | AA5: * | AB5: Kaikki kunnat | AC5: * | AD5: Kaikki yksiköt | AE5: *
A6: Uudet | B6: > Asiakkuus | Y6: =IF(A4="","*",INDEX(AA5:AA54,MATCH(A4,AB5:AB54,0))) -> * | AA6: tyhja | AB6: Ei kuntaluokkaa | AC6: tyhja | AD6: Ei yksiköitä | AE6: tyhja
X7: OptionButton_EtNainen | Y7: OptionButton_EtMies | AA7: muut | AB7: Muut kunnat | AC7: muut | AD7: Muut yksiköt | AE7: muut
X8: nuori | AA8: ComboBox_EtKuntakoodi_00000001 | AB8: =IFERROR(INDEX(Data_Omakoodi!E:E,MATCH(AA8,Data_Omakoodi!A:A,0)),"") | AC8: ComboBox_TyHlo_yksikko_00000001 | AD8: =IFERROR(INDEX(Data_Omakoodi!E:E,MATCH(AC8,Data_Omakoodi!A:A,0)),"") | AE8: ComboBox_TyHlo_yksikko_00000001 | AF8: ComboBox_yksikko_00000001
X9: OK | AA9: ComboBox_EtKuntakoodi_00000002 | AB9: =IFERROR(INDEX(Data_Omakoodi!E:E,MATCH(AA9,Data_Omakoodi!A:A,0)),"") | AC9: ComboBox_TyHlo_yksikko_00000002 | AD9: =IFERROR(INDEX(Data_Omakoodi!E:E,MATCH(AC9,Data_Omakoodi!A:A,0)),"") | AE9: ComboBox_TyHlo_yksikko_00000002 | AF9: ComboBox_yksikko_00000002
X10: =" - "&TEXT($A$2,$X$11)&"-"&TEXT($A$3,$X$11)&" " -> - 01.01.2026-31.12.2026 | AA10: ComboBox_EtKuntakoodi_00000003 | AB10: =IFERROR(INDEX(Data_Omakoodi!E:E,MATCH(AA10,Data_Omakoodi!A:A,0)),"") | AC10: ComboBox_TyHlo_yksikko_00000003 | AD10: =IFERROR(INDEX(Data_Omakoodi!E:E,MATCH(AC10,Data_Omakoodi!A:A,0)),"") | AE10: ComboBox_TyHlo_yksikko_00000003 | AF10: ComboBox_yksikko_00000003
X11: pp.kk.vvvv | Y11: Kuva: | AA11: ComboBox_EtKuntakoodi_00000004 | AB11: =IFERROR(INDEX(Data_Omakoodi!E:E,MATCH(AA11,Data_Omakoodi!A:A,0)),"") | AC11: ComboBox_TyHlo_yksikko_00000004 | AD11: =IFERROR(INDEX(Data_Omakoodi!E:E,MATCH(AC11,Data_Omakoodi!A:A,0)),"") | AE11: ComboBox_TyHlo_yksikko_00000004 | AF11: ComboBox_yksikko_00000004
X12: ="("&A4&", "&A5&")" -> (Kaikki kunnat, Kaikki yksiköt) | AA12: ComboBox_EtKuntakoodi_00000005 | AB12: =IFERROR(INDEX(Data_Omakoodi!E:E,MATCH(AA12,Data_Omakoodi!A:A,0)),"") | AC12: ComboBox_TyHlo_yksikko_00000005 | AD12: =IFERROR(INDEX(Data_Omakoodi!E:E,MATCH(AC12,Data_Omakoodi!A:A,0)),"") | AE12: ComboBox_TyHlo_yksikko_00000005 | AF12: ComboBox_yksikko_00000005
A13: ="Uudet asiakkaat - ei aikaisempia jaksoja "&X12 -> Uudet asiakkaat - ei aikaisempia jaksoja (Kaikki kunnat, Kaikki yksiköt) | X13: UUSIEN Valmentautujien määrä sukupuolen ja ikäryhmän mukaan (ei aikaisempia jaksoja!) | AA13: ComboBox_EtKuntakoodi_00000006 | AB13: =IFERROR(INDEX(Data_Omakoodi!E:E,MATCH(AA13,Data_Omakoodi!A:A,0)),"") | AC13: ComboBox_TyHlo_yksikko_00000006 | AD13: =IFERROR(INDEX(Data_Omakoodi!E:E,MATCH(AC13,Data_Omakoodi!A:A,0)),"") | AE13: ComboBox_TyHlo_yksikko_00000006 | AF13: ComboBox_yksikko_00000006
A14: Sukupuoli | C14: =TEXT($A$2,"vvvv") -> 2026 | O14: Uudet | P14: Uusia | Q14: Kaikki | X14: OptionButton_EtMies | AA14: ComboBox_EtKuntakoodi_00000007 | AB14: =IFERROR(INDEX(Data_Omakoodi!E:E,MATCH(AA14,Data_Omakoodi!A:A,0)),"") | AC14: ComboBox_TyHlo_yksikko_00000007 | AD14: =IFERROR(INDEX(Data_Omakoodi!E:E,MATCH(AC14,Data_Omakoodi!A:A,0)),"") | AE14: ComboBox_TyHlo_yksikko_00000007 | AF14: ComboBox_yksikko_00000007
C15: Tammikuu | D15: Helmikuu | E15: Maaliskuu | F15: Huhtikuu | G15: Toukokuu | H15: Kesäkuu | I15: Heinäkuu | J15: Elokuu | K15: Syyskuu | L15: Lokakuu | M15: Marraskuu | N15: Joulukuu | O15: yhteensä | P15: kaikista % | Q15: yhteensä | X15: OptionButton_EtNainen | AA15: ComboBox_EtKuntakoodi_00000008 | AB15: =IFERROR(INDEX(Data_Omakoodi!E:E,MATCH(AA15,Data_Omakoodi!A:A,0)),"") | AC15: ComboBox_TyHlo_yksikko_00000008 | AD15: =IFERROR(INDEX(Data_Omakoodi!E:E,MATCH(AC15,Data_Omakoodi!A:A,0)),"") | AE15: ComboBox_TyHlo_yksikko_00000008 | AF15: ComboBox_yksikko_00000008
A16: Miehet | C16: =SUMIFS(AS!$W:$W,AS!$V:$V,"OK",AS!$K:$K,$Y$1,AS!BP:BP,"OK",AS!$F:$F,Trendit!$X$14,AS!$AW:$AW,Trendit!$Y$6) -> 0 | D16: =SUMIFS(AS!$W:$W,AS!$V:$V,"OK",AS!$K:$K,$Y$1,AS!BQ:BQ,"OK",AS!$F:$F,Trendit!$X$14,AS!$AW:$AW,Trendit!$Y$6) -> 0 | E16: =SUMIFS(AS!$W:$W,AS!$V:$V,"OK",AS!$K:$K,$Y$1,AS!BR:BR,"OK",AS!$F:$F,Trendit!$X$14,AS!$AW:$AW,Trendit!$Y$6) -> 0 | F16: =SUMIFS(AS!$W:$W,AS!$V:$V,"OK",AS!$K:$K,$Y$1,AS!BS:BS,"OK",AS!$F:$F,Trendit!$X$14,AS!$AW:$AW,Trendit!$Y$6) -> 0 | G16: =SUMIFS(AS!$W:$W,AS!$V:$V,"OK",AS!$K:$K,$Y$1,AS!BT:BT,"OK",AS!$F:$F,Trendit!$X$14,AS!$AW:$AW,Trendit!$Y$6) -> 0 | H16: =SUMIFS(AS!$W:$W,AS!$V:$V,"OK",AS!$K:$K,$Y$1,AS!BU:BU,"OK",AS!$F:$F,Trendit!$X$14,AS!$AW:$AW,Trendit!$Y$6) -> 0 | I16: =SUMIFS(AS!$W:$W,AS!$V:$V,"OK",AS!$K:$K,$Y$1,AS!BV:BV,"OK",AS!$F:$F,Trendit!$X$14,AS!$AW:$AW,Trendit!$Y$6) -> 0 | J16: =SUMIFS(AS!$W:$W,AS!$V:$V,"OK",AS!$K:$K,$Y$1,AS!BW:BW,"OK",AS!$F:$F,Trendit!$X$14,AS!$AW:$AW,Trendit!$Y$6) -> 0 | K16: =SUMIFS(AS!$W:$W,AS!$V:$V,"OK",AS!$K:$K,$Y$1,AS!BX:BX,"OK",AS!$F:$F,Trendit!$X$14,AS!$AW:$AW,Trendit!$Y$6) -> 0 | L16: =SUMIFS(AS!$W:$W,AS!$V:$V,"OK",AS!$K:$K,$Y$1,AS!BY:BY,"OK",AS!$F:$F,Trendit!$X$14,AS!$AW:$AW,Trendit!$Y$6) -> 0 | M16: =SUMIFS(AS!$W:$W,AS!$V:$V,"OK",AS!$K:$K,$Y$1,AS!BZ:BZ,"OK",AS!$F:$F,Trendit!$X$14,AS!$AW:$AW,Trendit!$Y$6) -> 0 | N16: =SUMIFS(AS!$W:$W,AS!$V:$V,"OK",AS!$K:$K,$Y$1,AS!CA:CA,"OK",AS!$F:$F,Trendit!$X$14,AS!$AW:$AW,Trendit!$Y$6) -> 0 | O16: =SUM(C16:N16) -> 0 | P16: =IFERROR(O16/Q16,0) -> 0 | Q16: =IF($W$3="12",SUMIFS(AS!$W:$W,AS!AB:AB,"OK",AS!$F:$F,$X$14,AS!$AW:$AW,$Y$6,AS!$K:$K,$Y$1),"ks. aika") -> 0 | AA16: ComboBox_EtKuntakoodi_00000009 | AB16: =IFERROR(INDEX(Data_Omakoodi!E:E,MATCH(AA16,Data_Omakoodi!A:A,0)),"") | AC16: ComboBox_TyHlo_yksikko_00000009 | AD16: =IFERROR(INDEX(Data_Omakoodi!E:E,MATCH(AC16,Data_Omakoodi!A:A,0)),"") | AE16: ComboBox_TyHlo_yksikko_00000009 | AF16: ComboBox_yksikko_00000009
A17: Naiset | C17: =SUMIFS(AS!$W:$W,AS!$V:$V,"OK",AS!$K:$K,$Y$1,AS!BP:BP,"OK",AS!$F:$F,Trendit!$X$15,AS!$AW:$AW,Trendit!$Y$6) -> 0 | D17: =SUMIFS(AS!$W:$W,AS!$V:$V,"OK",AS!$K:$K,$Y$1,AS!BQ:BQ,"OK",AS!$F:$F,Trendit!$X$15,AS!$AW:$AW,Trendit!$Y$6) -> 0 | E17: =SUMIFS(AS!$W:$W,AS!$V:$V,"OK",AS!$K:$K,$Y$1,AS!BR:BR,"OK",AS!$F:$F,Trendit!$X$15,AS!$AW:$AW,Trendit!$Y$6) -> 0 | F17: =SUMIFS(AS!$W:$W,AS!$V:$V,"OK",AS!$K:$K,$Y$1,AS!BS:BS,"OK",AS!$F:$F,Trendit!$X$15,AS!$AW:$AW,Trendit!$Y$6) -> 0 | G17: =SUMIFS(AS!$W:$W,AS!$V:$V,"OK",AS!$K:$K,$Y$1,AS!BT:BT,"OK",AS!$F:$F,Trendit!$X$15,AS!$AW:$AW,Trendit!$Y$6) -> 0 | H17: =SUMIFS(AS!$W:$W,AS!$V:$V,"OK",AS!$K:$K,$Y$1,AS!BU:BU,"OK",AS!$F:$F,Trendit!$X$15,AS!$AW:$AW,Trendit!$Y$6) -> 0 | I17: =SUMIFS(AS!$W:$W,AS!$V:$V,"OK",AS!$K:$K,$Y$1,AS!BV:BV,"OK",AS!$F:$F,Trendit!$X$15,AS!$AW:$AW,Trendit!$Y$6) -> 0 | J17: =SUMIFS(AS!$W:$W,AS!$V:$V,"OK",AS!$K:$K,$Y$1,AS!BW:BW,"OK",AS!$F:$F,Trendit!$X$15,AS!$AW:$AW,Trendit!$Y$6) -> 0 | K17: =SUMIFS(AS!$W:$W,AS!$V:$V,"OK",AS!$K:$K,$Y$1,AS!BX:BX,"OK",AS!$F:$F,Trendit!$X$15,AS!$AW:$AW,Trendit!$Y$6) -> 0 | L17: =SUMIFS(AS!$W:$W,AS!$V:$V,"OK",AS!$K:$K,$Y$1,AS!BY:BY,"OK",AS!$F:$F,Trendit!$X$15,AS!$AW:$AW,Trendit!$Y$6) -> 0 | M17: =SUMIFS(AS!$W:$W,AS!$V:$V,"OK",AS!$K:$K,$Y$1,AS!BZ:BZ,"OK",AS!$F:$F,Trendit!$X$15,AS!$AW:$AW,Trendit!$Y$6) -> 0 | N17: =SUMIFS(AS!$W:$W,AS!$V:$V,"OK",AS!$K:$K,$Y$1,AS!CA:CA,"OK",AS!$F:$F,Trendit!$X$15,AS!$AW:$AW,Trendit!$Y$6) -> 0 | O17: =SUM(C17:N17) -> 0 | P17: =IFERROR(O17/Q17,0) -> 0 | Q17: =IF($W$3="12",SUMIFS(AS!$W:$W,AS!$AB:$AB,"OK",AS!$F:$F,$X$15,AS!$AW:$AW,$Y$6,AS!$K:$K,$Y$1),0) -> 0 | AA17: ComboBox_EtKuntakoodi_00000010 | AB17: =IFERROR(INDEX(Data_Omakoodi!E:E,MATCH(AA17,Data_Omakoodi!A:A,0)),"") | AC17: ComboBox_TyHlo_yksikko_00000010 | AD17: =IFERROR(INDEX(Data_Omakoodi!E:E,MATCH(AC17,Data_Omakoodi!A:A,0)),"") | AE17: ComboBox_TyHlo_yksikko_00000010 | AF17: ComboBox_yksikko_00000010
A18: Yhteensä | C18: =SUM(C16:C17) -> 0 | D18: =SUM(D16:D17) -> 0 | E18: =SUM(E16:E17) -> 0 | F18: =SUM(F16:F17) -> 0 | G18: =SUM(G16:G17) -> 0 | H18: =SUM(H16:H17) -> 0 | I18: =SUM(I16:I17) -> 0 | J18: =SUM(J16:J17) -> 0 | ... O18: =SUM(O16:O17) -> 0 | P18: =IFERROR(O18/Q18,0) -> 0 | Q18: =IFERROR(SUM(Q16:Q17),"") -> 0 | AA18: ComboBox_EtKuntakoodi_00000011 | AB18: =IFERROR(INDEX(Data_Omakoodi!E:E,MATCH(AA18,Data_Omakoodi!A:A,0)),"") | AC18: ComboBox_TyHlo_yksikko_00000011 | AD18: =IFERROR(INDEX(Data_Omakoodi!E:E,MATCH(AC18,Data_Omakoodi!A:A,0)),"") | AE18: ComboBox_TyHlo_yksikko_00000011 | AF18: ComboBox_yksikko_00000011
AA19: ComboBox_EtKuntakoodi_00000012 | AB19: =IFERROR(INDEX(Data_Omakoodi!E:E,MATCH(AA19,Data_Omakoodi!A:A,0)),"") | AC19: ComboBox_TyHlo_yksikko_00000012 | AD19: =IFERROR(INDEX(Data_Omakoodi!E:E,MATCH(AC19,Data_Omakoodi!A:A,0)),"") | AE19: ComboBox_TyHlo_yksikko_00000012 | AF19: ComboBox_yksikko_00000012
A20: ="Uudet asiakkaat - jaksoja voi olla aikaisempina vuosina "&X12 -> Uudet asiakkaat - jaksoja voi olla aikaisempina vuosina (Kaikki kunnat, Kaikki yksiköt) | AA20: ComboBox_EtKuntakoodi_00000013 | AB20: =IFERROR(INDEX(Data_Omakoodi!E:E,MATCH(AA20,Data_Omakoodi!A:A,0)),"") | AC20: ComboBox_TyHlo_yksikko_00000013 | AD20: =IFERROR(INDEX(Data_Omakoodi!E:E,MATCH(AC20,Data_Omakoodi!A:A,0)),"") | AE20: ComboBox_TyHlo_yksikko_00000013 | AF20: ComboBox_yksikko_00000013
A21: Sukupuoli | B21: =TEXT($A$2-365,"VVVV")&"-" -> 2025- | C21: =TEXT($A$2,"vvvv") -> 2026 | O21: Uudet | P21: Uusia | Q21: Kaikki | AA21: ComboBox_EtKuntakoodi_00000014 | AB21: =IFERROR(INDEX(Data_Omakoodi!E:E,MATCH(AA21,Data_Omakoodi!A:A,0)),"") | AC21: ComboBox_TyHlo_yksikko_00000014 | AD21: =IFERROR(INDEX(Data_Omakoodi!E:E,MATCH(AC21,Data_Omakoodi!A:A,0)),"") | AE21: ComboBox_TyHlo_yksikko_00000014 | AF21: ComboBox_yksikko_00000014
B22: jatkavat | C22: Tammikuu | D22: Helmikuu | E22: Maaliskuu | F22: Huhtikuu | G22: Toukokuu | H22: Kesäkuu | I22: Heinäkuu | J22: Elokuu | K22: Syyskuu | L22: Lokakuu | M22: Marraskuu | N22: Joulukuu | O22: yhteensä | P22: kaikista % | Q22: yhteensä | AA22: ComboBox_EtKuntakoodi_00000015 | AB22: =IFERROR(INDEX(Data_Omakoodi!E:E,MATCH(AA22,Data_Omakoodi!A:A,0)),"") | AC22: ComboBox_TyHlo_yksikko_00000015 | AD22: =IFERROR(INDEX(Data_Omakoodi!E:E,MATCH(AC22,Data_Omakoodi!A:A,0)),"") | AE22: ComboBox_TyHlo_yksikko_00000015 | AF22: ComboBox_yksikko_00000015
A23: Miehet | B23: =IFERROR(Q23-O23,0) -> 0 | C23: =SUMIFS(AS!$W:$W,AS!$V:$V,"OK",AS!$K:$K,$Y$1,AS!CK:CK,"OK",AS!$F:$F,Trendit!$X$14,AS!$AW:$AW,Trendit!$Y$6) -> 0 | D23: =SUMIFS(AS!$W:$W,AS!$V:$V,"OK",AS!$K:$K,$Y$1,AS!CL:CL,"OK",AS!$F:$F,Trendit!$X$14,AS!$AW:$AW,Trendit!$Y$6) -> 0 | E23: =SUMIFS(AS!$W:$W,AS!$V:$V,"OK",AS!$K:$K,$Y$1,AS!CM:CM,"OK",AS!$F:$F,Trendit!$X$14,AS!$AW:$AW,Trendit!$Y$6) -> 0 | F23: =SUMIFS(AS!$W:$W,AS!$V:$V,"OK",AS!$K:$K,$Y$1,AS!CN:CN,"OK",AS!$F:$F,Trendit!$X$14,AS!$AW:$AW,Trendit!$Y$6) -> 0 | G23: =SUMIFS(AS!$W:$W,AS!$V:$V,"OK",AS!$K:$K,$Y$1,AS!CO:CO,"OK",AS!$F:$F,Trendit!$X$14,AS!$AW:$AW,Trendit!$Y$6) -> 0 | H23: =SUMIFS(AS!$W:$W,AS!$V:$V,"OK",AS!$K:$K,$Y$1,AS!CP:CP,"OK",AS!$F:$F,Trendit!$X$14,AS!$AW:$AW,Trendit!$Y$6) -> 0 | I23: =SUMIFS(AS!$W:$W,AS!$V:$V,"OK",AS!$K:$K,$Y$1,AS!CQ:CQ,"OK",AS!$F:$F,Trendit!$X$14,AS!$AW:$AW,Trendit!$Y$6) -> 0 | J23: =SUMIFS(AS!$W:$W,AS!$V:$V,"OK",AS!$K:$K,$Y$1,AS!CR:CR,"OK",AS!$F:$F,Trendit!$X$14,AS!$AW:$AW,Trendit!$Y$6) -> 0 | K23: =SUMIFS(AS!$W:$W,AS!$V:$V,"OK",AS!$K:$K,$Y$1,AS!CS:CS,"OK",AS!$F:$F,Trendit!$X$14,AS!$AW:$AW,Trendit!$Y$6) -> 0 | L23: =SUMIFS(AS!$W:$W,AS!$V:$V,"OK",AS!$K:$K,$Y$1,AS!CT:CT,"OK",AS!$F:$F,Trendit!$X$14,AS!$AW:$AW,Trendit!$Y$6) -> 0 | M23: =SUMIFS(AS!$W:$W,AS!$V:$V,"OK",AS!$K:$K,$Y$1,AS!CU:CU,"OK",AS!$F:$F,Trendit!$X$14,AS!$AW:$AW,Trendit!$Y$6) -> 0 | N23: =SUMIFS(AS!$W:$W,AS!$V:$V,"OK",AS!$K:$K,$Y$1,AS!CV:CV,"OK",AS!$F:$F,Trendit!$X$14,AS!$AW:$AW,Trendit!$Y$6) -> 0 | O23: =SUM(C23:N23) -> 0 | P23: =IFERROR(O23/Q23,0) -> 0 | Q23: =IF($W$3="12",SUMIFS(AS!$W:$W,AS!AB:AB,"OK",AS!$F:$F,$X$14,AS!$AW:$AW,$Y$6,AS!$K:$K,$Y$1),"ks. aika") -> 0 | AA23: ComboBox_EtKuntakoodi_00000016 | AB23: =IFERROR(INDEX(Data_Omakoodi!E:E,MATCH(AA23,Data_Omakoodi!A:A,0)),"") | AC23: ComboBox_TyHlo_yksikko_00000016 | AD23: =IFERROR(INDEX(Data_Omakoodi!E:E,MATCH(AC23,Data_Omakoodi!A:A,0)),"") | AE23: ComboBox_TyHlo_yksikko_00000016 | AF23: ComboBox_yksikko_00000016
A24: Naiset | B24: =IFERROR(Q24-O24,0) -> 0 | C24: =SUMIFS(AS!$W:$W,AS!$V:$V,"OK",AS!$K:$K,$Y$1,AS!CK:CK,"OK",AS!$F:$F,Trendit!$X$15,AS!$AW:$AW,Trendit!$Y$6) -> 0 | D24: =SUMIFS(AS!$W:$W,AS!$V:$V,"OK",AS!$K:$K,$Y$1,AS!CL:CL,"OK",AS!$F:$F,Trendit!$X$15,AS!$AW:$AW,Trendit!$Y$6) -> 0 | E24: =SUMIFS(AS!$W:$W,AS!$V:$V,"OK",AS!$K:$K,$Y$1,AS!CM:CM,"OK",AS!$F:$F,Trendit!$X$15,AS!$AW:$AW,Trendit!$Y$6) -> 0 | F24: =SUMIFS(AS!$W:$W,AS!$V:$V,"OK",AS!$K:$K,$Y$1,AS!CN:CN,"OK",AS!$F:$F,Trendit!$X$15,AS!$AW:$AW,Trendit!$Y$6) -> 0 | G24: =SUMIFS(AS!$W:$W,AS!$V:$V,"OK",AS!$K:$K,$Y$1,AS!CO:CO,"OK",AS!$F:$F,Trendit!$X$15,AS!$AW:$AW,Trendit!$Y$6) -> 0 | H24: =SUMIFS(AS!$W:$W,AS!$V:$V,"OK",AS!$K:$K,$Y$1,AS!CP:CP,"OK",AS!$F:$F,Trendit!$X$15,AS!$AW:$AW,Trendit!$Y$6) -> 0 | I24: =SUMIFS(AS!$W:$W,AS!$V:$V,"OK",AS!$K:$K,$Y$1,AS!CQ:CQ,"OK",AS!$F:$F,Trendit!$X$15,AS!$AW:$AW,Trendit!$Y$6) -> 0 | J24: =SUMIFS(AS!$W:$W,AS!$V:$V,"OK",AS!$K:$K,$Y$1,AS!CR:CR,"OK",AS!$F:$F,Trendit!$X$15,AS!$AW:$AW,Trendit!$Y$6) -> 0 | K24: =SUMIFS(AS!$W:$W,AS!$V:$V,"OK",AS!$K:$K,$Y$1,AS!CS:CS,"OK",AS!$F:$F,Trendit!$X$15,AS!$AW:$AW,Trendit!$Y$6) -> 0 | L24: =SUMIFS(AS!$W:$W,AS!$V:$V,"OK",AS!$K:$K,$Y$1,AS!CT:CT,"OK",AS!$F:$F,Trendit!$X$15,AS!$AW:$AW,Trendit!$Y$6) -> 0 | M24: =SUMIFS(AS!$W:$W,AS!$V:$V,"OK",AS!$K:$K,$Y$1,AS!CU:CU,"OK",AS!$F:$F,Trendit!$X$15,AS!$AW:$AW,Trendit!$Y$6) -> 0 | N24: =SUMIFS(AS!$W:$W,AS!$V:$V,"OK",AS!$K:$K,$Y$1,AS!CV:CV,"OK",AS!$F:$F,Trendit!$X$15,AS!$AW:$AW,Trendit!$Y$6) -> 0 | O24: =SUM(C24:N24) -> 0 | P24: =IFERROR(O24/Q24,0) -> 0 | Q24: =IF($W$3="12",SUMIFS(AS!$W:$W,AS!$AB:$AB,"OK",AS!$F:$F,$X$15,AS!$AW:$AW,$Y$6,AS!$K:$K,$Y$1),0) -> 0 | AA24: ComboBox_EtKuntakoodi_00000017 | AB24: =IFERROR(INDEX(Data_Omakoodi!E:E,MATCH(AA24,Data_Omakoodi!A:A,0)),"") | AC24: ComboBox_TyHlo_yksikko_00000017 | AD24: =IFERROR(INDEX(Data_Omakoodi!E:E,MATCH(AC24,Data_Omakoodi!A:A,0)),"") | AE24: ComboBox_TyHlo_yksikko_00000017 | AF24: ComboBox_yksikko_00000017
A25: Yhteensä | B25: =IFERROR(Q25-O25,0) -> 0 | C25: =SUM(C23:C24) -> 0 | D25: =SUM(D23:D24) -> 0 | E25: =SUM(E23:E24) -> 0 | F25: =SUM(F23:F24) -> 0 | G25: =SUM(G23:G24) -> 0 | H25: =SUM(H23:H24) -> 0 | I25: =SUM(I23:I24) -> 0 | J25: =SUM(J23:J24) -> 0 | ... O25: =SUM(O23:O24) -> 0 | P25: =IFERROR(O25/Q25,0) -> 0 | Q25: =IFERROR(SUM(Q23:Q24),0) -> 0 | AA25: ComboBox_EtKuntakoodi_00000018 | AB25: =IFERROR(INDEX(Data_Omakoodi!E:E,MATCH(AA25,Data_Omakoodi!A:A,0)),"") | AC25: ComboBox_TyHlo_yksikko_00000018 | AD25: =IFERROR(INDEX(Data_Omakoodi!E:E,MATCH(AC25,Data_Omakoodi!A:A,0)),"") | AE25: ComboBox_TyHlo_yksikko_00000018 | AF25: ComboBox_yksikko_00000018
AA26: ComboBox_EtKuntakoodi_00000019 | AB26: =IFERROR(INDEX(Data_Omakoodi!E:E,MATCH(AA26,Data_Omakoodi!A:A,0)),"") | AC26: ComboBox_TyHlo_yksikko_00000019 | AD26: =IFERROR(INDEX(Data_Omakoodi!E:E,MATCH(AC26,Data_Omakoodi!A:A,0)),"") | AE26: ComboBox_TyHlo_yksikko_00000019 | AF26: ComboBox_yksikko_00000019
A27: ="Uudet JAKSOT aloituskuukauden perusteella " &X12 -> Uudet JAKSOT aloituskuukauden perusteella (Kaikki kunnat, Kaikki yksiköt) | AA27: ComboBox_EtKuntakoodi_00000020 | AB27: =IFERROR(INDEX(Data_Omakoodi!E:E,MATCH(AA27,Data_Omakoodi!A:A,0)),"") | AC27: ComboBox_TyHlo_yksikko_00000020 | AD27: =IFERROR(INDEX(Data_Omakoodi!E:E,MATCH(AC27,Data_Omakoodi!A:A,0)),"") | AE27: ComboBox_TyHlo_yksikko_00000020 | AF27: ComboBox_yksikko_00000020
A28: Sukupuoli | B28: =TEXT($A$2-365,"VVVV")&"-" -> 2025- | C28: =TEXT($A$2,"vvvv") -> 2026 | O28: Uudet jaksot | P28: Uusia jaksoja | Q28: Kaikki jaksot | AA28: ComboBox_EtKuntakoodi_00000021 | AB28: =IFERROR(INDEX(Data_Omakoodi!E:E,MATCH(AA28,Data_Omakoodi!A:A,0)),"") | AC28: ComboBox_TyHlo_yksikko_00000021 | AD28: =IFERROR(INDEX(Data_Omakoodi!E:E,MATCH(AC28,Data_Omakoodi!A:A,0)),"") | AE28: ComboBox_TyHlo_yksikko_00000021 | AF28: ComboBox_yksikko_00000021
B29: jatkavat | C29: Tammikuu | D29: Helmikuu | E29: Maaliskuu | F29: Huhtikuu | G29: Toukokuu | H29: Kesäkuu | I29: Heinäkuu | J29: Elokuu | K29: Syyskuu | L29: Lokakuu | M29: Marraskuu | N29: Joulukuu | O29: yhteensä | P29: kaikista % | Q29: yhteensä | AA29: ComboBox_EtKuntakoodi_00000022 | AB29: =IFERROR(INDEX(Data_Omakoodi!E:E,MATCH(AA29,Data_Omakoodi!A:A,0)),"") | AC29: ComboBox_TyHlo_yksikko_00000022 | AD29: =IFERROR(INDEX(Data_Omakoodi!E:E,MATCH(AC29,Data_Omakoodi!A:A,0)),"") | AE29: ComboBox_TyHlo_yksikko_00000022 | AF29: ComboBox_yksikko_00000022
A30: Miehet | B30: =IFERROR(Q30-O30,0) -> 0 | C30: =SUMIFS(JA!$Z:$Z,JA!$CI:$CI,Trendit!$Y$1,JA!BV:BV,"OK",JA!$CH:$CH,$X$14,JA!$AX:$AX,$Y$6) -> 0 | D30: =SUMIFS(JA!$Z:$Z,JA!$CI:$CI,Trendit!$Y$1,JA!BW:BW,"OK",JA!$CH:$CH,$X$14,JA!$AX:$AX,$Y$6) -> 0 | E30: =SUMIFS(JA!$Z:$Z,JA!$CI:$CI,Trendit!$Y$1,JA!BX:BX,"OK",JA!$CH:$CH,$X$14,JA!$AX:$AX,$Y$6) -> 0 | F30: =SUMIFS(JA!$Z:$Z,JA!$CI:$CI,Trendit!$Y$1,JA!BY:BY,"OK",JA!$CH:$CH,$X$14,JA!$AX:$AX,$Y$6) -> 0 | G30: =SUMIFS(JA!$Z:$Z,JA!$CI:$CI,Trendit!$Y$1,JA!BZ:BZ,"OK",JA!$CH:$CH,$X$14,JA!$AX:$AX,$Y$6) -> 0 | H30: =SUMIFS(JA!$Z:$Z,JA!$CI:$CI,Trendit!$Y$1,JA!CA:CA,"OK",JA!$CH:$CH,$X$14,JA!$AX:$AX,$Y$6) -> 0 | I30: =SUMIFS(JA!$Z:$Z,JA!$CI:$CI,Trendit!$Y$1,JA!CB:CB,"OK",JA!$CH:$CH,$X$14,JA!$AX:$AX,$Y$6) -> 0 | J30: =SUMIFS(JA!$Z:$Z,JA!$CI:$CI,Trendit!$Y$1,JA!CC:CC,"OK",JA!$CH:$CH,$X$14,JA!$AX:$AX,$Y$6) -> 0 | K30: =SUMIFS(JA!$Z:$Z,JA!$CI:$CI,Trendit!$Y$1,JA!CD:CD,"OK",JA!$CH:$CH,$X$14,JA!$AX:$AX,$Y$6) -> 0 | L30: =SUMIFS(JA!$Z:$Z,JA!$CI:$CI,Trendit!$Y$1,JA!CE:CE,"OK",JA!$CH:$CH,$X$14,JA!$AX:$AX,$Y$6) -> 0 | M30: =SUMIFS(JA!$Z:$Z,JA!$CI:$CI,Trendit!$Y$1,JA!CF:CF,"OK",JA!$CH:$CH,$X$14,JA!$AX:$AX,$Y$6) -> 0 | N30: =SUMIFS(JA!$Z:$Z,JA!$CI:$CI,Trendit!$Y$1,JA!CG:CG,"OK",JA!$CH:$CH,$X$14,JA!$AX:$AX,$Y$6) -> 0 | O30: =SUM(C30:N30) -> 0 | P30: =IFERROR(O30/Q30,0) -> 0 | Q30: =IF($W$3="12",SUMIFS(JA!$Z:$Z,JA!$CI:$CI,Trendit!$Y$1,JA!AE:AE,"OK",JA!$CH:$CH,$X$14,JA!$AX:$AX,$Y$6),"ks. aika") -> 0 | AA30: ComboBox_EtKuntakoodi_00000023 | AB30: =IFERROR(INDEX(Data_Omakoodi!E:E,MATCH(AA30,Data_Omakoodi!A:A,0)),"") | AC30: ComboBox_TyHlo_yksikko_00000023 | AD30: =IFERROR(INDEX(Data_Omakoodi!E:E,MATCH(AC30,Data_Omakoodi!A:A,0)),"") | AE30: ComboBox_TyHlo_yksikko_00000023 | AF30: ComboBox_yksikko_00000023
A31: Naiset | B31: =IFERROR(Q31-O31,0) -> 0 | C31: =SUMIFS(JA!$Z:$Z,JA!$CI:$CI,Trendit!$Y$1,JA!BV:BV,"OK",JA!$CH:$CH,$X$15,JA!$AX:$AX,$Y$6) -> 0 | D31: =SUMIFS(JA!$Z:$Z,JA!$CI:$CI,Trendit!$Y$1,JA!BW:BW,"OK",JA!$CH:$CH,$X$15,JA!$AX:$AX,$Y$6) -> 0 | E31: =SUMIFS(JA!$Z:$Z,JA!$CI:$CI,Trendit!$Y$1,JA!BX:BX,"OK",JA!$CH:$CH,$X$15,JA!$AX:$AX,$Y$6) -> 0 | F31: =SUMIFS(JA!$Z:$Z,JA!$CI:$CI,Trendit!$Y$1,JA!BY:BY,"OK",JA!$CH:$CH,$X$15,JA!$AX:$AX,$Y$6) -> 0 | G31: =SUMIFS(JA!$Z:$Z,JA!$CI:$CI,Trendit!$Y$1,JA!BZ:BZ,"OK",JA!$CH:$CH,$X$15,JA!$AX:$AX,$Y$6) -> 0 | H31: =SUMIFS(JA!$Z:$Z,JA!$CI:$CI,Trendit!$Y$1,JA!CA:CA,"OK",JA!$CH:$CH,$X$15,JA!$AX:$AX,$Y$6) -> 0 | I31: =SUMIFS(JA!$Z:$Z,JA!$CI:$CI,Trendit!$Y$1,JA!CB:CB,"OK",JA!$CH:$CH,$X$15,JA!$AX:$AX,$Y$6) -> 0 | J31: =SUMIFS(JA!$Z:$Z,JA!$CI:$CI,Trendit!$Y$1,JA!CC:CC,"OK",JA!$CH:$CH,$X$15,JA!$AX:$AX,$Y$6) -> 0 | K31: =SUMIFS(JA!$Z:$Z,JA!$CI:$CI,Trendit!$Y$1,JA!CD:CD,"OK",JA!$CH:$CH,$X$15,JA!$AX:$AX,$Y$6) -> 0 | L31: =SUMIFS(JA!$Z:$Z,JA!$CI:$CI,Trendit!$Y$1,JA!CE:CE,"OK",JA!$CH:$CH,$X$15,JA!$AX:$AX,$Y$6) -> 0 | M31: =SUMIFS(JA!$Z:$Z,JA!$CI:$CI,Trendit!$Y$1,JA!CF:CF,"OK",JA!$CH:$CH,$X$15,JA!$AX:$AX,$Y$6) -> 0 | N31: =SUMIFS(JA!$Z:$Z,JA!$CI:$CI,Trendit!$Y$1,JA!CG:CG,"OK",JA!$CH:$CH,$X$15,JA!$AX:$AX,$Y$6) -> 0 | O31: =SUM(C31:N31) -> 0 | P31: =IFERROR(O31/Q31,0) -> 0 | Q31: =IF($W$3="12",SUMIFS(JA!$Z:$Z,JA!$CI:$CI,Trendit!$Y$1,JA!AE:AE,"OK",JA!$CH:$CH,$X$15,JA!$AX:$AX,$Y$6),0) -> 0 | AA31: ComboBox_EtKuntakoodi_00000024 | AB31: =IFERROR(INDEX(Data_Omakoodi!E:E,MATCH(AA31,Data_Omakoodi!A:A,0)),"") | AC31: ComboBox_TyHlo_yksikko_00000024 | AD31: =IFERROR(INDEX(Data_Omakoodi!E:E,MATCH(AC31,Data_Omakoodi!A:A,0)),"") | AE31: ComboBox_TyHlo_yksikko_00000024 | AF31: ComboBox_yksikko_00000024
A32: Yhteensä | B32: =IFERROR(Q32-O32,0) -> 0 | C32: =SUM(C30:C31) -> 0 | D32: =SUM(D30:D31) -> 0 | E32: =SUM(E30:E31) -> 0 | F32: =SUM(F30:F31) -> 0 | G32: =SUM(G30:G31) -> 0 | H32: =SUM(H30:H31) -> 0 | I32: =SUM(I30:I31) -> 0 | J32: =SUM(J30:J31) -> 0 | ... O32: =SUM(O30:O31) -> 0 | P32: =IFERROR(O32/Q32,0) -> 0 | Q32: =IFERROR(SUM(Q30:Q31),0) -> 0 | AA32: ComboBox_EtKuntakoodi_00000025 | AB32: =IFERROR(INDEX(Data_Omakoodi!E:E,MATCH(AA32,Data_Omakoodi!A:A,0)),"") | AC32: ComboBox_TyHlo_yksikko_00000025 | AD32: =IFERROR(INDEX(Data_Omakoodi!E:E,MATCH(AC32,Data_Omakoodi!A:A,0)),"") | AE32: ComboBox_TyHlo_yksikko_00000025 | AF32: ComboBox_yksikko_00000025
AA33: ComboBox_EtKuntakoodi_00000026 | AB33: =IFERROR(INDEX(Data_Omakoodi!E:E,MATCH(AA33,Data_Omakoodi!A:A,0)),"") | AC33: ComboBox_TyHlo_yksikko_00000026 | AD33: =IFERROR(INDEX(Data_Omakoodi!E:E,MATCH(AC33,Data_Omakoodi!A:A,0)),"") | AE33: ComboBox_TyHlo_yksikko_00000026 | AF33: ComboBox_yksikko_00000026
A34: ="Kaikki JAKSOT > kaikkien käynnissä olevien jaksojen määrä kuukausitain "&X12 -> Kaikki JAKSOT > kaikkien käynnissä olevien jaksojen määrä kuukausitain (Kaikki kunnat, Kaikki yksiköt) | AA34: ComboBox_EtKuntakoodi_00000027 | AB34: =IFERROR(INDEX(Data_Omakoodi!E:E,MATCH(AA34,Data_Omakoodi!A:A,0)),"") | AC34: ComboBox_TyHlo_yksikko_00000027 | AD34: =IFERROR(INDEX(Data_Omakoodi!E:E,MATCH(AC34,Data_Omakoodi!A:A,0)),"") | AE34: ComboBox_TyHlo_yksikko_00000027 | AF34: ComboBox_yksikko_00000027
A35: Sukupuoli | C35: =TEXT($A$2,"vvvv") -> 2026 | O35: Jaksojen | AA35: ComboBox_EtKuntakoodi_00000028 | AB35: =IFERROR(INDEX(Data_Omakoodi!E:E,MATCH(AA35,Data_Omakoodi!A:A,0)),"") | AC35: ComboBox_TyHlo_yksikko_00000028 | AD35: =IFERROR(INDEX(Data_Omakoodi!E:E,MATCH(AC35,Data_Omakoodi!A:A,0)),"") | AE35: ComboBox_TyHlo_yksikko_00000028 | AF35: ComboBox_yksikko_00000028
C36: Tammikuu | D36: Helmikuu | E36: Maaliskuu | F36: Huhtikuu | G36: Toukokuu | H36: Kesäkuu | I36: Heinäkuu | J36: Elokuu | K36: Syyskuu | L36: Lokakuu | M36: Marraskuu | N36: Joulukuu | O36: kertymä yht. | AA36: ComboBox_EtKuntakoodi_00000029 | AB36: =IFERROR(INDEX(Data_Omakoodi!E:E,MATCH(AA36,Data_Omakoodi!A:A,0)),"") | AC36: ComboBox_TyHlo_yksikko_00000029 | AD36: =IFERROR(INDEX(Data_Omakoodi!E:E,MATCH(AC36,Data_Omakoodi!A:A,0)),"") | AE36: ComboBox_TyHlo_yksikko_00000029 | AF36: ComboBox_yksikko_00000029
A37: Miehet | C37: =SUMIFS(JA!$Z:$Z,JA!$CI:$CI,Trendit!$Y$1,JA!BJ:BJ,"OK",JA!$CH:$CH,$X$14,JA!$AX:$AX,$Y$6) -> 0 | D37: =SUMIFS(JA!$Z:$Z,JA!$CI:$CI,Trendit!$Y$1,JA!BK:BK,"OK",JA!$CH:$CH,$X$14,JA!$AX:$AX,$Y$6) -> 0 | E37: =SUMIFS(JA!$Z:$Z,JA!$CI:$CI,Trendit!$Y$1,JA!BL:BL,"OK",JA!$CH:$CH,$X$14,JA!$AX:$AX,$Y$6) -> 0 | F37: =SUMIFS(JA!$Z:$Z,JA!$CI:$CI,Trendit!$Y$1,JA!BM:BM,"OK",JA!$CH:$CH,$X$14,JA!$AX:$AX,$Y$6) -> 0 | G37: =SUMIFS(JA!$Z:$Z,JA!$CI:$CI,Trendit!$Y$1,JA!BN:BN,"OK",JA!$CH:$CH,$X$14,JA!$AX:$AX,$Y$6) -> 0 | H37: =SUMIFS(JA!$Z:$Z,JA!$CI:$CI,Trendit!$Y$1,JA!BO:BO,"OK",JA!$CH:$CH,$X$14,JA!$AX:$AX,$Y$6) -> 0 | I37: =SUMIFS(JA!$Z:$Z,JA!$CI:$CI,Trendit!$Y$1,JA!BP:BP,"OK",JA!$CH:$CH,$X$14,JA!$AX:$AX,$Y$6) -> 0 | J37: =SUMIFS(JA!$Z:$Z,JA!$CI:$CI,Trendit!$Y$1,JA!BQ:BQ,"OK",JA!$CH:$CH,$X$14,JA!$AX:$AX,$Y$6) -> 0 | K37: =SUMIFS(JA!$Z:$Z,JA!$CI:$CI,Trendit!$Y$1,JA!BR:BR,"OK",JA!$CH:$CH,$X$14,JA!$AX:$AX,$Y$6) -> 0 | L37: =SUMIFS(JA!$Z:$Z,JA!$CI:$CI,Trendit!$Y$1,JA!BS:BS,"OK",JA!$CH:$CH,$X$14,JA!$AX:$AX,$Y$6) -> 0 | M37: =SUMIFS(JA!$Z:$Z,JA!$CI:$CI,Trendit!$Y$1,JA!BT:BT,"OK",JA!$CH:$CH,$X$14,JA!$AX:$AX,$Y$6) -> 0 | N37: =SUMIFS(JA!$Z:$Z,JA!$CI:$CI,Trendit!$Y$1,JA!BU:BU,"OK",JA!$CH:$CH,$X$14,JA!$AX:$AX,$Y$6) -> 0 | O37: =SUM(C37:N37) -> 0 | AA37: ComboBox_EtKuntakoodi_00000030 | AB37: =IFERROR(INDEX(Data_Omakoodi!E:E,MATCH(AA37,Data_Omakoodi!A:A,0)),"") | AC37: ComboBox_TyHlo_yksikko_00000030 | AD37: =IFERROR(INDEX(Data_Omakoodi!E:E,MATCH(AC37,Data_Omakoodi!A:A,0)),"") | AE37: ComboBox_TyHlo_yksikko_00000030 | AF37: ComboBox_yksikko_00000030
A38: Naiset | C38: =SUMIFS(JA!$Z:$Z,JA!$CI:$CI,Trendit!$Y$1,JA!BJ:BJ,"OK",JA!$CH:$CH,$X$15,JA!$AX:$AX,$Y$6) -> 0 | D38: =SUMIFS(JA!$Z:$Z,JA!$CI:$CI,Trendit!$Y$1,JA!BK:BK,"OK",JA!$CH:$CH,$X$15,JA!$AX:$AX,$Y$6) -> 0 | E38: =SUMIFS(JA!$Z:$Z,JA!$CI:$CI,Trendit!$Y$1,JA!BL:BL,"OK",JA!$CH:$CH,$X$15,JA!$AX:$AX,$Y$6) -> 0 | F38: =SUMIFS(JA!$Z:$Z,JA!$CI:$CI,Trendit!$Y$1,JA!BM:BM,"OK",JA!$CH:$CH,$X$15,JA!$AX:$AX,$Y$6) -> 0 | G38: =SUMIFS(JA!$Z:$Z,JA!$CI:$CI,Trendit!$Y$1,JA!BN:BN,"OK",JA!$CH:$CH,$X$15,JA!$AX:$AX,$Y$6) -> 0 | H38: =SUMIFS(JA!$Z:$Z,JA!$CI:$CI,Trendit!$Y$1,JA!BO:BO,"OK",JA!$CH:$CH,$X$15,JA!$AX:$AX,$Y$6) -> 0 | I38: =SUMIFS(JA!$Z:$Z,JA!$CI:$CI,Trendit!$Y$1,JA!BP:BP,"OK",JA!$CH:$CH,$X$15,JA!$AX:$AX,$Y$6) -> 0 | J38: =SUMIFS(JA!$Z:$Z,JA!$CI:$CI,Trendit!$Y$1,JA!BQ:BQ,"OK",JA!$CH:$CH,$X$15,JA!$AX:$AX,$Y$6) -> 0 | K38: =SUMIFS(JA!$Z:$Z,JA!$CI:$CI,Trendit!$Y$1,JA!BR:BR,"OK",JA!$CH:$CH,$X$15,JA!$AX:$AX,$Y$6) -> 0 | L38: =SUMIFS(JA!$Z:$Z,JA!$CI:$CI,Trendit!$Y$1,JA!BS:BS,"OK",JA!$CH:$CH,$X$15,JA!$AX:$AX,$Y$6) -> 0 | M38: =SUMIFS(JA!$Z:$Z,JA!$CI:$CI,Trendit!$Y$1,JA!BT:BT,"OK",JA!$CH:$CH,$X$15,JA!$AX:$AX,$Y$6) -> 0 | N38: =SUMIFS(JA!$Z:$Z,JA!$CI:$CI,Trendit!$Y$1,JA!BU:BU,"OK",JA!$CH:$CH,$X$15,JA!$AX:$AX,$Y$6) -> 0 | O38: =SUM(C38:N38) -> 0
A39: Yhteensä | C39: =SUM(C37:C38) -> 0 | D39: =SUM(D37:D38) -> 0 | E39: =SUM(E37:E38) -> 0 | F39: =SUM(F37:F38) -> 0 | G39: =SUM(G37:G38) -> 0 | H39: =SUM(H37:H38) -> 0 | I39: =SUM(I37:I38) -> 0 | J39: =SUM(J37:J38) -> 0 | ... O39: =SUM(O37:O38) -> 0
A43: =IF(A6=X3,A20,A13) -> Uudet asiakkaat - jaksoja voi olla aikaisempina vuosina (Kaikki kunnat, Kaikki yksiköt)
A44: Ikäryhmä | B44: =TEXT($A$2-365,"VVVV")&"-" -> 2025- | C44: =TEXT($A$2,"vvvv") -> 2026 | O44: Uudet | P44: Uusia | Q44: Kaikki
B45: jatkavat | C45: Tammikuu | D45: Helmikuu | E45: Maaliskuu | F45: Huhtikuu | G45: Toukokuu | H45: Kesäkuu | I45: Heinäkuu | J45: Elokuu | K45: Syyskuu | L45: Lokakuu | M45: Marraskuu | N45: Joulukuu | O45: yhteensä | P45: kaikista % | Q45: yhteensä
A46: Nuoret yhteensä | B46: =IFERROR(Q46-O46,0) -> 0 | C46: =SUM(C47:C50) -> 0 | D46: =SUM(D47:D50) -> 0 | E46: =SUM(E47:E50) -> 0 | F46: =SUM(F47:F50) -> 0 | G46: =SUM(G47:G50) -> 0 | H46: =SUM(H47:H50) -> 0 | I46: =SUM(I47:I50) -> 0 | J46: =SUM(J47:J50) -> 0 | ... N46: =SUM(N47:N50) -> 0 | O46: =SUM(C46:N46) -> 0 | P46: =IFERROR(O46/Q46,0) -> 0 | Q46: =SUM(Q47:Q50) -> 0
A47: Alle 17 vuotta | B47: =IFERROR(Q47-O47,0) -> 0 | C47: =SUMIFS(AS!$W:$W,AS!$AG:$AG,Trendit!$X47,AS!$AW:$AW,Trendit!$Y$6,AS!$V:$V,$Y$4,AS!$K:$K,$Y$1,AS!BP:BP,$Y$5,AS!CK:CK,$Y$2) -> 0 | D47: =SUMIFS(AS!$W:$W,AS!$AG:$AG,Trendit!$X47,AS!$AW:$AW,Trendit!$Y$6,AS!$V:$V,$Y$4,AS!$K:$K,$Y$1,AS!BQ:BQ,$Y$5,AS!CL:CL,$Y$2) -> 0 | E47: =SUMIFS(AS!$W:$W,AS!$AG:$AG,Trendit!$X47,AS!$AW:$AW,Trendit!$Y$6,AS!$V:$V,$Y$4,AS!$K:$K,$Y$1,AS!BR:BR,$Y$5,AS!CM:CM,$Y$2) -> 0 | F47: =SUMIFS(AS!$W:$W,AS!$AG:$AG,Trendit!$X47,AS!$AW:$AW,Trendit!$Y$6,AS!$V:$V,$Y$4,AS!$K:$K,$Y$1,AS!BS:BS,$Y$5,AS!CN:CN,$Y$2) -> 0 | G47: =SUMIFS(AS!$W:$W,AS!$AG:$AG,Trendit!$X47,AS!$AW:$AW,Trendit!$Y$6,AS!$V:$V,$Y$4,AS!$K:$K,$Y$1,AS!BT:BT,$Y$5,AS!CO:CO,$Y$2) -> 0 | H47: =SUMIFS(AS!$W:$W,AS!$AG:$AG,Trendit!$X47,AS!$AW:$AW,Trendit!$Y$6,AS!$V:$V,$Y$4,AS!$K:$K,$Y$1,AS!BU:BU,$Y$5,AS!CP:CP,$Y$2) -> 0 | I47: =SUMIFS(AS!$W:$W,AS!$AG:$AG,Trendit!$X47,AS!$AW:$AW,Trendit!$Y$6,AS!$V:$V,$Y$4,AS!$K:$K,$Y$1,AS!BV:BV,$Y$5,AS!CQ:CQ,$Y$2) -> 0 | J47: =SUMIFS(AS!$W:$W,AS!$AG:$AG,Trendit!$X47,AS!$AW:$AW,Trendit!$Y$6,AS!$V:$V,$Y$4,AS!$K:$K,$Y$1,AS!BW:BW,$Y$5,AS!CR:CR,$Y$2) -> 0 | K47: =SUMIFS(AS!$W:$W,AS!$AG:$AG,Trendit!$X47,AS!$AW:$AW,Trendit!$Y$6,AS!$V:$V,$Y$4,AS!$K:$K,$Y$1,AS!BX:BX,$Y$5,AS!CS:CS,$Y$2) -> 0 | L47: =SUMIFS(AS!$W:$W,AS!$AG:$AG,Trendit!$X47,AS!$AW:$AW,Trendit!$Y$6,AS!$V:$V,$Y$4,AS!$K:$K,$Y$1,AS!BY:BY,$Y$5,AS!CT:CT,$Y$2) -> 0 | M47: =SUMIFS(AS!$W:$W,AS!$AG:$AG,Trendit!$X47,AS!$AW:$AW,Trendit!$Y$6,AS!$V:$V,$Y$4,AS!$K:$K,$Y$1,AS!BZ:BZ,$Y$5,AS!CU:CU,$Y$2) -> 0 | N47: =SUMIFS(AS!$W:$W,AS!$AG:$AG,Trendit!$X47,AS!$AW:$AW,Trendit!$Y$6,AS!$V:$V,$Y$4,AS!$K:$K,$Y$1,AS!CA:CA,$Y$5,AS!CV:CV,$Y$2) -> 0 | O47: =SUM(C47:N47) -> 0 | P47: =IFERROR(O47/Q47,0) -> 0 | Q47: =IF($W$3="12",SUMIFS(AS!$W:$W,AS!$AB:$AB,"OK",AS!$AG:$AG,$X47,AS!$AW:$AW,$Y$6,AS!$K:$K,$Y$1),0) -> 0 | X47: alle 17
A48: 17-20 vuotta | B48: =IFERROR(Q48-O48,0) -> 0 | C48: =SUMIFS(AS!$W:$W,AS!$AG:$AG,Trendit!$X48,AS!$AW:$AW,Trendit!$Y$6,AS!$V:$V,$Y$4,AS!$K:$K,$Y$1,AS!BP:BP,$Y$5,AS!CK:CK,$Y$2) -> 0 | D48: =SUMIFS(AS!$W:$W,AS!$AG:$AG,Trendit!$X48,AS!$AW:$AW,Trendit!$Y$6,AS!$V:$V,$Y$4,AS!$K:$K,$Y$1,AS!BQ:BQ,$Y$5,AS!CL:CL,$Y$2) -> 0 | E48: =SUMIFS(AS!$W:$W,AS!$AG:$AG,Trendit!$X48,AS!$AW:$AW,Trendit!$Y$6,AS!$V:$V,$Y$4,AS!$K:$K,$Y$1,AS!BR:BR,$Y$5,AS!CM:CM,$Y$2) -> 0 | F48: =SUMIFS(AS!$W:$W,AS!$AG:$AG,Trendit!$X48,AS!$AW:$AW,Trendit!$Y$6,AS!$V:$V,$Y$4,AS!$K:$K,$Y$1,AS!BS:BS,$Y$5,AS!CN:CN,$Y$2) -> 0 | G48: =SUMIFS(AS!$W:$W,AS!$AG:$AG,Trendit!$X48,AS!$AW:$AW,Trendit!$Y$6,AS!$V:$V,$Y$4,AS!$K:$K,$Y$1,AS!BT:BT,$Y$5,AS!CO:CO,$Y$2) -> 0 | H48: =SUMIFS(AS!$W:$W,AS!$AG:$AG,Trendit!$X48,AS!$AW:$AW,Trendit!$Y$6,AS!$V:$V,$Y$4,AS!$K:$K,$Y$1,AS!BU:BU,$Y$5,AS!CP:CP,$Y$2) -> 0 | I48: =SUMIFS(AS!$W:$W,AS!$AG:$AG,Trendit!$X48,AS!$AW:$AW,Trendit!$Y$6,AS!$V:$V,$Y$4,AS!$K:$K,$Y$1,AS!BV:BV,$Y$5,AS!CQ:CQ,$Y$2) -> 0 | J48: =SUMIFS(AS!$W:$W,AS!$AG:$AG,Trendit!$X48,AS!$AW:$AW,Trendit!$Y$6,AS!$V:$V,$Y$4,AS!$K:$K,$Y$1,AS!BW:BW,$Y$5,AS!CR:CR,$Y$2) -> 0 | K48: =SUMIFS(AS!$W:$W,AS!$AG:$AG,Trendit!$X48,AS!$AW:$AW,Trendit!$Y$6,AS!$V:$V,$Y$4,AS!$K:$K,$Y$1,AS!BX:BX,$Y$5,AS!CS:CS,$Y$2) -> 0 | L48: =SUMIFS(AS!$W:$W,AS!$AG:$AG,Trendit!$X48,AS!$AW:$AW,Trendit!$Y$6,AS!$V:$V,$Y$4,AS!$K:$K,$Y$1,AS!BY:BY,$Y$5,AS!CT:CT,$Y$2) -> 0 | M48: =SUMIFS(AS!$W:$W,AS!$AG:$AG,Trendit!$X48,AS!$AW:$AW,Trendit!$Y$6,AS!$V:$V,$Y$4,AS!$K:$K,$Y$1,AS!BZ:BZ,$Y$5,AS!CU:CU,$Y$2) -> 0 | N48: =SUMIFS(AS!$W:$W,AS!$AG:$AG,Trendit!$X48,AS!$AW:$AW,Trendit!$Y$6,AS!$V:$V,$Y$4,AS!$K:$K,$Y$1,AS!CA:CA,$Y$5,AS!CV:CV,$Y$2) -> 0 | O48: =SUM(C48:N48) -> 0 | P48: =IFERROR(O48/Q48,0) -> 0 | Q48: =IF($W$3="12",SUMIFS(AS!$W:$W,AS!$AB:$AB,"OK",AS!$AG:$AG,$X48,AS!$AW:$AW,$Y$6,AS!$K:$K,$Y$1),0) -> 0 | X48: 17-20
A49: 21-24 vuotta | B49: =IFERROR(Q49-O49,0) -> 0 | C49: =SUMIFS(AS!$W:$W,AS!$AG:$AG,Trendit!$X49,AS!$AW:$AW,Trendit!$Y$6,AS!$V:$V,$Y$4,AS!$K:$K,$Y$1,AS!BP:BP,$Y$5,AS!CK:CK,$Y$2) -> 0 | D49: =SUMIFS(AS!$W:$W,AS!$AG:$AG,Trendit!$X49,AS!$AW:$AW,Trendit!$Y$6,AS!$V:$V,$Y$4,AS!$K:$K,$Y$1,AS!BQ:BQ,$Y$5,AS!CL:CL,$Y$2) -> 0 | E49: =SUMIFS(AS!$W:$W,AS!$AG:$AG,Trendit!$X49,AS!$AW:$AW,Trendit!$Y$6,AS!$V:$V,$Y$4,AS!$K:$K,$Y$1,AS!BR:BR,$Y$5,AS!CM:CM,$Y$2) -> 0 | F49: =SUMIFS(AS!$W:$W,AS!$AG:$AG,Trendit!$X49,AS!$AW:$AW,Trendit!$Y$6,AS!$V:$V,$Y$4,AS!$K:$K,$Y$1,AS!BS:BS,$Y$5,AS!CN:CN,$Y$2) -> 0 | G49: =SUMIFS(AS!$W:$W,AS!$AG:$AG,Trendit!$X49,AS!$AW:$AW,Trendit!$Y$6,AS!$V:$V,$Y$4,AS!$K:$K,$Y$1,AS!BT:BT,$Y$5,AS!CO:CO,$Y$2) -> 0 | H49: =SUMIFS(AS!$W:$W,AS!$AG:$AG,Trendit!$X49,AS!$AW:$AW,Trendit!$Y$6,AS!$V:$V,$Y$4,AS!$K:$K,$Y$1,AS!BU:BU,$Y$5,AS!CP:CP,$Y$2) -> 0 | I49: =SUMIFS(AS!$W:$W,AS!$AG:$AG,Trendit!$X49,AS!$AW:$AW,Trendit!$Y$6,AS!$V:$V,$Y$4,AS!$K:$K,$Y$1,AS!BV:BV,$Y$5,AS!CQ:CQ,$Y$2) -> 0 | J49: =SUMIFS(AS!$W:$W,AS!$AG:$AG,Trendit!$X49,AS!$AW:$AW,Trendit!$Y$6,AS!$V:$V,$Y$4,AS!$K:$K,$Y$1,AS!BW:BW,$Y$5,AS!CR:CR,$Y$2) -> 0 | K49: =SUMIFS(AS!$W:$W,AS!$AG:$AG,Trendit!$X49,AS!$AW:$AW,Trendit!$Y$6,AS!$V:$V,$Y$4,AS!$K:$K,$Y$1,AS!BX:BX,$Y$5,AS!CS:CS,$Y$2) -> 0 | L49: =SUMIFS(AS!$W:$W,AS!$AG:$AG,Trendit!$X49,AS!$AW:$AW,Trendit!$Y$6,AS!$V:$V,$Y$4,AS!$K:$K,$Y$1,AS!BY:BY,$Y$5,AS!CT:CT,$Y$2) -> 0 | M49: =SUMIFS(AS!$W:$W,AS!$AG:$AG,Trendit!$X49,AS!$AW:$AW,Trendit!$Y$6,AS!$V:$V,$Y$4,AS!$K:$K,$Y$1,AS!BZ:BZ,$Y$5,AS!CU:CU,$Y$2) -> 0 | N49: =SUMIFS(AS!$W:$W,AS!$AG:$AG,Trendit!$X49,AS!$AW:$AW,Trendit!$Y$6,AS!$V:$V,$Y$4,AS!$K:$K,$Y$1,AS!CA:CA,$Y$5,AS!CV:CV,$Y$2) -> 0 | O49: =SUM(C49:N49) -> 0 | P49: =IFERROR(O49/Q49,0) -> 0 | Q49: =IF($W$3="12",SUMIFS(AS!$W:$W,AS!$AB:$AB,"OK",AS!$AG:$AG,$X49,AS!$AW:$AW,$Y$6,AS!$K:$K,$Y$1),0) -> 0 | X49: 21-24
A50: 25-28 vuotta | B50: =IFERROR(Q50-O50,0) -> 0 | C50: =SUMIFS(AS!$W:$W,AS!$AG:$AG,Trendit!$X50,AS!$AW:$AW,Trendit!$Y$6,AS!$V:$V,$Y$4,AS!$K:$K,$Y$1,AS!BP:BP,$Y$5,AS!CK:CK,$Y$2) -> 0 | D50: =SUMIFS(AS!$W:$W,AS!$AG:$AG,Trendit!$X50,AS!$AW:$AW,Trendit!$Y$6,AS!$V:$V,$Y$4,AS!$K:$K,$Y$1,AS!BQ:BQ,$Y$5,AS!CL:CL,$Y$2) -> 0 | E50: =SUMIFS(AS!$W:$W,AS!$AG:$AG,Trendit!$X50,AS!$AW:$AW,Trendit!$Y$6,AS!$V:$V,$Y$4,AS!$K:$K,$Y$1,AS!BR:BR,$Y$5,AS!CM:CM,$Y$2) -> 0 | F50: =SUMIFS(AS!$W:$W,AS!$AG:$AG,Trendit!$X50,AS!$AW:$AW,Trendit!$Y$6,AS!$V:$V,$Y$4,AS!$K:$K,$Y$1,AS!BS:BS,$Y$5,AS!CN:CN,$Y$2) -> 0 | G50: =SUMIFS(AS!$W:$W,AS!$AG:$AG,Trendit!$X50,AS!$AW:$AW,Trendit!$Y$6,AS!$V:$V,$Y$4,AS!$K:$K,$Y$1,AS!BT:BT,$Y$5,AS!CO:CO,$Y$2) -> 0 | H50: =SUMIFS(AS!$W:$W,AS!$AG:$AG,Trendit!$X50,AS!$AW:$AW,Trendit!$Y$6,AS!$V:$V,$Y$4,AS!$K:$K,$Y$1,AS!BU:BU,$Y$5,AS!CP:CP,$Y$2) -> 0 | I50: =SUMIFS(AS!$W:$W,AS!$AG:$AG,Trendit!$X50,AS!$AW:$AW,Trendit!$Y$6,AS!$V:$V,$Y$4,AS!$K:$K,$Y$1,AS!BV:BV,$Y$5,AS!CQ:CQ,$Y$2) -> 0 | J50: =SUMIFS(AS!$W:$W,AS!$AG:$AG,Trendit!$X50,AS!$AW:$AW,Trendit!$Y$6,AS!$V:$V,$Y$4,AS!$K:$K,$Y$1,AS!BW:BW,$Y$5,AS!CR:CR,$Y$2) -> 0 | K50: =SUMIFS(AS!$W:$W,AS!$AG:$AG,Trendit!$X50,AS!$AW:$AW,Trendit!$Y$6,AS!$V:$V,$Y$4,AS!$K:$K,$Y$1,AS!BX:BX,$Y$5,AS!CS:CS,$Y$2) -> 0 | L50: =SUMIFS(AS!$W:$W,AS!$AG:$AG,Trendit!$X50,AS!$AW:$AW,Trendit!$Y$6,AS!$V:$V,$Y$4,AS!$K:$K,$Y$1,AS!BY:BY,$Y$5,AS!CT:CT,$Y$2) -> 0 | M50: =SUMIFS(AS!$W:$W,AS!$AG:$AG,Trendit!$X50,AS!$AW:$AW,Trendit!$Y$6,AS!$V:$V,$Y$4,AS!$K:$K,$Y$1,AS!BZ:BZ,$Y$5,AS!CU:CU,$Y$2) -> 0 | N50: =SUMIFS(AS!$W:$W,AS!$AG:$AG,Trendit!$X50,AS!$AW:$AW,Trendit!$Y$6,AS!$V:$V,$Y$4,AS!$K:$K,$Y$1,AS!CA:CA,$Y$5,AS!CV:CV,$Y$2) -> 0 | O50: =SUM(C50:N50) -> 0 | P50: =IFERROR(O50/Q50,0) -> 0 | Q50: =IF($W$3="12",SUMIFS(AS!$W:$W,AS!$AB:$AB,"OK",AS!$AG:$AG,$X50,AS!$AW:$AW,$Y$6,AS!$K:$K,$Y$1),0) -> 0 | X50: 25-28
A51: 29-49 vuotta | B51: =IFERROR(Q51-O51,0) -> 0 | C51: =SUMIFS(AS!$W:$W,AS!$AG:$AG,Trendit!$X51,AS!$AW:$AW,Trendit!$Y$6,AS!$V:$V,$Y$4,AS!$K:$K,$Y$1,AS!BP:BP,$Y$5,AS!CK:CK,$Y$2) -> 0 | D51: =SUMIFS(AS!$W:$W,AS!$AG:$AG,Trendit!$X51,AS!$AW:$AW,Trendit!$Y$6,AS!$V:$V,$Y$4,AS!$K:$K,$Y$1,AS!BQ:BQ,$Y$5,AS!CL:CL,$Y$2) -> 0 | E51: =SUMIFS(AS!$W:$W,AS!$AG:$AG,Trendit!$X51,AS!$AW:$AW,Trendit!$Y$6,AS!$V:$V,$Y$4,AS!$K:$K,$Y$1,AS!BR:BR,$Y$5,AS!CM:CM,$Y$2) -> 0 | F51: =SUMIFS(AS!$W:$W,AS!$AG:$AG,Trendit!$X51,AS!$AW:$AW,Trendit!$Y$6,AS!$V:$V,$Y$4,AS!$K:$K,$Y$1,AS!BS:BS,$Y$5,AS!CN:CN,$Y$2) -> 0 | G51: =SUMIFS(AS!$W:$W,AS!$AG:$AG,Trendit!$X51,AS!$AW:$AW,Trendit!$Y$6,AS!$V:$V,$Y$4,AS!$K:$K,$Y$1,AS!BT:BT,$Y$5,AS!CO:CO,$Y$2) -> 0 | H51: =SUMIFS(AS!$W:$W,AS!$AG:$AG,Trendit!$X51,AS!$AW:$AW,Trendit!$Y$6,AS!$V:$V,$Y$4,AS!$K:$K,$Y$1,AS!BU:BU,$Y$5,AS!CP:CP,$Y$2) -> 0 | I51: =SUMIFS(AS!$W:$W,AS!$AG:$AG,Trendit!$X51,AS!$AW:$AW,Trendit!$Y$6,AS!$V:$V,$Y$4,AS!$K:$K,$Y$1,AS!BV:BV,$Y$5,AS!CQ:CQ,$Y$2) -> 0 | J51: =SUMIFS(AS!$W:$W,AS!$AG:$AG,Trendit!$X51,AS!$AW:$AW,Trendit!$Y$6,AS!$V:$V,$Y$4,AS!$K:$K,$Y$1,AS!BW:BW,$Y$5,AS!CR:CR,$Y$2) -> 0 | K51: =SUMIFS(AS!$W:$W,AS!$AG:$AG,Trendit!$X51,AS!$AW:$AW,Trendit!$Y$6,AS!$V:$V,$Y$4,AS!$K:$K,$Y$1,AS!BX:BX,$Y$5,AS!CS:CS,$Y$2) -> 0 | L51: =SUMIFS(AS!$W:$W,AS!$AG:$AG,Trendit!$X51,AS!$AW:$AW,Trendit!$Y$6,AS!$V:$V,$Y$4,AS!$K:$K,$Y$1,AS!BY:BY,$Y$5,AS!CT:CT,$Y$2) -> 0 | M51: =SUMIFS(AS!$W:$W,AS!$AG:$AG,Trendit!$X51,AS!$AW:$AW,Trendit!$Y$6,AS!$V:$V,$Y$4,AS!$K:$K,$Y$1,AS!BZ:BZ,$Y$5,AS!CU:CU,$Y$2) -> 0 | N51: =SUMIFS(AS!$W:$W,AS!$AG:$AG,Trendit!$X51,AS!$AW:$AW,Trendit!$Y$6,AS!$V:$V,$Y$4,AS!$K:$K,$Y$1,AS!CA:CA,$Y$5,AS!CV:CV,$Y$2) -> 0 | O51: =SUM(C51:N51) -> 0 | P51: =IFERROR(O51/Q51,0) -> 0 | Q51: =IF($W$3="12",SUMIFS(AS!$W:$W,AS!$AB:$AB,"OK",AS!$AG:$AG,$X51,AS!$AW:$AW,$Y$6,AS!$K:$K,$Y$1),0) -> 0 | X51: 29-49
A52: Yli 50 vuotta | B52: =IFERROR(Q52-O52,0) -> 0 | C52: =SUMIFS(AS!$W:$W,AS!$AG:$AG,Trendit!$X52,AS!$AW:$AW,Trendit!$Y$6,AS!$V:$V,$Y$4,AS!$K:$K,$Y$1,AS!BP:BP,$Y$5,AS!CK:CK,$Y$2) -> 0 | D52: =SUMIFS(AS!$W:$W,AS!$AG:$AG,Trendit!$X52,AS!$AW:$AW,Trendit!$Y$6,AS!$V:$V,$Y$4,AS!$K:$K,$Y$1,AS!BQ:BQ,$Y$5,AS!CL:CL,$Y$2) -> 0 | E52: =SUMIFS(AS!$W:$W,AS!$AG:$AG,Trendit!$X52,AS!$AW:$AW,Trendit!$Y$6,AS!$V:$V,$Y$4,AS!$K:$K,$Y$1,AS!BR:BR,$Y$5,AS!CM:CM,$Y$2) -> 0 | F52: =SUMIFS(AS!$W:$W,AS!$AG:$AG,Trendit!$X52,AS!$AW:$AW,Trendit!$Y$6,AS!$V:$V,$Y$4,AS!$K:$K,$Y$1,AS!BS:BS,$Y$5,AS!CN:CN,$Y$2) -> 0 | G52: =SUMIFS(AS!$W:$W,AS!$AG:$AG,Trendit!$X52,AS!$AW:$AW,Trendit!$Y$6,AS!$V:$V,$Y$4,AS!$K:$K,$Y$1,AS!BT:BT,$Y$5,AS!CO:CO,$Y$2) -> 0 | H52: =SUMIFS(AS!$W:$W,AS!$AG:$AG,Trendit!$X52,AS!$AW:$AW,Trendit!$Y$6,AS!$V:$V,$Y$4,AS!$K:$K,$Y$1,AS!BU:BU,$Y$5,AS!CP:CP,$Y$2) -> 0 | I52: =SUMIFS(AS!$W:$W,AS!$AG:$AG,Trendit!$X52,AS!$AW:$AW,Trendit!$Y$6,AS!$V:$V,$Y$4,AS!$K:$K,$Y$1,AS!BV:BV,$Y$5,AS!CQ:CQ,$Y$2) -> 0 | J52: =SUMIFS(AS!$W:$W,AS!$AG:$AG,Trendit!$X52,AS!$AW:$AW,Trendit!$Y$6,AS!$V:$V,$Y$4,AS!$K:$K,$Y$1,AS!BW:BW,$Y$5,AS!CR:CR,$Y$2) -> 0 | K52: =SUMIFS(AS!$W:$W,AS!$AG:$AG,Trendit!$X52,AS!$AW:$AW,Trendit!$Y$6,AS!$V:$V,$Y$4,AS!$K:$K,$Y$1,AS!BX:BX,$Y$5,AS!CS:CS,$Y$2) -> 0 | L52: =SUMIFS(AS!$W:$W,AS!$AG:$AG,Trendit!$X52,AS!$AW:$AW,Trendit!$Y$6,AS!$V:$V,$Y$4,AS!$K:$K,$Y$1,AS!BY:BY,$Y$5,AS!CT:CT,$Y$2) -> 0 | M52: =SUMIFS(AS!$W:$W,AS!$AG:$AG,Trendit!$X52,AS!$AW:$AW,Trendit!$Y$6,AS!$V:$V,$Y$4,AS!$K:$K,$Y$1,AS!BZ:BZ,$Y$5,AS!CU:CU,$Y$2) -> 0 | N52: =SUMIFS(AS!$W:$W,AS!$AG:$AG,Trendit!$X52,AS!$AW:$AW,Trendit!$Y$6,AS!$V:$V,$Y$4,AS!$K:$K,$Y$1,AS!CA:CA,$Y$5,AS!CV:CV,$Y$2) -> 0 | O52: =SUM(C52:N52) -> 0 | P52: =IFERROR(O52/Q52,0) -> 0 | Q52: =IF($W$3="12",SUMIFS(AS!$W:$W,AS!$AB:$AB,"OK",AS!$AG:$AG,$X52,AS!$AW:$AW,$Y$6,AS!$K:$K,$Y$1),0) -> 0 | X52: yli 50
A53: Ei tietoa | B53: =IFERROR(Q53-O53,0) -> 0 | C53: =SUMIFS(AS!$W:$W,AS!$AG:$AG,Trendit!$X53,AS!$AW:$AW,Trendit!$Y$6,AS!$V:$V,$Y$4,AS!$K:$K,$Y$1,AS!BP:BP,$Y$5,AS!CK:CK,$Y$2) -> 0 | D53: =SUMIFS(AS!$W:$W,AS!$AG:$AG,Trendit!$X53,AS!$AW:$AW,Trendit!$Y$6,AS!$V:$V,$Y$4,AS!$K:$K,$Y$1,AS!BQ:BQ,$Y$5,AS!CL:CL,$Y$2) -> 0 | E53: =SUMIFS(AS!$W:$W,AS!$AG:$AG,Trendit!$X53,AS!$AW:$AW,Trendit!$Y$6,AS!$V:$V,$Y$4,AS!$K:$K,$Y$1,AS!BR:BR,$Y$5,AS!CM:CM,$Y$2) -> 0 | F53: =SUMIFS(AS!$W:$W,AS!$AG:$AG,Trendit!$X53,AS!$AW:$AW,Trendit!$Y$6,AS!$V:$V,$Y$4,AS!$K:$K,$Y$1,AS!BS:BS,$Y$5,AS!CN:CN,$Y$2) -> 0 | G53: =SUMIFS(AS!$W:$W,AS!$AG:$AG,Trendit!$X53,AS!$AW:$AW,Trendit!$Y$6,AS!$V:$V,$Y$4,AS!$K:$K,$Y$1,AS!BT:BT,$Y$5,AS!CO:CO,$Y$2) -> 0 | H53: =SUMIFS(AS!$W:$W,AS!$AG:$AG,Trendit!$X53,AS!$AW:$AW,Trendit!$Y$6,AS!$V:$V,$Y$4,AS!$K:$K,$Y$1,AS!BU:BU,$Y$5,AS!CP:CP,$Y$2) -> 0 | I53: =SUMIFS(AS!$W:$W,AS!$AG:$AG,Trendit!$X53,AS!$AW:$AW,Trendit!$Y$6,AS!$V:$V,$Y$4,AS!$K:$K,$Y$1,AS!BV:BV,$Y$5,AS!CQ:CQ,$Y$2) -> 0 | J53: =SUMIFS(AS!$W:$W,AS!$AG:$AG,Trendit!$X53,AS!$AW:$AW,Trendit!$Y$6,AS!$V:$V,$Y$4,AS!$K:$K,$Y$1,AS!BW:BW,$Y$5,AS!CR:CR,$Y$2) -> 0 | K53: =SUMIFS(AS!$W:$W,AS!$AG:$AG,Trendit!$X53,AS!$AW:$AW,Trendit!$Y$6,AS!$V:$V,$Y$4,AS!$K:$K,$Y$1,AS!BX:BX,$Y$5,AS!CS:CS,$Y$2) -> 0 | L53: =SUMIFS(AS!$W:$W,AS!$AG:$AG,Trendit!$X53,AS!$AW:$AW,Trendit!$Y$6,AS!$V:$V,$Y$4,AS!$K:$K,$Y$1,AS!BY:BY,$Y$5,AS!CT:CT,$Y$2) -> 0 | M53: =SUMIFS(AS!$W:$W,AS!$AG:$AG,Trendit!$X53,AS!$AW:$AW,Trendit!$Y$6,AS!$V:$V,$Y$4,AS!$K:$K,$Y$1,AS!BZ:BZ,$Y$5,AS!CU:CU,$Y$2) -> 0 | N53: =SUMIFS(AS!$W:$W,AS!$AG:$AG,Trendit!$X53,AS!$AW:$AW,Trendit!$Y$6,AS!$V:$V,$Y$4,AS!$K:$K,$Y$1,AS!CA:CA,$Y$5,AS!CV:CV,$Y$2) -> 0 | O53: =SUM(C53:N53) -> 0 | P53: =IFERROR(O53/Q53,0) -> 0 | Q53: =IF($W$3="12",SUMIFS(AS!$W:$W,AS!$AB:$AB,"OK",AS!$AG:$AG,$X53,AS!$AW:$AW,$Y$6,AS!$K:$K,$Y$1),0) -> 0 | X53: EI
A54: Yhteensä | B54: =IFERROR(Q54-O54,0) -> 0 | C54: =SUM(C47:C53) -> 0 | D54: =SUM(D47:D53) -> 0 | E54: =SUM(E47:E53) -> 0 | F54: =SUM(F47:F53) -> 0 | G54: =SUM(G47:G53) -> 0 | H54: =SUM(H47:H53) -> 0 | I54: =SUM(I47:I53) -> 0 | J54: =SUM(J47:J53) -> 0 | ... N54: =SUM(N47:N53) -> 0 | O54: =SUM(C54:N54) -> 0 | P54: =IFERROR(O54/Q54,0) -> 0 | Q54: =SUM(Q47:Q53) -> 0
A59: =X59&A43 -> Valmentautujien ohjautuminen työpajatoimintaan ohjaavan tahon mukaan - Uudet asiakkaat - jaksoja voi olla aikaisempina vuosina (Kaikki kunnat, Kaikki yksiköt) | X59: Valmentautujien ohjautuminen työpajatoimintaan ohjaavan tahon mukaan -
A60: Ohjautuminen | B60: =TEXT($A$2-365,"VVVV")&"-" -> 2025- | C60: =TEXT($A$2,"vvvv") -> 2026 | O60: Uudet | P60: Uusia | Q60: Kaikki
B61: jatkavat | C61: Tammikuu | D61: Helmikuu | E61: Maaliskuu | F61: Huhtikuu | G61: Toukokuu | H61: Kesäkuu | I61: Heinäkuu | J61: Elokuu | K61: Syyskuu | L61: Lokakuu | M61: Marraskuu | N61: Joulukuu | O61: yhteensä | P61: kaikista % | Q61: yhteensä
A62: Oppilaitos | B62: =IFERROR(Q62-O62,0) -> 0 | C62: =SUM(C63:C66) -> 0 | D62: =SUM(D63:D66) -> 0 | E62: =SUM(E63:E66) -> 0 | F62: =SUM(F63:F66) -> 0 | G62: =SUM(G63:G66) -> 0 | H62: =SUM(H63:H66) -> 0 | I62: =SUM(I63:I66) -> 0 | J62: =SUM(J63:J66) -> 0 | ... N62: =SUM(N63:N66) -> 0 | O62: =SUM(C62:N62) -> 0 | P62: =IFERROR(O62/Q62,0) -> 0 | Q62: =SUM(Q63:Q66) -> 0
A63: Peruskoulu | B63: =IFERROR(Q63-O63,0) -> 0 | C63: =SUMIFS(AS!$W:$W,AS!$AX:$AX,Trendit!$X63,AS!$AW:$AW,Trendit!$Y$6,AS!$V:$V,$Y$4,AS!$K:$K,$Y$1,AS!BP:BP,$Y$5,AS!CK:CK,$Y$2) -> 0 | D63: =SUMIFS(AS!$W:$W,AS!$AX:$AX,Trendit!$X63,AS!$AW:$AW,Trendit!$Y$6,AS!$V:$V,$Y$4,AS!$K:$K,$Y$1,AS!BQ:BQ,$Y$5,AS!CL:CL,$Y$2) -> 0 | E63: =SUMIFS(AS!$W:$W,AS!$AX:$AX,Trendit!$X63,AS!$AW:$AW,Trendit!$Y$6,AS!$V:$V,$Y$4,AS!$K:$K,$Y$1,AS!BR:BR,$Y$5,AS!CM:CM,$Y$2) -> 0 | F63: =SUMIFS(AS!$W:$W,AS!$AX:$AX,Trendit!$X63,AS!$AW:$AW,Trendit!$Y$6,AS!$V:$V,$Y$4,AS!$K:$K,$Y$1,AS!BS:BS,$Y$5,AS!CN:CN,$Y$2) -> 0 | G63: =SUMIFS(AS!$W:$W,AS!$AX:$AX,Trendit!$X63,AS!$AW:$AW,Trendit!$Y$6,AS!$V:$V,$Y$4,AS!$K:$K,$Y$1,AS!BT:BT,$Y$5,AS!CO:CO,$Y$2) -> 0 | H63: =SUMIFS(AS!$W:$W,AS!$AX:$AX,Trendit!$X63,AS!$AW:$AW,Trendit!$Y$6,AS!$V:$V,$Y$4,AS!$K:$K,$Y$1,AS!BU:BU,$Y$5,AS!CP:CP,$Y$2) -> 0 | I63: =SUMIFS(AS!$W:$W,AS!$AX:$AX,Trendit!$X63,AS!$AW:$AW,Trendit!$Y$6,AS!$V:$V,$Y$4,AS!$K:$K,$Y$1,AS!BV:BV,$Y$5,AS!CQ:CQ,$Y$2) -> 0 | J63: =SUMIFS(AS!$W:$W,AS!$AX:$AX,Trendit!$X63,AS!$AW:$AW,Trendit!$Y$6,AS!$V:$V,$Y$4,AS!$K:$K,$Y$1,AS!BW:BW,$Y$5,AS!CR:CR,$Y$2) -> 0 | K63: =SUMIFS(AS!$W:$W,AS!$AX:$AX,Trendit!$X63,AS!$AW:$AW,Trendit!$Y$6,AS!$V:$V,$Y$4,AS!$K:$K,$Y$1,AS!BX:BX,$Y$5,AS!CS:CS,$Y$2) -> 0 | L63: =SUMIFS(AS!$W:$W,AS!$AX:$AX,Trendit!$X63,AS!$AW:$AW,Trendit!$Y$6,AS!$V:$V,$Y$4,AS!$K:$K,$Y$1,AS!BY:BY,$Y$5,AS!CT:CT,$Y$2) -> 0 | M63: =SUMIFS(AS!$W:$W,AS!$AX:$AX,Trendit!$X63,AS!$AW:$AW,Trendit!$Y$6,AS!$V:$V,$Y$4,AS!$K:$K,$Y$1,AS!BZ:BZ,$Y$5,AS!CU:CU,$Y$2) -> 0 | N63: =SUMIFS(AS!$W:$W,AS!$AX:$AX,Trendit!$X63,AS!$AW:$AW,Trendit!$Y$6,AS!$V:$V,$Y$4,AS!$K:$K,$Y$1,AS!CA:CA,$Y$5,AS!CV:CV,$Y$2) -> 0 | O63: =SUM(C63:N63) -> 0 | P63: =IFERROR(O63/Q63,0) -> 0 | Q63: =IF($W$3="12",SUMIFS(AS!$W:$W,AS!$AB:$AB,"OK",AS!$AX:$AX,$X63,AS!$K:$K,$Y$1,AS!$AW:$AW,$Y$6),0) -> 0 | X63: ComboBox_TySaapunut#peruskoulu
A64: Toisen asteen oppilaitos | B64: =IFERROR(Q64-O64,0) -> 0 | C64: =SUMIFS(AS!$W:$W,AS!$AX:$AX,Trendit!$X64,AS!$AW:$AW,Trendit!$Y$6,AS!$V:$V,$Y$4,AS!$K:$K,$Y$1,AS!BP:BP,$Y$5,AS!CK:CK,$Y$2) -> 0 | D64: =SUMIFS(AS!$W:$W,AS!$AX:$AX,Trendit!$X64,AS!$AW:$AW,Trendit!$Y$6,AS!$V:$V,$Y$4,AS!$K:$K,$Y$1,AS!BQ:BQ,$Y$5,AS!CL:CL,$Y$2) -> 0 | E64: =SUMIFS(AS!$W:$W,AS!$AX:$AX,Trendit!$X64,AS!$AW:$AW,Trendit!$Y$6,AS!$V:$V,$Y$4,AS!$K:$K,$Y$1,AS!BR:BR,$Y$5,AS!CM:CM,$Y$2) -> 0 | F64: =SUMIFS(AS!$W:$W,AS!$AX:$AX,Trendit!$X64,AS!$AW:$AW,Trendit!$Y$6,AS!$V:$V,$Y$4,AS!$K:$K,$Y$1,AS!BS:BS,$Y$5,AS!CN:CN,$Y$2) -> 0 | G64: =SUMIFS(AS!$W:$W,AS!$AX:$AX,Trendit!$X64,AS!$AW:$AW,Trendit!$Y$6,AS!$V:$V,$Y$4,AS!$K:$K,$Y$1,AS!BT:BT,$Y$5,AS!CO:CO,$Y$2) -> 0 | H64: =SUMIFS(AS!$W:$W,AS!$AX:$AX,Trendit!$X64,AS!$AW:$AW,Trendit!$Y$6,AS!$V:$V,$Y$4,AS!$K:$K,$Y$1,AS!BU:BU,$Y$5,AS!CP:CP,$Y$2) -> 0 | I64: =SUMIFS(AS!$W:$W,AS!$AX:$AX,Trendit!$X64,AS!$AW:$AW,Trendit!$Y$6,AS!$V:$V,$Y$4,AS!$K:$K,$Y$1,AS!BV:BV,$Y$5,AS!CQ:CQ,$Y$2) -> 0 | J64: =SUMIFS(AS!$W:$W,AS!$AX:$AX,Trendit!$X64,AS!$AW:$AW,Trendit!$Y$6,AS!$V:$V,$Y$4,AS!$K:$K,$Y$1,AS!BW:BW,$Y$5,AS!CR:CR,$Y$2) -> 0 | K64: =SUMIFS(AS!$W:$W,AS!$AX:$AX,Trendit!$X64,AS!$AW:$AW,Trendit!$Y$6,AS!$V:$V,$Y$4,AS!$K:$K,$Y$1,AS!BX:BX,$Y$5,AS!CS:CS,$Y$2) -> 0 | L64: =SUMIFS(AS!$W:$W,AS!$AX:$AX,Trendit!$X64,AS!$AW:$AW,Trendit!$Y$6,AS!$V:$V,$Y$4,AS!$K:$K,$Y$1,AS!BY:BY,$Y$5,AS!CT:CT,$Y$2) -> 0 | M64: =SUMIFS(AS!$W:$W,AS!$AX:$AX,Trendit!$X64,AS!$AW:$AW,Trendit!$Y$6,AS!$V:$V,$Y$4,AS!$K:$K,$Y$1,AS!BZ:BZ,$Y$5,AS!CU:CU,$Y$2) -> 0 | N64: =SUMIFS(AS!$W:$W,AS!$AX:$AX,Trendit!$X64,AS!$AW:$AW,Trendit!$Y$6,AS!$V:$V,$Y$4,AS!$K:$K,$Y$1,AS!CA:CA,$Y$5,AS!CV:CV,$Y$2) -> 0 | O64: =SUM(C64:N64) -> 0 | P64: =IFERROR(O64/Q64,0) -> 0 | Q64: =IF($W$3="12",SUMIFS(AS!$W:$W,AS!$AB:$AB,"OK",AS!$AX:$AX,$X64,AS!$K:$K,$Y$1,AS!$AW:$AW,$Y$6),0) -> 0 | X64: ComboBox_TySaapunut#toisen asteen oppilaitos
A65: Muu oppilaitos | B65: =IFERROR(Q65-O65,0) -> 0 | C65: =SUMIFS(AS!$W:$W,AS!$AX:$AX,Trendit!$X65,AS!$AW:$AW,Trendit!$Y$6,AS!$V:$V,$Y$4,AS!$K:$K,$Y$1,AS!BP:BP,$Y$5,AS!CK:CK,$Y$2) -> 0 | D65: =SUMIFS(AS!$W:$W,AS!$AX:$AX,Trendit!$X65,AS!$AW:$AW,Trendit!$Y$6,AS!$V:$V,$Y$4,AS!$K:$K,$Y$1,AS!BQ:BQ,$Y$5,AS!CL:CL,$Y$2) -> 0 | E65: =SUMIFS(AS!$W:$W,AS!$AX:$AX,Trendit!$X65,AS!$AW:$AW,Trendit!$Y$6,AS!$V:$V,$Y$4,AS!$K:$K,$Y$1,AS!BR:BR,$Y$5,AS!CM:CM,$Y$2) -> 0 | F65: =SUMIFS(AS!$W:$W,AS!$AX:$AX,Trendit!$X65,AS!$AW:$AW,Trendit!$Y$6,AS!$V:$V,$Y$4,AS!$K:$K,$Y$1,AS!BS:BS,$Y$5,AS!CN:CN,$Y$2) -> 0 | G65: =SUMIFS(AS!$W:$W,AS!$AX:$AX,Trendit!$X65,AS!$AW:$AW,Trendit!$Y$6,AS!$V:$V,$Y$4,AS!$K:$K,$Y$1,AS!BT:BT,$Y$5,AS!CO:CO,$Y$2) -> 0 | H65: =SUMIFS(AS!$W:$W,AS!$AX:$AX,Trendit!$X65,AS!$AW:$AW,Trendit!$Y$6,AS!$V:$V,$Y$4,AS!$K:$K,$Y$1,AS!BU:BU,$Y$5,AS!CP:CP,$Y$2) -> 0 | I65: =SUMIFS(AS!$W:$W,AS!$AX:$AX,Trendit!$X65,AS!$AW:$AW,Trendit!$Y$6,AS!$V:$V,$Y$4,AS!$K:$K,$Y$1,AS!BV:BV,$Y$5,AS!CQ:CQ,$Y$2) -> 0 | J65: =SUMIFS(AS!$W:$W,AS!$AX:$AX,Trendit!$X65,AS!$AW:$AW,Trendit!$Y$6,AS!$V:$V,$Y$4,AS!$K:$K,$Y$1,AS!BW:BW,$Y$5,AS!CR:CR,$Y$2) -> 0 | K65: =SUMIFS(AS!$W:$W,AS!$AX:$AX,Trendit!$X65,AS!$AW:$AW,Trendit!$Y$6,AS!$V:$V,$Y$4,AS!$K:$K,$Y$1,AS!BX:BX,$Y$5,AS!CS:CS,$Y$2) -> 0 | L65: =SUMIFS(AS!$W:$W,AS!$AX:$AX,Trendit!$X65,AS!$AW:$AW,Trendit!$Y$6,AS!$V:$V,$Y$4,AS!$K:$K,$Y$1,AS!BY:BY,$Y$5,AS!CT:CT,$Y$2) -> 0 | M65: =SUMIFS(AS!$W:$W,AS!$AX:$AX,Trendit!$X65,AS!$AW:$AW,Trendit!$Y$6,AS!$V:$V,$Y$4,AS!$K:$K,$Y$1,AS!BZ:BZ,$Y$5,AS!CU:CU,$Y$2) -> 0 | N65: =SUMIFS(AS!$W:$W,AS!$AX:$AX,Trendit!$X65,AS!$AW:$AW,Trendit!$Y$6,AS!$V:$V,$Y$4,AS!$K:$K,$Y$1,AS!CA:CA,$Y$5,AS!CV:CV,$Y$2) -> 0 | O65: =SUM(C65:N65) -> 0 | P65: =IFERROR(O65/Q65,0) -> 0 | Q65: =IF($W$3="12",SUMIFS(AS!$W:$W,AS!$AB:$AB,"OK",AS!$AX:$AX,$X65,AS!$K:$K,$Y$1,AS!$AW:$AW,$Y$6),0) -> 0 | X65: ComboBox_TySaapunut#muu oppilaitos
A66: Oppivelvollisuuden ohjaus ja valvonta | B66: =IFERROR(Q66-O66,0) -> 0 | C66: =SUMIFS(AS!$W:$W,AS!$AX:$AX,Trendit!$X66,AS!$AW:$AW,Trendit!$Y$6,AS!$V:$V,$Y$4,AS!$K:$K,$Y$1,AS!BP:BP,$Y$5,AS!CK:CK,$Y$2) -> 0 | D66: =SUMIFS(AS!$W:$W,AS!$AX:$AX,Trendit!$X66,AS!$AW:$AW,Trendit!$Y$6,AS!$V:$V,$Y$4,AS!$K:$K,$Y$1,AS!BQ:BQ,$Y$5,AS!CL:CL,$Y$2) -> 0 | E66: =SUMIFS(AS!$W:$W,AS!$AX:$AX,Trendit!$X66,AS!$AW:$AW,Trendit!$Y$6,AS!$V:$V,$Y$4,AS!$K:$K,$Y$1,AS!BR:BR,$Y$5,AS!CM:CM,$Y$2) -> 0 | F66: =SUMIFS(AS!$W:$W,AS!$AX:$AX,Trendit!$X66,AS!$AW:$AW,Trendit!$Y$6,AS!$V:$V,$Y$4,AS!$K:$K,$Y$1,AS!BS:BS,$Y$5,AS!CN:CN,$Y$2) -> 0 | G66: =SUMIFS(AS!$W:$W,AS!$AX:$AX,Trendit!$X66,AS!$AW:$AW,Trendit!$Y$6,AS!$V:$V,$Y$4,AS!$K:$K,$Y$1,AS!BT:BT,$Y$5,AS!CO:CO,$Y$2) -> 0 | H66: =SUMIFS(AS!$W:$W,AS!$AX:$AX,Trendit!$X66,AS!$AW:$AW,Trendit!$Y$6,AS!$V:$V,$Y$4,AS!$K:$K,$Y$1,AS!BU:BU,$Y$5,AS!CP:CP,$Y$2) -> 0 | I66: =SUMIFS(AS!$W:$W,AS!$AX:$AX,Trendit!$X66,AS!$AW:$AW,Trendit!$Y$6,AS!$V:$V,$Y$4,AS!$K:$K,$Y$1,AS!BV:BV,$Y$5,AS!CQ:CQ,$Y$2) -> 0 | J66: =SUMIFS(AS!$W:$W,AS!$AX:$AX,Trendit!$X66,AS!$AW:$AW,Trendit!$Y$6,AS!$V:$V,$Y$4,AS!$K:$K,$Y$1,AS!BW:BW,$Y$5,AS!CR:CR,$Y$2) -> 0 | K66: =SUMIFS(AS!$W:$W,AS!$AX:$AX,Trendit!$X66,AS!$AW:$AW,Trendit!$Y$6,AS!$V:$V,$Y$4,AS!$K:$K,$Y$1,AS!BX:BX,$Y$5,AS!CS:CS,$Y$2) -> 0 | L66: =SUMIFS(AS!$W:$W,AS!$AX:$AX,Trendit!$X66,AS!$AW:$AW,Trendit!$Y$6,AS!$V:$V,$Y$4,AS!$K:$K,$Y$1,AS!BY:BY,$Y$5,AS!CT:CT,$Y$2) -> 0 | M66: =SUMIFS(AS!$W:$W,AS!$AX:$AX,Trendit!$X66,AS!$AW:$AW,Trendit!$Y$6,AS!$V:$V,$Y$4,AS!$K:$K,$Y$1,AS!BZ:BZ,$Y$5,AS!CU:CU,$Y$2) -> 0 | N66: =SUMIFS(AS!$W:$W,AS!$AX:$AX,Trendit!$X66,AS!$AW:$AW,Trendit!$Y$6,AS!$V:$V,$Y$4,AS!$K:$K,$Y$1,AS!CA:CA,$Y$5,AS!CV:CV,$Y$2) -> 0 | O66: =SUM(C66:N66) -> 0 | P66: =IFERROR(O66/Q66,0) -> 0 | Q66: =IF($W$3="12",SUMIFS(AS!$W:$W,AS!$AB:$AB,"OK",AS!$AX:$AX,$X66,AS!$K:$K,$Y$1,AS!$AW:$AW,$Y$6),0) -> 0 | X66: ComboBox_TySaapunut#oppivelvollisuuden ohjaus ja valvonta
A67: Nuorisopalvelut yhteensä | B67: =IFERROR(Q67-O67,0) -> 0 | C67: =SUM(C68:C69) -> 0 | D67: =SUM(D68:D69) -> 0 | E67: =SUM(E68:E69) -> 0 | F67: =SUM(F68:F69) -> 0 | G67: =SUM(G68:G69) -> 0 | H67: =SUM(H68:H69) -> 0 | I67: =SUM(I68:I69) -> 0 | J67: =SUM(J68:J69) -> 0 | ... N67: =SUM(N68:N69) -> 0 | O67: =SUM(C67:N67) -> 0 | P67: =IFERROR(O67/Q67,0) -> 0 | Q67: =SUM(Q68:Q69) -> 0
A68: Etsivä nuorisotyö | B68: =IFERROR(Q68-O68,0) -> 0 | C68: =SUMIFS(AS!$W:$W,AS!$AX:$AX,Trendit!$X68,AS!$AW:$AW,Trendit!$Y$6,AS!$V:$V,$Y$4,AS!$K:$K,$Y$1,AS!BP:BP,$Y$5,AS!CK:CK,$Y$2) -> 0 | D68: =SUMIFS(AS!$W:$W,AS!$AX:$AX,Trendit!$X68,AS!$AW:$AW,Trendit!$Y$6,AS!$V:$V,$Y$4,AS!$K:$K,$Y$1,AS!BQ:BQ,$Y$5,AS!CL:CL,$Y$2) -> 0 | E68: =SUMIFS(AS!$W:$W,AS!$AX:$AX,Trendit!$X68,AS!$AW:$AW,Trendit!$Y$6,AS!$V:$V,$Y$4,AS!$K:$K,$Y$1,AS!BR:BR,$Y$5,AS!CM:CM,$Y$2) -> 0 | F68: =SUMIFS(AS!$W:$W,AS!$AX:$AX,Trendit!$X68,AS!$AW:$AW,Trendit!$Y$6,AS!$V:$V,$Y$4,AS!$K:$K,$Y$1,AS!BS:BS,$Y$5,AS!CN:CN,$Y$2) -> 0 | G68: =SUMIFS(AS!$W:$W,AS!$AX:$AX,Trendit!$X68,AS!$AW:$AW,Trendit!$Y$6,AS!$V:$V,$Y$4,AS!$K:$K,$Y$1,AS!BT:BT,$Y$5,AS!CO:CO,$Y$2) -> 0 | H68: =SUMIFS(AS!$W:$W,AS!$AX:$AX,Trendit!$X68,AS!$AW:$AW,Trendit!$Y$6,AS!$V:$V,$Y$4,AS!$K:$K,$Y$1,AS!BU:BU,$Y$5,AS!CP:CP,$Y$2) -> 0 | I68: =SUMIFS(AS!$W:$W,AS!$AX:$AX,Trendit!$X68,AS!$AW:$AW,Trendit!$Y$6,AS!$V:$V,$Y$4,AS!$K:$K,$Y$1,AS!BV:BV,$Y$5,AS!CQ:CQ,$Y$2) -> 0 | J68: =SUMIFS(AS!$W:$W,AS!$AX:$AX,Trendit!$X68,AS!$AW:$AW,Trendit!$Y$6,AS!$V:$V,$Y$4,AS!$K:$K,$Y$1,AS!BW:BW,$Y$5,AS!CR:CR,$Y$2) -> 0 | K68: =SUMIFS(AS!$W:$W,AS!$AX:$AX,Trendit!$X68,AS!$AW:$AW,Trendit!$Y$6,AS!$V:$V,$Y$4,AS!$K:$K,$Y$1,AS!BX:BX,$Y$5,AS!CS:CS,$Y$2) -> 0 | L68: =SUMIFS(AS!$W:$W,AS!$AX:$AX,Trendit!$X68,AS!$AW:$AW,Trendit!$Y$6,AS!$V:$V,$Y$4,AS!$K:$K,$Y$1,AS!BY:BY,$Y$5,AS!CT:CT,$Y$2) -> 0 | M68: =SUMIFS(AS!$W:$W,AS!$AX:$AX,Trendit!$X68,AS!$AW:$AW,Trendit!$Y$6,AS!$V:$V,$Y$4,AS!$K:$K,$Y$1,AS!BZ:BZ,$Y$5,AS!CU:CU,$Y$2) -> 0 | N68: =SUMIFS(AS!$W:$W,AS!$AX:$AX,Trendit!$X68,AS!$AW:$AW,Trendit!$Y$6,AS!$V:$V,$Y$4,AS!$K:$K,$Y$1,AS!CA:CA,$Y$5,AS!CV:CV,$Y$2) -> 0 | O68: =SUM(C68:N68) -> 0 | P68: =IFERROR(O68/Q68,0) -> 0 | Q68: =IF($W$3="12",SUMIFS(AS!$W:$W,AS!$AB:$AB,"OK",AS!$AX:$AX,$X68,AS!$K:$K,$Y$1,AS!$AW:$AW,$Y$6),0) -> 0 | X68: ComboBox_TySaapunut#etsivä nuorisotyö
A69: Nuorisotoimen palvelut | B69: =IFERROR(Q69-O69,0) -> 0 | C69: =SUMIFS(AS!$W:$W,AS!$AX:$AX,Trendit!$X69,AS!$AW:$AW,Trendit!$Y$6,AS!$V:$V,$Y$4,AS!$K:$K,$Y$1,AS!BP:BP,$Y$5,AS!CK:CK,$Y$2)+SUMIFS(AS!$W:$W,AS!$AX:$AX,Trendit!$W69,AS!$AW:$AW,Trendit!$Y$6,AS!$V:$V,$Y$4,AS!$K:$K,$Y$1,AS!BP:BP,$Y$5,AS!CK:CK,$Y$2) -> 0 | D69: =SUMIFS(AS!$W:$W,AS!$AX:$AX,Trendit!$X69,AS!$AW:$AW,Trendit!$Y$6,AS!$V:$V,$Y$4,AS!$K:$K,$Y$1,AS!BQ:BQ,$Y$5,AS!CL:CL,$Y$2)+SUMIFS(AS!$W:$W,AS!$AX:$AX,Trendit!$W69,AS!$AW:$AW,Trendit!$Y$6,AS!$V:$V,$Y$4,AS!$K:$K,$Y$1,AS!BQ:BQ,$Y$5,AS!CL:CL,$Y$2) -> 0 | E69: =SUMIFS(AS!$W:$W,AS!$AX:$AX,Trendit!$X69,AS!$AW:$AW,Trendit!$Y$6,AS!$V:$V,$Y$4,AS!$K:$K,$Y$1,AS!BR:BR,$Y$5,AS!CM:CM,$Y$2)+SUMIFS(AS!$W:$W,AS!$AX:$AX,Trendit!$W69,AS!$AW:$AW,Trendit!$Y$6,AS!$V:$V,$Y$4,AS!$K:$K,$Y$1,AS!BR:BR,$Y$5,AS!CM:CM,$Y$2) -> 0 | F69: =SUMIFS(AS!$W:$W,AS!$AX:$AX,Trendit!$X69,AS!$AW:$AW,Trendit!$Y$6,AS!$V:$V,$Y$4,AS!$K:$K,$Y$1,AS!BS:BS,$Y$5,AS!CN:CN,$Y$2)+SUMIFS(AS!$W:$W,AS!$AX:$AX,Trendit!$W69,AS!$AW:$AW,Trendit!$Y$6,AS!$V:$V,$Y$4,AS!$K:$K,$Y$1,AS!BS:BS,$Y$5,AS!CN:CN,$Y$2) -> 0 | G69: =SUMIFS(AS!$W:$W,AS!$AX:$AX,Trendit!$X69,AS!$AW:$AW,Trendit!$Y$6,AS!$V:$V,$Y$4,AS!$K:$K,$Y$1,AS!BT:BT,$Y$5,AS!CO:CO,$Y$2)+SUMIFS(AS!$W:$W,AS!$AX:$AX,Trendit!$W69,AS!$AW:$AW,Trendit!$Y$6,AS!$V:$V,$Y$4,AS!$K:$K,$Y$1,AS!BT:BT,$Y$5,AS!CO:CO,$Y$2) -> 0 | H69: =SUMIFS(AS!$W:$W,AS!$AX:$AX,Trendit!$X69,AS!$AW:$AW,Trendit!$Y$6,AS!$V:$V,$Y$4,AS!$K:$K,$Y$1,AS!BU:BU,$Y$5,AS!CP:CP,$Y$2)+SUMIFS(AS!$W:$W,AS!$AX:$AX,Trendit!$W69,AS!$AW:$AW,Trendit!$Y$6,AS!$V:$V,$Y$4,AS!$K:$K,$Y$1,AS!BU:BU,$Y$5,AS!CP:CP,$Y$2) -> 0 | I69: =SUMIFS(AS!$W:$W,AS!$AX:$AX,Trendit!$X69,AS!$AW:$AW,Trendit!$Y$6,AS!$V:$V,$Y$4,AS!$K:$K,$Y$1,AS!BV:BV,$Y$5,AS!CQ:CQ,$Y$2)+SUMIFS(AS!$W:$W,AS!$AX:$AX,Trendit!$W69,AS!$AW:$AW,Trendit!$Y$6,AS!$V:$V,$Y$4,AS!$K:$K,$Y$1,AS!BV:BV,$Y$5,AS!CQ:CQ,$Y$2) -> 0 | J69: =SUMIFS(AS!$W:$W,AS!$AX:$AX,Trendit!$X69,AS!$AW:$AW,Trendit!$Y$6,AS!$V:$V,$Y$4,AS!$K:$K,$Y$1,AS!BW:BW,$Y$5,AS!CR:CR,$Y$2)+SUMIFS(AS!$W:$W,AS!$AX:$AX,Trendit!$W69,AS!$AW:$AW,Trendit!$Y$6,AS!$V:$V,$Y$4,AS!$K:$K,$Y$1,AS!BW:BW,$Y$5,AS!CR:CR,$Y$2) -> 0 | K69: =SUMIFS(AS!$W:$W,AS!$AX:$AX,Trendit!$X69,AS!$AW:$AW,Trendit!$Y$6,AS!$V:$V,$Y$4,AS!$K:$K,$Y$1,AS!BX:BX,$Y$5,AS!CS:CS,$Y$2)+SUMIFS(AS!$W:$W,AS!$AX:$AX,Trendit!$W69,AS!$AW:$AW,Trendit!$Y$6,AS!$V:$V,$Y$4,AS!$K:$K,$Y$1,AS!BX:BX,$Y$5,AS!CS:CS,$Y$2) -> 0 | L69: =SUMIFS(AS!$W:$W,AS!$AX:$AX,Trendit!$X69,AS!$AW:$AW,Trendit!$Y$6,AS!$V:$V,$Y$4,AS!$K:$K,$Y$1,AS!BY:BY,$Y$5,AS!CT:CT,$Y$2)+SUMIFS(AS!$W:$W,AS!$AX:$AX,Trendit!$W69,AS!$AW:$AW,Trendit!$Y$6,AS!$V:$V,$Y$4,AS!$K:$K,$Y$1,AS!BY:BY,$Y$5,AS!CT:CT,$Y$2) -> 0 | M69: =SUMIFS(AS!$W:$W,AS!$AX:$AX,Trendit!$X69,AS!$AW:$AW,Trendit!$Y$6,AS!$V:$V,$Y$4,AS!$K:$K,$Y$1,AS!BZ:BZ,$Y$5,AS!CU:CU,$Y$2)+SUMIFS(AS!$W:$W,AS!$AX:$AX,Trendit!$W69,AS!$AW:$AW,Trendit!$Y$6,AS!$V:$V,$Y$4,AS!$K:$K,$Y$1,AS!BZ:BZ,$Y$5,AS!CU:CU,$Y$2) -> 0 | N69: =SUMIFS(AS!$W:$W,AS!$AX:$AX,Trendit!$X69,AS!$AW:$AW,Trendit!$Y$6,AS!$V:$V,$Y$4,AS!$K:$K,$Y$1,AS!CA:CA,$Y$5,AS!CV:CV,$Y$2)+SUMIFS(AS!$W:$W,AS!$AX:$AX,Trendit!$W69,AS!$AW:$AW,Trendit!$Y$6,AS!$V:$V,$Y$4,AS!$K:$K,$Y$1,AS!CA:CA,$Y$5,AS!CV:CV,$Y$2) -> 0 | O69: =SUM(C69:N69) -> 0 | P69: =IFERROR(O69/Q69,0) -> 0 | Q69: =IFERROR(IF($W$3="12",SUMIFS(AS!$W:$W,AS!$AB:$AB,"OK",AS!$AX:$AX,$X69,AS!$K:$K,$Y$1,AS!$AW:$AW,$Y$6),"ks. aika")+IF($W$3="12",SUMIFS(AS!$W:$W,AS!$AB:$AB,"OK",AS!$AX:$AX,$W69,AS!$K:$K,$Y$1,AS!$AW:$AW,$Y$6),"ks. aika"),"") -> 0 | W69: ComboBox_TySaapunut#nuorisotoimi | X69: ComboBox_TySaapunut#nuorisotoimen palvelut | Y69: ComboBox_TySaapunut#muu nuorisotoimi
A70: Työllisyyspalvelut | B70: =IFERROR(Q70-O70,0) -> 0 | C70: =SUM(C71:C75) -> 0 | D70: =SUM(D71:D75) -> 0 | E70: =SUM(E71:E75) -> 0 | F70: =SUM(F71:F75) -> 0 | G70: =SUM(G71:G75) -> 0 | H70: =SUM(H71:H75) -> 0 | I70: =SUM(I71:I75) -> 0 | J70: =SUM(J71:J75) -> 0 | ... N70: =SUM(N71:N75) -> 0 | O70: =SUM(C70:N70) -> 0 | P70: =IFERROR(O70/Q70,0) -> 0 | Q70: =SUM(Q71:Q75) -> 0
A71: Ohjaamo | B71: =IFERROR(Q71-O71,0) -> 0 | C71: =SUMIFS(AS!$W:$W,AS!$AX:$AX,Trendit!$X71,AS!$AW:$AW,Trendit!$Y$6,AS!$V:$V,$Y$4,AS!$K:$K,$Y$1,AS!BP:BP,$Y$5,AS!CK:CK,$Y$2) -> 0 | D71: =SUMIFS(AS!$W:$W,AS!$AX:$AX,Trendit!$X71,AS!$AW:$AW,Trendit!$Y$6,AS!$V:$V,$Y$4,AS!$K:$K,$Y$1,AS!BQ:BQ,$Y$5,AS!CL:CL,$Y$2) -> 0 | E71: =SUMIFS(AS!$W:$W,AS!$AX:$AX,Trendit!$X71,AS!$AW:$AW,Trendit!$Y$6,AS!$V:$V,$Y$4,AS!$K:$K,$Y$1,AS!BR:BR,$Y$5,AS!CM:CM,$Y$2) -> 0 | F71: =SUMIFS(AS!$W:$W,AS!$AX:$AX,Trendit!$X71,AS!$AW:$AW,Trendit!$Y$6,AS!$V:$V,$Y$4,AS!$K:$K,$Y$1,AS!BS:BS,$Y$5,AS!CN:CN,$Y$2) -> 0 | G71: =SUMIFS(AS!$W:$W,AS!$AX:$AX,Trendit!$X71,AS!$AW:$AW,Trendit!$Y$6,AS!$V:$V,$Y$4,AS!$K:$K,$Y$1,AS!BT:BT,$Y$5,AS!CO:CO,$Y$2) -> 0 | H71: =SUMIFS(AS!$W:$W,AS!$AX:$AX,Trendit!$X71,AS!$AW:$AW,Trendit!$Y$6,AS!$V:$V,$Y$4,AS!$K:$K,$Y$1,AS!BU:BU,$Y$5,AS!CP:CP,$Y$2) -> 0 | I71: =SUMIFS(AS!$W:$W,AS!$AX:$AX,Trendit!$X71,AS!$AW:$AW,Trendit!$Y$6,AS!$V:$V,$Y$4,AS!$K:$K,$Y$1,AS!BV:BV,$Y$5,AS!CQ:CQ,$Y$2) -> 0 | J71: =SUMIFS(AS!$W:$W,AS!$AX:$AX,Trendit!$X71,AS!$AW:$AW,Trendit!$Y$6,AS!$V:$V,$Y$4,AS!$K:$K,$Y$1,AS!BW:BW,$Y$5,AS!CR:CR,$Y$2) -> 0 | K71: =SUMIFS(AS!$W:$W,AS!$AX:$AX,Trendit!$X71,AS!$AW:$AW,Trendit!$Y$6,AS!$V:$V,$Y$4,AS!$K:$K,$Y$1,AS!BX:BX,$Y$5,AS!CS:CS,$Y$2) -> 0 | L71: =SUMIFS(AS!$W:$W,AS!$AX:$AX,Trendit!$X71,AS!$AW:$AW,Trendit!$Y$6,AS!$V:$V,$Y$4,AS!$K:$K,$Y$1,AS!BY:BY,$Y$5,AS!CT:CT,$Y$2) -> 0 | M71: =SUMIFS(AS!$W:$W,AS!$AX:$AX,Trendit!$X71,AS!$AW:$AW,Trendit!$Y$6,AS!$V:$V,$Y$4,AS!$K:$K,$Y$1,AS!BZ:BZ,$Y$5,AS!CU:CU,$Y$2) -> 0 | N71: =SUMIFS(AS!$W:$W,AS!$AX:$AX,Trendit!$X71,AS!$AW:$AW,Trendit!$Y$6,AS!$V:$V,$Y$4,AS!$K:$K,$Y$1,AS!CA:CA,$Y$5,AS!CV:CV,$Y$2) -> 0 | O71: =SUM(C71:N71) -> 0 | P71: =IFERROR(O71/Q71,0) -> 0 | Q71: =IF($W$3="12",SUMIFS(AS!$W:$W,AS!$AB:$AB,"OK",AS!$AX:$AX,$X71,AS!$K:$K,$Y$1,AS!$AW:$AW,$Y$6),0) -> 0 | X71: ComboBox_TySaapunut#ohjaamo
A72: Työllisyyspalvelut | B72: =IFERROR(Q72-O72,0) -> 0 | C72: =SUMIFS(AS!$W:$W,AS!$AX:$AX,Trendit!$X72,AS!$AW:$AW,Trendit!$Y$6,AS!$V:$V,$Y$4,AS!$K:$K,$Y$1,AS!BP:BP,$Y$5,AS!CK:CK,$Y$2)+SUMIFS(AS!$W:$W,AS!$AX:$AX,Trendit!$W72,AS!$AW:$AW,Trendit!$Y$6,AS!$V:$V,$Y$4,AS!$K:$K,$Y$1,AS!BP:BP,$Y$5,AS!CK:CK,$Y$2) -> 0 | D72: =SUMIFS(AS!$W:$W,AS!$AX:$AX,Trendit!$X72,AS!$AW:$AW,Trendit!$Y$6,AS!$V:$V,$Y$4,AS!$K:$K,$Y$1,AS!BQ:BQ,$Y$5,AS!CL:CL,$Y$2)+SUMIFS(AS!$W:$W,AS!$AX:$AX,Trendit!$W72,AS!$AW:$AW,Trendit!$Y$6,AS!$V:$V,$Y$4,AS!$K:$K,$Y$1,AS!BQ:BQ,$Y$5,AS!CL:CL,$Y$2) -> 0 | E72: =SUMIFS(AS!$W:$W,AS!$AX:$AX,Trendit!$X72,AS!$AW:$AW,Trendit!$Y$6,AS!$V:$V,$Y$4,AS!$K:$K,$Y$1,AS!BR:BR,$Y$5,AS!CM:CM,$Y$2)+SUMIFS(AS!$W:$W,AS!$AX:$AX,Trendit!$W72,AS!$AW:$AW,Trendit!$Y$6,AS!$V:$V,$Y$4,AS!$K:$K,$Y$1,AS!BR:BR,$Y$5,AS!CM:CM,$Y$2) -> 0 | F72: =SUMIFS(AS!$W:$W,AS!$AX:$AX,Trendit!$X72,AS!$AW:$AW,Trendit!$Y$6,AS!$V:$V,$Y$4,AS!$K:$K,$Y$1,AS!BS:BS,$Y$5,AS!CN:CN,$Y$2)+SUMIFS(AS!$W:$W,AS!$AX:$AX,Trendit!$W72,AS!$AW:$AW,Trendit!$Y$6,AS!$V:$V,$Y$4,AS!$K:$K,$Y$1,AS!BS:BS,$Y$5,AS!CN:CN,$Y$2) -> 0 | G72: =SUMIFS(AS!$W:$W,AS!$AX:$AX,Trendit!$X72,AS!$AW:$AW,Trendit!$Y$6,AS!$V:$V,$Y$4,AS!$K:$K,$Y$1,AS!BT:BT,$Y$5,AS!CO:CO,$Y$2)+SUMIFS(AS!$W:$W,AS!$AX:$AX,Trendit!$W72,AS!$AW:$AW,Trendit!$Y$6,AS!$V:$V,$Y$4,AS!$K:$K,$Y$1,AS!BT:BT,$Y$5,AS!CO:CO,$Y$2) -> 0 | H72: =SUMIFS(AS!$W:$W,AS!$AX:$AX,Trendit!$X72,AS!$AW:$AW,Trendit!$Y$6,AS!$V:$V,$Y$4,AS!$K:$K,$Y$1,AS!BU:BU,$Y$5,AS!CP:CP,$Y$2)+SUMIFS(AS!$W:$W,AS!$AX:$AX,Trendit!$W72,AS!$AW:$AW,Trendit!$Y$6,AS!$V:$V,$Y$4,AS!$K:$K,$Y$1,AS!BU:BU,$Y$5,AS!CP:CP,$Y$2) -> 0 | I72: =SUMIFS(AS!$W:$W,AS!$AX:$AX,Trendit!$X72,AS!$AW:$AW,Trendit!$Y$6,AS!$V:$V,$Y$4,AS!$K:$K,$Y$1,AS!BV:BV,$Y$5,AS!CQ:CQ,$Y$2)+SUMIFS(AS!$W:$W,AS!$AX:$AX,Trendit!$W72,AS!$AW:$AW,Trendit!$Y$6,AS!$V:$V,$Y$4,AS!$K:$K,$Y$1,AS!BV:BV,$Y$5,AS!CQ:CQ,$Y$2) -> 0 | J72: =SUMIFS(AS!$W:$W,AS!$AX:$AX,Trendit!$X72,AS!$AW:$AW,Trendit!$Y$6,AS!$V:$V,$Y$4,AS!$K:$K,$Y$1,AS!BW:BW,$Y$5,AS!CR:CR,$Y$2)+SUMIFS(AS!$W:$W,AS!$AX:$AX,Trendit!$W72,AS!$AW:$AW,Trendit!$Y$6,AS!$V:$V,$Y$4,AS!$K:$K,$Y$1,AS!BW:BW,$Y$5,AS!CR:CR,$Y$2) -> 0 | K72: =SUMIFS(AS!$W:$W,AS!$AX:$AX,Trendit!$X72,AS!$AW:$AW,Trendit!$Y$6,AS!$V:$V,$Y$4,AS!$K:$K,$Y$1,AS!BX:BX,$Y$5,AS!CS:CS,$Y$2)+SUMIFS(AS!$W:$W,AS!$AX:$AX,Trendit!$W72,AS!$AW:$AW,Trendit!$Y$6,AS!$V:$V,$Y$4,AS!$K:$K,$Y$1,AS!BX:BX,$Y$5,AS!CS:CS,$Y$2) -> 0 | L72: =SUMIFS(AS!$W:$W,AS!$AX:$AX,Trendit!$X72,AS!$AW:$AW,Trendit!$Y$6,AS!$V:$V,$Y$4,AS!$K:$K,$Y$1,AS!BY:BY,$Y$5,AS!CT:CT,$Y$2)+SUMIFS(AS!$W:$W,AS!$AX:$AX,Trendit!$W72,AS!$AW:$AW,Trendit!$Y$6,AS!$V:$V,$Y$4,AS!$K:$K,$Y$1,AS!BY:BY,$Y$5,AS!CT:CT,$Y$2) -> 0 | M72: =SUMIFS(AS!$W:$W,AS!$AX:$AX,Trendit!$X72,AS!$AW:$AW,Trendit!$Y$6,AS!$V:$V,$Y$4,AS!$K:$K,$Y$1,AS!BZ:BZ,$Y$5,AS!CU:CU,$Y$2)+SUMIFS(AS!$W:$W,AS!$AX:$AX,Trendit!$W72,AS!$AW:$AW,Trendit!$Y$6,AS!$V:$V,$Y$4,AS!$K:$K,$Y$1,AS!BZ:BZ,$Y$5,AS!CU:CU,$Y$2) -> 0 | N72: =SUMIFS(AS!$W:$W,AS!$AX:$AX,Trendit!$X72,AS!$AW:$AW,Trendit!$Y$6,AS!$V:$V,$Y$4,AS!$K:$K,$Y$1,AS!CA:CA,$Y$5,AS!CV:CV,$Y$2)+SUMIFS(AS!$W:$W,AS!$AX:$AX,Trendit!$W72,AS!$AW:$AW,Trendit!$Y$6,AS!$V:$V,$Y$4,AS!$K:$K,$Y$1,AS!CA:CA,$Y$5,AS!CV:CV,$Y$2) -> 0 | O72: =SUM(C72:N72) -> 0 | P72: =IFERROR(O72/Q72,0) -> 0 | Q72: =IFERROR(IF($W$3="12",SUMIFS(AS!$W:$W,AS!$AB:$AB,"OK",AS!$AX:$AX,$X72,AS!$K:$K,$Y$1,AS!$AW:$AW,$Y$6),"ks. aika")+IF($W$3="12",SUMIFS(AS!$W:$W,AS!$AB:$AB,"OK",AS!$AX:$AX,$W72,AS!$K:$K,$Y$1,AS!$AW:$AW,$Y$6),"ks. aika"),0) -> 0 | W72: ComboBox_TySaapunut#kunnan työllisyyspalvelut | X72: ComboBox_TySaapunut#työllisyyspalvelut
